
BEGIN:VCALENDAR
VERSION:2.0
PRODID:-//Beaverstown Golf Club - ECPv6.15.20//NONSGML v1.0//EN
CALSCALE:GREGORIAN
METHOD:PUBLISH
X-WR-CALNAME:Beaverstown Golf Club
X-ORIGINAL-URL:https://www.beaverstown.com
X-WR-CALDESC:Events for Beaverstown Golf Club
REFRESH-INTERVAL;VALUE=DURATION:PT1H
X-Robots-Tag:noindex
X-PUBLISHED-TTL:PT1H
BEGIN:VTIMEZONE
TZID:Europe/London
BEGIN:DAYLIGHT
TZOFFSETFROM:+0000
TZOFFSETTO:+0100
TZNAME:BST
DTSTART:20240331T010000
END:DAYLIGHT
BEGIN:STANDARD
TZOFFSETFROM:+0100
TZOFFSETTO:+0000
TZNAME:GMT
DTSTART:20241027T010000
END:STANDARD
BEGIN:DAYLIGHT
TZOFFSETFROM:+0000
TZOFFSETTO:+0100
TZNAME:BST
DTSTART:20250330T010000
END:DAYLIGHT
BEGIN:STANDARD
TZOFFSETFROM:+0100
TZOFFSETTO:+0000
TZNAME:GMT
DTSTART:20251026T010000
END:STANDARD
BEGIN:DAYLIGHT
TZOFFSETFROM:+0000
TZOFFSETTO:+0100
TZNAME:BST
DTSTART:20260329T010000
END:DAYLIGHT
BEGIN:STANDARD
TZOFFSETFROM:+0100
TZOFFSETTO:+0000
TZNAME:GMT
DTSTART:20261025T010000
END:STANDARD
BEGIN:DAYLIGHT
TZOFFSETFROM:+0000
TZOFFSETTO:+0100
TZNAME:BST
DTSTART:20270328T010000
END:DAYLIGHT
BEGIN:STANDARD
TZOFFSETFROM:+0100
TZOFFSETTO:+0000
TZNAME:GMT
DTSTART:20271031T010000
END:STANDARD
END:VTIMEZONE
BEGIN:VEVENT
DTSTART;VALUE=DATE:20251126
DTEND;VALUE=DATE:20251127
DTSTAMP:20260421T051826
CREATED:20251126T181834Z
LAST-MODIFIED:20251126T181834Z
UID:29751-1764115200-1764201599@www.beaverstown.com
SUMMARY:Wednesday 4 Man Team Reverse Waltz
DESCRIPTION:Results Sheet\n\n\n\n\n\n\n\n\n\n\n\nDate :\n26th of November 2025\n\n\n\n\n\n\n\n\n\nCompetition :\n4 Man Team – Reverse Waltz\n\n\n\n\n\n\n\n\n\n\n\n\n\n\n\nPlace\nName\nPlaying Hcap\nScore\n\n\n\n\n\n\n\n\nWinners\nTom Dwyer\n13\n56pts\n\n\n\nJim Bradshaw\n8\n\n\n\n\nTom Barber\n8\n\n\n\n\nDes Hickey\n14\n\n\n\n\n\n\n\n\n\n\n\n\n\n\n\n\n\n\n\n\n\nSecond\nJohn Quinn\n9\n55pts\n\n\n\nWillie Goslin\n10\n\n\n\n\nJoe Keogh\n11\n\n\n\n\nLiam O’Brein\n19\n\n\n\n\n\n\n\n\n\n\n\n\n\n\n\nBack 6\nPaul O’Driscoll\n11\n27pts\n\n\n\nDermot Molphy\n13\n\n\n\n\nFrank McCabe\n11\n\n\n\n\nGordan O’Connor\n14\n\n\n\n\n\n\n\n\n\n\n\n\n\n\n\n\n\n\n\n\n\n\n\n\n\n\n\n\n\n\n\n\n\n\n\n\n\n\n\n\n\n\n\n\n\n76 Members\n\n\n\n\n\n2 Visitors
URL:https://www.beaverstown.com/event/wednesday-4-man-team-reverse-waltz-6/
CATEGORIES:Mens Event
END:VEVENT
BEGIN:VEVENT
DTSTART;TZID=Europe/London:20251129T080000
DTEND;TZID=Europe/London:20251129T130000
DTSTAMP:20260421T051826
CREATED:20251130T182503Z
LAST-MODIFIED:20251130T182503Z
UID:29760-1764403200-1764421200@www.beaverstown.com
SUMMARY:Mens 12H Singles Stableford
DESCRIPTION:Date :\nSaturday 29 Nov 2025\n\n\n\n\n\n\n\n\n\n\nCompetition :\n12 Hole Singles Stableford\n\n\n\n\n\n\n\n\n\n\n\n\n\n\n\n\nPlace\nName\nPlaying Hcap\nScore\n\n\n\n\n\n\n\n\n1st Div 1\nJames O’Donnell\n5\n26pts\n\n\n2nd Div 1\nBarry Kiely\n7\n25pts\n\n\n\n\n\n\n\n\n1st Div 2\nRichard Kiely\n9\n27pts\n\n\n2nd Div 2\nJames Weinmann\n8\n25pts\n\n\n\n\n\n\n\n\n1st Div 3\nJim Wylie\n14\n23pts ob6\n\n\n2nd Div 3\nDonal P Murphy\n16\n23pts ob3
URL:https://www.beaverstown.com/event/mens-12h-singles-stableford/
CATEGORIES:Mens Event
END:VEVENT
BEGIN:VEVENT
DTSTART;TZID=Europe/London:20251129T080000
DTEND;TZID=Europe/London:20251129T170000
DTSTAMP:20260421T051826
CREATED:20251129T174849Z
LAST-MODIFIED:20251129T174849Z
UID:29755-1764403200-1764435600@www.beaverstown.com
SUMMARY:Ladies 12 Holes S/F
DESCRIPTION:Prize\nScore\nName\nPlaying H’cap\n\n\n1st\n27\nAdele Campbell\n27\n\n\n \n \n \n \n\n\n \n \n \n \n\n\n \n \n \n \n\n\n \n \n \n \n\n\n \n \n \n \n\n\n11 Played\n \n \n 
URL:https://www.beaverstown.com/event/ladies-12-holes-s-f/
CATEGORIES:Ladies-Event
END:VEVENT
BEGIN:VEVENT
DTSTART;TZID=Europe/London:20251130T080000
DTEND;TZID=Europe/London:20251130T170000
DTSTAMP:20260421T051826
CREATED:20251130T170126Z
LAST-MODIFIED:20251130T170126Z
UID:29758-1764489600-1764522000@www.beaverstown.com
SUMMARY:Ladies 12 Hole Stableford November 30
DESCRIPTION:Prize\nScore\nName\nPlaying H’cap\n\n\n1st\n24\nEmer Manton\n32\n\n\n2nd\n22 (OCB)\nNiamh Duggan\n16
URL:https://www.beaverstown.com/event/ladies-12-hole-stableford-november-30/
CATEGORIES:Ladies-Event
END:VEVENT
BEGIN:VEVENT
DTSTART;TZID=Europe/London:20251130T100000
DTEND;TZID=Europe/London:20251130T140000
DTSTAMP:20260421T051826
CREATED:20251130T184433Z
LAST-MODIFIED:20251130T184433Z
UID:29762-1764496800-1764511200@www.beaverstown.com
SUMMARY:Mens 12H Singles Stableford
DESCRIPTION:Date :\nSunday 30 Nov 2025\n\n\n\n\n\n\n\n\n\n\nCompetition :\n12 Hole Singles Stableford\n\n\n\n\n\n\n\n\n\n\n\n\n\n\n\n\nPlace\nName\nPlaying Hcap\nScore\n\n\n\n\n\n\n\n\n1st Div 1\nDave Kavanagh\n5\n27pts\n\n\n2nd Div 1\n Patrick Dunne\n6\n26pts\n\n\n\n\n\n\n\n\n1st Div 2\nRay Murphy\n9\n24pts\n\n\n2nd Div 2\nBrian Sommerville\n11\n23pts\n\n\n\n\n\n\n\n\n1st Div 3\nGerry O’Connor\n14\n26pts\n\n\n2nd Div 3\nHarry Keegan\n18\n25pts\n\n\n\n\n\n\n\n\n\n\n\n\n\n\n\n\n\n\n\n\n53 played
URL:https://www.beaverstown.com/event/mens-12h-singles-stableford-2/
CATEGORIES:Mens Event
END:VEVENT
BEGIN:VEVENT
DTSTART;TZID=Europe/London:20251202T080000
DTEND;TZID=Europe/London:20251202T170000
DTSTAMP:20260421T051826
CREATED:20251203T191124Z
LAST-MODIFIED:20251203T191143Z
UID:29770-1764662400-1764694800@www.beaverstown.com
SUMMARY:12 Hole Stableford
DESCRIPTION:Prize\nScore\nName\nPlaying \nHcap\n\n\nOverall winner\n21 pts ocb\nJeanne Bohan\n22\n\n\n\n\n\n\n\n\nDivision 1\n19 pts\nNiamh Duggan\n16\n\n\nDivision 2\n18 pts ocb\nNiamh Ní Chonghaile\n27\n\n\nDivision 3\n21 pts\nLiz Brett\n37\n\n\n\n\n\n\n\n\n\n\n\n\n\n\n\n\n\n\n\n\n41 Played
URL:https://www.beaverstown.com/event/112-hole-stableford/
CATEGORIES:Ladies-Event
END:VEVENT
BEGIN:VEVENT
DTSTART;TZID=Europe/London:20251202T080000
DTEND;TZID=Europe/London:20251202T170000
DTSTAMP:20260421T051826
CREATED:20251203T192220Z
LAST-MODIFIED:20251203T192220Z
UID:29775-1764662400-1764694800@www.beaverstown.com
SUMMARY:9 Hole Stableford
DESCRIPTION:Prize\nScore\nName\nPlaying H’cap\n\n\n1st\n15\nBrigid Keogh\n52\n\n\n \n \n \n \n\n\n \n \n \n \n\n\n \n \n \n \n\n\n \n \n \n \n\n\n \n \n \n \n\n\n9 Played\n \n \n 
URL:https://www.beaverstown.com/event/9-hole-stableford-9/
CATEGORIES:Ladies-Event
END:VEVENT
BEGIN:VEVENT
DTSTART;VALUE=DATE:20251203
DTEND;VALUE=DATE:20251204
DTSTAMP:20260421T051826
CREATED:20251203T175609Z
LAST-MODIFIED:20251204T123042Z
UID:29764-1764720000-1764806399@www.beaverstown.com
SUMMARY:4 Man Team - 12 Holes
DESCRIPTION:Results Sheet\n\n\n\n\n\n\n\n\n\n\n\n\n\nDate :\nWednesday 03 Dec 2025\n\n\n\n\n\n\n\n\n\n\n\n\nCompetition :\n4 Man Team 12H – 3 on par 3s Revised result\n\n\n\n\n\n\n\n\n\n\n\n\n\n\n\n\n\n\nPlace\nName\nPlaying Hcap\nScore\n\n\n\n\n\n\n\n\n\n\nWinners\nGerard Lawlor\n12\n66pts\n\n\n\n\nDonal O’Riordan\n15\n\n\n\n\n\nDavid Kelly\n12\n\n\n\n\n\nPaul Ryan\n6\n\n\n\n\n\n\n\n\n\n\n\n\n\n\n\n\n\n\n\n\n\n\n\n\n\nSecond\nJohn Bohan\n12\n65pts\n\n\n\n\nHarry Keegan\n17\n\n\n\n\n\nGerry O’Connor\n13\n\n\n\n\n\nKarl Cagney\n15\n\n\n\n\n\n\n\n\n\n\n\n\n\n\n\n\n\n\nBack 6\nBrendan McGill\n12\n35pts 18b3\n\n\n\n\nJohn Small\n11\n\n\n\n\n\nLarry Kidd\n15\n\n\n\n\n\nAlan Costello\n13\n\n\n\n\n\n\n\n\n\n\n\n*5th hole as par 4\n2 point deduction from the HDID system scores that displayed on app\n\n\n\n\n\n\n\n\n\n83 Members\n\n\n\n\n\n\n5 Visitors
URL:https://www.beaverstown.com/event/wednesday-4-man-team-36/
CATEGORIES:Mens Event
END:VEVENT
BEGIN:VEVENT
DTSTART;TZID=Europe/London:20251206T080000
DTEND;TZID=Europe/London:20251206T140000
DTSTAMP:20260421T051826
CREATED:20251207T144732Z
LAST-MODIFIED:20251207T144732Z
UID:29780-1765008000-1765029600@www.beaverstown.com
SUMMARY:Mens 12H Singles Stableford
DESCRIPTION:Date :\nSat 06 Dec 2025\n\n\n\n\n\n\n\n\n\n\nCompetition :\n12 Hole Singles Stableford\n\n\n\n\n\n\n\n\n\n\n\n\n\n\n\n\nPlace\nName\nPlaying Hcap\nScore\n\n\n\n\n\n\n\n\n1st Div 1\nJames O’Donnell\n5\n29pts\n\n\n2nd Div 1\nPaul Nimmo\n3\n25pts ob6\n\n\n\n\n\n\n\n\n1st Div 2\nAidan Byrne\n9\n25pts\n\n\n2nd Div 2\nJohn McKenna\n9\n24pts\n\n\n\n\n\n\n\n\n1st Div 3\nSean McEvoy\n16\n25pts\n\n\n2nd Div 3\nThomas Sheridan\n14\n24pts ob6\n\n\n\n\n\n\n\n\n\n\n\n\n\n\n\n\n\n\n\n\n52 played
URL:https://www.beaverstown.com/event/mens-12h-singles-stableford-3/
CATEGORIES:Mens Event
END:VEVENT
BEGIN:VEVENT
DTSTART;TZID=Europe/London:20251207T080000
DTEND;TZID=Europe/London:20251207T130000
DTSTAMP:20260421T051826
CREATED:20251207T191449Z
LAST-MODIFIED:20251207T191449Z
UID:29782-1765094400-1765112400@www.beaverstown.com
SUMMARY:Mens 12H Singles Stableford
DESCRIPTION:Date :\nSun  07 Dec 2025\n\n\n\n\n\n\n\n\n\n\nCompetition :\n12 Hole Singles Stableford\n\n\n\n\n\n\n\n\n\n\n\n\n\n\n\n\nPlace\nName\nPlaying Hcap\nScore\n\n\n\n\n\n\n\n\n1st Div 1\nBrian Lennon\n7\n25pts\n\n\n\n\n\n\n\n\n1st Div 2\nDavid Thornberry\n9\n24pts\n\n\n\n\n\n\n\n\n1st Div 3\nPhilip Weinmann\n16\n27pts\n\n\n\n\n\n\n\n\n\n\n\n\n\n\n\n\n\n\n\n\n31 played
URL:https://www.beaverstown.com/event/mens-12h-singles-stableford-4/
CATEGORIES:Mens Event
END:VEVENT
BEGIN:VEVENT
DTSTART;TZID=Europe/London:20251213T080000
DTEND;TZID=Europe/London:20251213T110000
DTSTAMP:20260421T051826
CREATED:20251213T161138Z
LAST-MODIFIED:20251213T161138Z
UID:29790-1765612800-1765623600@www.beaverstown.com
SUMMARY:Saturday 2 Man Team 4ball betterball
DESCRIPTION:Date :\nSat 13 Dec 2025\n\n\n\n\n\n\n\n\n\n\n\n\nCompetition :\n2 Man Team – 4ball betterball\n\n\n\n\n\n\n\n\n\n\n\n\n\n\n\n\n\nPlace\nName\n\nPlaying Hcap\nScore\n\n\n\n\n\n\n\n\n\n1st place\nDave Kavanagh\n\n4\n26pts\n\n\n\nBrian Lynch\n\n15\n\n\n\n\n\n\n\n\n\n\n2nd place\nDavid Gorman\n\n11\n25pts  ob5\n\n\n\nJames Weinmann\n\n6\n\n\n\n\n\n\n\n\n\n\n3rd place\nDanny Relihan\n\n6\n25pts\n\n\n\nPat Hayden\n\n6\n\n\n\n\n\n\n\n\n\n\n\n\n\n\n\n\n\n60 played
URL:https://www.beaverstown.com/event/saturday-2-man-team-4ball-betterball/
CATEGORIES:Mens Event
END:VEVENT
BEGIN:VEVENT
DTSTART;TZID=Europe/London:20251213T120000
DTEND;TZID=Europe/London:20251213T140000
DTSTAMP:20260421T051826
CREATED:20251213T190251Z
LAST-MODIFIED:20251213T190251Z
UID:29792-1765627200-1765634400@www.beaverstown.com
SUMMARY:Christmas 9 Hole Mixed Foursomes
DESCRIPTION:Results Sheet\n\n\n\n\n\n\n\n\n\n\n\n\n\nDate :\nSaturday 13 Dec 2025\n\n\n\n\n\n\n\n\n\n\n\nCompetition :\nChristmas 9 Hole Mixed Foursomes\n\n\n\n\n\n\n\n\n\n\n\n\n\n\n\n\n\nPlace\nName\n\nPlaying Hcap\nScore\n\n\n\n\n\n\n\n\n\n1st place\nLeane Hannigan\n\n15\n22 pts\n\n\n\nDavid O’Hagan\n\n\n\n\n\n\n\n\n\n\n\n\n2nd place\nEileen Mooney\n\n18\n21 pts\n\n\n\nJoe Mooney\n\n\n\n\n\n\n\n\n\n\n\n\n3rd place\nRosemary Buckley\n\n12\n20 pts ob6\n\n\n\nEvan Buckley\n\n\n\n\n\n\n\n\n\n\n\n\n\n\n\n\n\n\n\n48 played
URL:https://www.beaverstown.com/event/christmas-9-hole-mixed-foursomes/
CATEGORIES:Joint Event
END:VEVENT
BEGIN:VEVENT
DTSTART;TZID=Europe/London:20251214T080000
DTEND;TZID=Europe/London:20251214T130000
DTSTAMP:20260421T051826
CREATED:20251214T200618Z
LAST-MODIFIED:20251214T200618Z
UID:29794-1765699200-1765717200@www.beaverstown.com
SUMMARY:Mens 10H Singles Stableford
DESCRIPTION:Date :\nSunday 14 Dec 2025\n\n\n\n\n\n\n\n\n\n\nCompetition :\n10 Holes Singles Stableford\n\n\n\n\n\n\n\n\n\n\n\n\n\n\n\nPlace\nName\nPlaying Hcap\nScore\n\n\n\n\n\n\n\n\n1st Div 1\nThomas Masterson\n6\n24pts ob9\n\n\n2nd Div 1\nJames O’Donnell\n4\n24pts\n\n\n\n\n\n\n\n\n1st Div 2\nEddie Byrne\n9\n21pts ob9\n\n\n2nd Div 2\nPatrick Moran\n8\n21pts\n\n\n\n\n\n\n\n\n1st Div 3\nEvan Buckley\n12\n25pts\n\n\n2nd Div 3\nPhilip Weinmann\n13\n24pts\n\n\n\n\n\n\n\n\n\n\n\n\n\n\n\n\n\n\n\n\n57 played
URL:https://www.beaverstown.com/event/mens-10h-singles-stableford/
CATEGORIES:Mens Event
END:VEVENT
BEGIN:VEVENT
DTSTART;TZID=Europe/London:20251214T080000
DTEND;TZID=Europe/London:20251214T170000
DTSTAMP:20260421T051826
CREATED:20251216T112102Z
LAST-MODIFIED:20251216T112102Z
UID:29805-1765699200-1765731600@www.beaverstown.com
SUMMARY:Ladies 10 Hole Singles Stableford
DESCRIPTION:Prize\nScore\nName\nPlaying H’cap\n\n\n1st\n18\nMandy Stewart\n16
URL:https://www.beaverstown.com/event/ladies-10-hole-singles-stableford/
CATEGORIES:Ladies-Event
END:VEVENT
BEGIN:VEVENT
DTSTART;TZID=Europe/London:20251214T150000
DTEND;TZID=Europe/London:20251214T170000
DTSTAMP:20260421T051826
CREATED:20251215T194838Z
LAST-MODIFIED:20251216T091106Z
UID:29799-1765724400-1765731600@www.beaverstown.com
SUMMARY:Winter League Final Division Standings
DESCRIPTION:Results Sheet\n\n\n\n\n\n\n\n\n\n\n\nDate :\n07 Nov to 14 Dec 2025\n\n\n\n\n\n\n\n\n\n\nCompetition :\nWinter League – best 4 scores\n\n\n\n\n\n\n\n\n\n\n\n\n\n\n\nPlace\nName\nPlaying Hcap\nScore\n\n\n\n\n\n\n\n\n1st Div 1\nBarry Kiely\n7\n110 pts\n\n\n2nd Div 1\nBrian Lennon\n7\n99 pts\n\n\n3rd Div 1\nThomas Masterson\n7\n94 pts\n\n\n\n\n\n\n\n\n1st Div 2\nJohn Darroch\n8\n97 pts\n\n\n2nd Div 2\nPaul O’Driscoll\n11\n90 pts\n\n\n3rd Div 2\nGarret O’Brien\n8\n87 pts\n\n\n\n\n\n\n\n\n1st Div 3\nMichael Corrigan\n15\n97 pts\n\n\n2nd Div 3\nBrendan McGill\n12\n90 pts\n\n\n3rd Div 3\nThomas Dwyer\n13\n90 pts\n\n\n\n\n\n\n\n\nDivision 3 – countback for 2nd and 3rd places based on total of 3 best rounds\n\n\nafter 3 players finished on 90 points.\n\n\n\n\n\n\n\n\n\n\nFull division standings are displayed in locker room.\n\n\n\n\n\n\n\n\n\n45 played
URL:https://www.beaverstown.com/event/winter-league-final-division-standings/
CATEGORIES:Mens Event
END:VEVENT
BEGIN:VEVENT
DTSTART;TZID=Europe/London:20251215T080000
DTEND;TZID=Europe/London:20251215T120000
DTSTAMP:20260421T051826
CREATED:20251215T185208Z
LAST-MODIFIED:20251215T185208Z
UID:29797-1765785600-1765800000@www.beaverstown.com
SUMMARY:Mixed Open Singles Stableford
DESCRIPTION:Date :\nMonday 15 Dec 2025\n\n\n\n\n\n\n\n\n\n\nCompetition :\n10 Hole Open Singles Stableford\n\n\n\n\n\n\n\n\n\n\n\n\n\n\n\nPlace\nName\nPlaying Hcap\nScore\n\n\n\n\n\n\n\n\n1st place\nConor Magee\n7\n24pts ob9\n\n\n\n\n\n\n\n\n2nd place\nJames Fleming\n5\n24pts\n\n\n\n\n\n\n\n\n3rd place\nFrank McCabe\n10\n23pts\n\n\n\n\n\n\n\n\n21 Members\n\n\n\n\n\n1 Visitor
URL:https://www.beaverstown.com/event/mixed-open-singles-stableford-16/
CATEGORIES:Joint Event
END:VEVENT
BEGIN:VEVENT
DTSTART;VALUE=DATE:20251217
DTEND;VALUE=DATE:20251218
DTSTAMP:20260421T051826
CREATED:20251217T170822Z
LAST-MODIFIED:20251217T170822Z
UID:29807-1765929600-1766015999@www.beaverstown.com
SUMMARY:Wednesday 4 Man Team Reverse Waltz
DESCRIPTION:Results Sheet\n\n\n\n\n\n\n\n\n\n\n\n\n\nDate :\n17th of December 2025\n\n\n\n\n\n\n\n\n\n\n\nCompetition :\n4 Man Team – Reverse Waltz\n\n\n\n\n\n\n\n\n\n\n\n\n\n\n\n\n\n\nPlace\nName\nPlaying Hcap\nScore\n\n\n\n\n\n\n\n\n\n\nWinners\nJohn Bohan\n7\n54pts\n\n\n\n\nGerry Dowling\n7\n\n\n\n\n\nHarry Keegan\n14\n\n\n\n\n\nGerry O’Connor\n11\n\n\n\n\n\n\n\n\n\n\n\n\n\n\n\n\n\n\n\n\n\n\n\n\n\nSecond\nPaul O’Driscoll\n9\n53pts\n\n\n\n\nMartin Gillett\n9\n\n\n\n\n\nDermot Molphy\n11\n\n\n\n\n\nFrank McCabe\n9\n\n\n\n\n\n\n\n\n\n\n\n\n\n\n\n\n\n\nBack 5\nMaurice Fallon\n5\n25pts\n\n\n\n\nJohn Hearne\n13\n\n\n\n\n\nNick Noonan\n9\n\n\n\n\n\nDave Keenan\n12\n\n\n\n\n\n\n\n\n\n\n\n\n\n\n\n\n\n\n\n\n\n\n\n\n\n\n\n\n\n\n\n\n\n\n\n\n\n\n\n\n\n\n\n\n\n\n\n\n\n\n\n\n\n90played
URL:https://www.beaverstown.com/event/wednesday-4-man-team-reverse-waltz-7/
CATEGORIES:Mens Event
END:VEVENT
BEGIN:VEVENT
DTSTART;TZID=Europe/London:20251220T080000
DTEND;TZID=Europe/London:20251220T130000
DTSTAMP:20260421T051826
CREATED:20251221T185639Z
LAST-MODIFIED:20251221T185639Z
UID:29812-1766217600-1766235600@www.beaverstown.com
SUMMARY:Mens 10 Hole Singles Stableford
DESCRIPTION:Date :\nSaturday 20 Dec 2025\n\n\n\n\n\n\n\n\n\n\nCompetition :\n10 Hole Singles Stableford\n\n\n\n\n\n\n\n\n\n\n\n\n\n\n\n\nPlace\nName\nPlaying Hcap\nScore\n\n\n\n\n\n\n\n\n1st Div 1\nJames O’Donnell\n4\n23pts\n\n\n2nd Div 1\nBrian Clinton\n6\n22pts\n\n\n\n\n\n\n\n\n1st Div 2\nAndy Collinge\n8\n22pts\n\n\n2nd Div 2\nRichard Kiely\n8\n19pts ob5\n\n\n\n\n\n\n\n\n1st Div 3\nBarry Brennan\n13\n19pts\n\n\n2nd Div 3\nTerry Flanagan\n10\n18pts\n\n\n\n\n\n\n\n\n\n\n\n\n\n\n\n\n\n\n\n\n57 played
URL:https://www.beaverstown.com/event/mens-10-hole-singles-stableford/
CATEGORIES:Mens Event
END:VEVENT
BEGIN:VEVENT
DTSTART;TZID=Europe/London:20251221T080000
DTEND;TZID=Europe/London:20251221T130000
DTSTAMP:20260421T051826
CREATED:20251221T190931Z
LAST-MODIFIED:20251221T190931Z
UID:29814-1766304000-1766322000@www.beaverstown.com
SUMMARY:Mens 10 Hole Singles Stableford
DESCRIPTION:Date :\nSunday 21 Dec 2025\n\n\n\n\n\n\n\n\n\n\nCompetition :\n10 Hole Singles Stableford\n\n\n\n\n\n\n\n\n\n\n\n\n\n\n\n\nPlace\nName\nPlaying Hcap\nScore\n\n\n\n\n\n\n\n\n1st Div 1\nJames O’Donnell\n4\n25pts\n\n\n2nd Div 1\nJohn Darroch\n6\n24pts\n\n\n\n\n\n\n\n\n1st Div 2\nPatrick Moran\n8\n22pts\n\n\n2nd Div 2\nColm Malone\n8\n21pts ob5\n\n\n\n\n\n\n\n\n1st Div 3\nBrian Staunton\n11\n26pts\n\n\n2nd Div 3\nKen Jinks\n14\n23pts\n\n\n\n\n\n\n\n\n\n\n\n\n\n\n\n\n\n\n\n\n54 played
URL:https://www.beaverstown.com/event/mens-10-hole-singles-stableford-2/
CATEGORIES:Mens Event
END:VEVENT
BEGIN:VEVENT
DTSTART;TZID=Europe/London:20251221T080000
DTEND;TZID=Europe/London:20251221T170000
DTSTAMP:20260421T051826
CREATED:20251221T174027Z
LAST-MODIFIED:20251221T174027Z
UID:29810-1766304000-1766336400@www.beaverstown.com
SUMMARY:21 December Ladies 10 Hole Stableford
DESCRIPTION:Prize\nScore\nName\nPlaying H’cap\n\n\n1st\n18 (OCB)\nSusan Barber\n34\n\n\n \n \n \n \n\n\n \n \n \n \n\n\n \n \n \n \n\n\n \n \n \n \n\n\n \n \n \n \n\n\n6 Played\n \n \n \n\n\n\n 
URL:https://www.beaverstown.com/event/21-december-ladies-10-hole-stableford/
CATEGORIES:Ladies-Event
END:VEVENT
BEGIN:VEVENT
DTSTART;TZID=Europe/London:20251222T080000
DTEND;TZID=Europe/London:20251222T130000
DTSTAMP:20260421T051826
CREATED:20251224T110541Z
LAST-MODIFIED:20251224T110541Z
UID:29819-1766390400-1766408400@www.beaverstown.com
SUMMARY:Mixed Open 10H Singles Stableford
DESCRIPTION:Date :\nMonday 22 Dec 2025\n\n\n\n\n\n\n\n\n\n\nCompetition :\n10 Hole Open Singles Stableford\n\n\n\n\n\n\n\n\n\n\n\n\n\n\n\nPlace\nName\nPlaying Hcap\nScore\n\n\n\n\n\n\n\n\n1st place\nRuairi O’Neill (V)\n4\n23pts\n\n\n2nd place\nPeter Gallagher\n13\n22pts  ob5\n\n\n3rd place\nJohn Mullett\n14\n22pts\n\n\n\n\n\n\n\n\n\n\n\n\n\n\n18 Members\n\n\n\n\n\n3 Visitors
URL:https://www.beaverstown.com/event/mixed-open-10h-singles-stableford/
CATEGORIES:Joint Event
END:VEVENT
BEGIN:VEVENT
DTSTART;TZID=Europe/London:20251223T080000
DTEND;TZID=Europe/London:20251223T170000
DTSTAMP:20260421T051826
CREATED:20251223T144005Z
LAST-MODIFIED:20251223T144005Z
UID:29816-1766476800-1766509200@www.beaverstown.com
SUMMARY:9 Hole Stableford
DESCRIPTION:Prize\nScore\nName\nPlaying H’cap\n\n\n1st\n18\nSusan Barber\n34\n\n\n \n \n \n \n\n\n \n \n \n \n\n\n \n \n \n \n\n\n \n \n \n \n\n\n \n \n \n \n\n\n8 Played\n \n \n 
URL:https://www.beaverstown.com/event/9-hole-stableford-10/
CATEGORIES:Ladies-Event
END:VEVENT
BEGIN:VEVENT
DTSTART;TZID=Europe/London:20251224T080000
DTEND;TZID=Europe/London:20251224T110000
DTSTAMP:20260421T051826
CREATED:20251224T151720Z
LAST-MODIFIED:20251224T151720Z
UID:29837-1766563200-1766574000@www.beaverstown.com
SUMMARY:10H Open Singles Stableford
DESCRIPTION:Date :\nWednesday 24 Dec 2025\n\n\n\n\n\n\n\n\n\n\nCompetition :\n10 Hole Open Singles Stableford\n\n\n\n\n\n\n\n\n\n\n\n\n\n\n\nPlace\nName\nPlaying Hcap\nScore\n\n\n\n\n\n\n\n\n1st place\nJames O’Donnell\n4\n22pts\n\n\n2nd place\nRay Hickey\n8\n22pts\n\n\n3rd place\nDavid Conlon\n4\n21pts\n\n\n\n\n\n\n\n\n\n\n\n\n\n\n\n\n\n\n\n\n21 members\n\n\n\n\n\n4 visitors
URL:https://www.beaverstown.com/event/10h-open-singles-stableford/
CATEGORIES:Mens Event
END:VEVENT
BEGIN:VEVENT
DTSTART;TZID=Europe/London:20251227T080000
DTEND;TZID=Europe/London:20251227T120000
DTSTAMP:20260421T051826
CREATED:20251227T150318Z
LAST-MODIFIED:20251227T150318Z
UID:29839-1766822400-1766836800@www.beaverstown.com
SUMMARY:Mens 12H Singles Stableford
DESCRIPTION:Date :\nSaturday 27 Dec 2025\n\n\n\n\n\n\n\n\n\n\nCompetition :\n12 Hole Singles Stableford\n\n\n\n\n\n\n\n\n\n\n\n\n\n\n\nPlace\nName\nPlaying Hcap\nScore\n\n\n\n\n\n\n\n\n1st Div 1\nJames O’Donnell\n5\n27pts\n\n\n2nd Div 1\nPaul Nimmo\n3\n23pts\n\n\n\n\n\n\n\n\n1st Div 2\nBrian McRory\n7\n26pts\n\n\n2nd Div 2\nFinbar McCann\n7\n25pts\n\n\n\n\n\n\n\n\n1st Div 3\nAndrew Byrne\n12\n22pts ob6\n\n\n2nd Div 3\nJack Caverly\n13\n22pts ob6\n\n\n\n\n\n\n\n\n51 played
URL:https://www.beaverstown.com/event/mens-12h-singles-stableford-5/
CATEGORIES:Mens Event
END:VEVENT
BEGIN:VEVENT
DTSTART;TZID=Europe/London:20251228T080000
DTEND;TZID=Europe/London:20251228T130000
DTSTAMP:20260421T051826
CREATED:20251228T171003Z
LAST-MODIFIED:20251228T175224Z
UID:29841-1766908800-1766926800@www.beaverstown.com
SUMMARY:Mens 14H Singles Stableford
DESCRIPTION:Date :\nSunday 28 Dec 2025\n\n\n\n\n\n\n\n\n\n\nCompetition :\n14 Hole Singles Stableford\n\n\n\n\n\n\n\n\n\n\n\n\n\n\n\n\nPlace\nName\nPlaying Hcap\nScore\n\n\n\n\n\n\n\n\n1st Div 1\nSean McDermott\n7\n32pts ob7\n\n\n2nd Div 1\nPhilip O’Driscoll\n5\n32pts\n\n\n\n\n\n\n\n\n1st Div 2\nColm Malone\n12\n33pts\n\n\n2nd Div 2\nDavid Thornberry\n10\n32pts\n\n\n\n\n\n\n\n\n1st Div 3\nAidan Smith\n19\n34pts\n\n\n2nd Div 3\nChristian Leonard\n13\n31pts\n\n\n\n\n\n\n\n\n\n\n\n\n\n\n\n\n\n\n\n\n62 played
URL:https://www.beaverstown.com/event/mens-14h-singles-stableford/
CATEGORIES:Mens Event
END:VEVENT
BEGIN:VEVENT
DTSTART;TZID=Europe/London:20251228T080000
DTEND;TZID=Europe/London:20251228T170000
DTSTAMP:20260421T051826
CREATED:20251230T135647Z
LAST-MODIFIED:20251230T135647Z
UID:29847-1766908800-1766941200@www.beaverstown.com
SUMMARY:12 Hole Stableford
DESCRIPTION:  \n\n\n\nPrize\nScore\nName\nPlaying H’cap\n\n\n1st\n27 pts\nHelen Malone\n39\n\n\n \n \n \n \n\n\n \n \n \n \n\n\n \n \n \n \n\n\n \n \n \n \n\n\n \n \n \n \n\n\n10 Played\n \n \n 
URL:https://www.beaverstown.com/event/12-hole-stableford-10/
CATEGORIES:Ladies-Event
END:VEVENT
BEGIN:VEVENT
DTSTART;TZID=Europe/London:20251229T090000
DTEND;TZID=Europe/London:20251229T130000
DTSTAMP:20260421T051826
CREATED:20251230T201452Z
LAST-MODIFIED:20260104T213643Z
UID:29849-1766998800-1767013200@www.beaverstown.com
SUMMARY:Mixed Open 14H Singles Stableford
DESCRIPTION:Date :\nMonday 29 Dec 2025\n\n\n\n\n\n\n\n\n\n\nCompetition :\n14 Hole Open Singles Stableford\n\n\n\n\n\n\n\n\n\n\n\n\n\n\n\nPlace\nName\nPlaying Hcap\nScore\n\n\n\n\n\n\n\n\n1st Div 1\nJames O’Donnell\n5\n33pts\n\n\n2nd Div 1\nBrian Lennon\n8\n30pts\n\n\n\n\n\n\n\n\n1st Div 2\nGeorge Moore\n10\n31pts\n\n\n2nd Div 2\nEugene Casey\n13\n29pts\n\n\n\n\n\n\n\n\n1st Div 3\nShane Davidson (V)\n20\n31pts ob7\n\n\n2nd Div 3\nDeclan Carlyle (V)\n20\n31pts\n\n\n\n\n\n\n\n\n\n\n\n\n\n\n\n\n\n\n\n\n\n\n\n\n\n\n\n\n\n\n\n\n43 members\n\n\n\n\n\n14 visitors
URL:https://www.beaverstown.com/event/mixed-open-singles-stableford-17/
CATEGORIES:Joint Event
END:VEVENT
BEGIN:VEVENT
DTSTART;VALUE=DATE:20251230
DTEND;VALUE=DATE:20251231
DTSTAMP:20260421T051826
CREATED:20260102T171601Z
LAST-MODIFIED:20260102T171601Z
UID:29857-1767052800-1767139199@www.beaverstown.com
SUMMARY:12 hole Stableford
DESCRIPTION:1st  Mary Kirwan  23pts  PH 39 \n2nd Jeanne Bohan 22pts PH 22
URL:https://www.beaverstown.com/event/12-hole-stableford-11/
CATEGORIES:Ladies-Event
END:VEVENT
BEGIN:VEVENT
DTSTART;VALUE=DATE:20251231
DTEND;VALUE=DATE:20260101
DTSTAMP:20260421T051826
CREATED:20251231T162719Z
LAST-MODIFIED:20260104T213522Z
UID:29853-1767139200-1767225599@www.beaverstown.com
SUMMARY:Wednesday 4 Man Team Waltz
DESCRIPTION:Results Sheet\n\n\n\n\n\n\n\n\n\n\n\n\n\nDate :\n 31st of December 2025\n\n\n\n\n\n\n\n\n\n\n\nCompetition :\n4 Man Team – Waltz\n\n\n\n\n\n\n\n\n\n\n\n\n\n\n\n\n\n\n\nPlace\nName\nPlaying Hcap\nScore\n\n\n\n\n\n\n\n\n\n\nWinners\nPeter Gallagher\n17\n68pts\n\n\n\n\nBrian Lennon\n8\n\n\n\n\n\nAndy Collinge\n10\n\n\n\n\n\nAaron Dunne\n6\n\n\n\n\n\n\n\n\n\n\n\n\n\n\n\n\n\n\n\n\n\n\n\n\n\nSecond\nStephen Hanna\n13\n64pts\n\n\n\n\nMichael Gilligan (V)\n9\n\n\n\n\n\nPeter Glynn (V)\n15\n\n\n\n\n\nJohn Fogarty\n6\n\n\n\n\n\n\n\n\n\n\n\n\n\n\n\n\n\n\nBack 7\nTim Saville\n5\n34pts\n\n\n\n\nDamian Ryan\n3\n\n\n\n\n\nRonan McGeehan\n9\n\n\n\n\n\nConor Herbert\n11\n\n\n\n\n\n\n\n\n\n\n\n\n\n\n\n\n\n\n\n\n\n\n\n\n\n\n\n\n\n\n\n\n\n\n\n\n\n\n\n\n\n\n\n\n\n\n\n\n\n\n\n\n\n79 played
URL:https://www.beaverstown.com/event/wednesday-4-man-team-waltz-5/
CATEGORIES:Mens Event
END:VEVENT
BEGIN:VEVENT
DTSTART;TZID=Europe/London:20260101T100000
DTEND;TZID=Europe/London:20260101T123000
DTSTAMP:20260421T051826
CREATED:20260101T134200Z
LAST-MODIFIED:20260101T134200Z
UID:29855-1767261600-1767270600@www.beaverstown.com
SUMMARY:Captains Drive In 9 Hole Scramble
DESCRIPTION:Date :\nThursday 01 January 2026\n\n\n\n\n\n\n\n\n\n\nCompetition :\nCaptains’ Drive-In 9 Hole Scramble\n\n\n\n\n\n\n\n\n\n\n\n\n\n\n\nPlace\nName\nPlaying Hcap\nScore\n\n\n\n\n\n\n\n\nFront 9 1st place\nCiara McCormack\n4.2\n24.8\n\n\n\nKen Breen\n\n\n\n\n\nPaul Neville\n\n\n\n\n\nPaul Carrigg\n\n\n\n\n\nGearoid Corrigan\n\n\n\n\n\n\n\n\n\n\nBack 9 1st place\nDavid Dolan\n4.9\n26.1\n\n\n\nDavin Dolan\n\n\n\n\n\nJeanne Bohan\n\n\n\n\n\nGuillaume Rhein\n\n\n\n\n\nDavid Dowling\n\n\n\n\n\n\n\n\n\n\n\n\n\n\n\n\n18 teams played
URL:https://www.beaverstown.com/event/captains-drive-in-9-hole-scramble/
CATEGORIES:Joint Event
END:VEVENT
END:VCALENDAR