
BEGIN:VCALENDAR
VERSION:2.0
PRODID:-//Beaverstown Golf Club - ECPv6.15.20//NONSGML v1.0//EN
CALSCALE:GREGORIAN
METHOD:PUBLISH
X-ORIGINAL-URL:https://www.beaverstown.com
X-WR-CALDESC:Events for Beaverstown Golf Club
REFRESH-INTERVAL;VALUE=DURATION:PT1H
X-Robots-Tag:noindex
X-PUBLISHED-TTL:PT1H
BEGIN:VTIMEZONE
TZID:Europe/London
BEGIN:DAYLIGHT
TZOFFSETFROM:+0000
TZOFFSETTO:+0100
TZNAME:BST
DTSTART:20240331T010000
END:DAYLIGHT
BEGIN:STANDARD
TZOFFSETFROM:+0100
TZOFFSETTO:+0000
TZNAME:GMT
DTSTART:20241027T010000
END:STANDARD
BEGIN:DAYLIGHT
TZOFFSETFROM:+0000
TZOFFSETTO:+0100
TZNAME:BST
DTSTART:20250330T010000
END:DAYLIGHT
BEGIN:STANDARD
TZOFFSETFROM:+0100
TZOFFSETTO:+0000
TZNAME:GMT
DTSTART:20251026T010000
END:STANDARD
BEGIN:DAYLIGHT
TZOFFSETFROM:+0000
TZOFFSETTO:+0100
TZNAME:BST
DTSTART:20260329T010000
END:DAYLIGHT
BEGIN:STANDARD
TZOFFSETFROM:+0100
TZOFFSETTO:+0000
TZNAME:GMT
DTSTART:20261025T010000
END:STANDARD
END:VTIMEZONE
BEGIN:VEVENT
DTSTART;TZID=Europe/London:20250715T080000
DTEND;TZID=Europe/London:20250715T170000
DTSTAMP:20260420T051019
CREATED:20250718T112517Z
LAST-MODIFIED:20250718T112517Z
UID:29338-1752566400-1752598800@www.beaverstown.com
SUMMARY:Ladies 9 Hole S/F
DESCRIPTION:Prize\nScore\nName\nPlaying H’cap\n\n\n1st\n20ocb\nMargaret Neville\n24\n\n\n2nd \n20\nTheresa Siew\n20\n\n\n \n \n \n \n\n\n \n \n \n \n\n\n \n \n \n \n\n\n \n \n \n \n\n\n16 Played\n \n \n 
URL:https://www.beaverstown.com/event/ladies-9-hole-s-f-2/
CATEGORIES:Ladies-Event
END:VEVENT
BEGIN:VEVENT
DTSTART;TZID=Europe/London:20250715T080000
DTEND;TZID=Europe/London:20250715T170000
DTSTAMP:20260420T051019
CREATED:20250718T115713Z
LAST-MODIFIED:20250718T115713Z
UID:29340-1752566400-1752598800@www.beaverstown.com
SUMMARY:3 Ladies Team Champagne Scramble
DESCRIPTION:Prize\nScore\nName\nPlaying H’cap\n\n\n1st\n83 pts\nCiara McComack \nCatherine Goulding \nRosemary Buckley\n12 \n23 \n21\n\n\n2nd\n74 pts\nTracy Kelly \nLouise Brown \nLiz Brett \n \n17 \n34 \n36 \n \n\n\n \n \n \n \n\n\n \n \n \n \n\n\n12 Teams played\n \n \n 
URL:https://www.beaverstown.com/event/3-ladies-team-champagne-scramble/
CATEGORIES:Ladies-Event
END:VEVENT
BEGIN:VEVENT
DTSTART;VALUE=DATE:20250716
DTEND;VALUE=DATE:20250717
DTSTAMP:20260420T051019
CREATED:20250723T172355Z
LAST-MODIFIED:20250723T172355Z
UID:29353-1752624000-1752710399@www.beaverstown.com
SUMMARY:Wednesday 4 Man Team
DESCRIPTION:Results Sheet\n\n\n\n\n\n\n\n\n\n\n\n\n\nDate :\n16th of July 2025\n\n\n\n\n\n\n\n\n\n\n\n\nCompetition :\n4 Man Team – 3 on par 3s\n\n\n\n\n\n\n\n\n\n\n\n\n\n\n\n\n\n\nPlace\nName\nPlaying Hcap\nScore\n\n\n\n\n\n\n\n\n\n\nWinners\nJohn Quinn\n13\n90.5 pts\n\n\n\n\nJoe Keogh\n16\n(-0.5)\n\n\n\n\nWillie Goslin\n14\n\n\n\n\n\nPhilip Maher\n16\n\n\n\n\n\n\n\n\n\n\n\n\n\n\n\n\n\n\n\n\n\n\n\n\n\nSecond\nBarry Kirwan\n15\n90pts 47 b9\n\n\n\n\nMick Fitzpatrick\n23\n(-2)\n\n\n\n\nRonan MacDermott\n13\n\n\n\n\n\nSean McDermott\n9\n\n\n\n\n\n\n\n\n\n\n\n\n\n\n\n\n\n\nThird\nDanny Relihan\n13\n90pts\n\n\n\n\nRichard Kiely\n14\n(-3)\n\n\n\n\nEddie Byrne\n18\n\n\n\n\n\nPaul Nimmo\n8\n\n\n\n\n\n\n\n\n\n\n\n\n\n\n\n\n\n\nBack 9\nDermot Molphy\n19\n48pts\n\n\n\n\nJay Nolan\n15\n\n\n\n\n\nMartin Gillett\n15\n\n\n\n\n\nGordan O’Connor\n19\n\n\n\n\n\n\n\n\n\n\n\n106 Members\n\n\n\n\n\n\n6 Visitors
URL:https://www.beaverstown.com/event/wednesday-4-man-team-27/
CATEGORIES:Mens Event
END:VEVENT
BEGIN:VEVENT
DTSTART;VALUE=DATE:20250719
DTEND;VALUE=DATE:20250720
DTSTAMP:20260420T051019
CREATED:20250719T184200Z
LAST-MODIFIED:20250719T184200Z
UID:29342-1752883200-1752969599@www.beaverstown.com
SUMMARY:Captain's Prize 2025
DESCRIPTION:Results Sheet\n\n\n\n\n\n\n\n\n\n\n\nDate :\nSun 13 Jul & Sat 19 Jul 2025\n\n\n\n\n\n\n\n\n\nCompetition :\nCaptain’s Prize Rd1 & Rd2\n\n\n\n\n\n\n\n\n\n\n\n\n\n\n\n\nPlace\nName\nPlaying Hcap\nScore\n\n\n\n\n\n\n\n\n1st\nDave Kavanagh\n12\n137\n\n\n2nd\nEamonn Kelly\n24\n139\n\n\n3rd\nBrian O’Rourke\n12\n140\n\n\n4th\nJohn McKenna\n15\n140\n\n\n5th\nPat Dunne\n12\n140\n\n\n6th\nAaron Dunne\n11\n142\n\n\n\n\n\n\n\n\nGross\nAidan Rowsome\n2\n147\n\n\n\n\n\n\n\n\n1st Div 1\nPat Shields\n5\n144\n\n\n1st Div 2\nPat Hayden\n15\n143\n\n\n1st Div 3\nDavid Andrews\n22\n145\n\n\n1st Div 4\nMartin Culhane\n27\n147\n\n\n\n\n\n\n\n\nRound 1\nSean McDermott\n12\n68\n\n\nRound 2\nPaul Carrick\n9\n68\n\n\n\n\n\n\n\n\nPast Captains\nPaul Nimmo\n10\n147
URL:https://www.beaverstown.com/event/captains-prize-2025/
CATEGORIES:Mens Event
END:VEVENT
BEGIN:VEVENT
DTSTART;VALUE=DATE:20250720
DTEND;VALUE=DATE:20250721
DTSTAMP:20260420T051019
CREATED:20250720T183907Z
LAST-MODIFIED:20250720T183907Z
UID:29344-1752969600-1753055999@www.beaverstown.com
SUMMARY:2 Man Team 4ball betterball
DESCRIPTION:Results Sheet\n\n\n\n\n\n\n\n\n\n\n\n\n\nDate :\nSunday 20 Jul 2025\n\n\n\n\n\n\n\n\n\n\n\nCompetition :\n2 Man Team – 4ball betterball\n\n\n\n\n\n\n\n\n\n\n\n\n\n\n\n\n\nPlace\nName\n\nPlaying Hcap\nScore\n\n\n\n\n\n\n\n\n\n1st place\nJames Fleming\n\n8\n46 pts\n\n\n\nPat Hayden\n\n12\n\n\n\n\n\n\n\n\n\n\n2nd place\nPaul Nimmo\n\n7\n45 pts ob9\n\n\n\nEddie Byrne\n\n17\n\n\n\n\n\n\n\n\n\n\n\n\n\n\n\n\n\n\n\n\n\n\n\n\n36 played
URL:https://www.beaverstown.com/event/2-man-team-4ball-betterball-2/
CATEGORIES:Mens Event
END:VEVENT
BEGIN:VEVENT
DTSTART;TZID=Europe/London:20250720T080000
DTEND;TZID=Europe/London:20250720T170000
DTSTAMP:20260420T051019
CREATED:20250722T165226Z
LAST-MODIFIED:20250722T165226Z
UID:29348-1752998400-1753030800@www.beaverstown.com
SUMMARY:Ladies 18 holes S/F
DESCRIPTION:Prize\nScore\nName\nPlaying H’cap\n\n\n1st place\n39 pts\nCiara McCormack\n14\n\n\n2nd place\n36 pts\nMandy Stewart\n17\n\n\n \n \n \n \n\n\n \n \n \n \n\n\n14 Played\n \n \n 
URL:https://www.beaverstown.com/event/ladies-18-holes-s-f/
CATEGORIES:Ladies-Event
END:VEVENT
BEGIN:VEVENT
DTSTART;TZID=Europe/London:20250722T080000
DTEND;TZID=Europe/London:20250722T170000
DTSTAMP:20260420T051019
CREATED:20250722T165344Z
LAST-MODIFIED:20250722T165344Z
UID:29350-1753171200-1753203600@www.beaverstown.com
SUMMARY:Ladies 18Hole S/F
DESCRIPTION:Prize\nScore\nName\nPlaying H’cap\n\n\nOverall 1st \n40 pts\nEmer McMahon\n16\n\n\nDiv 1\n37 pts\nMandy Stewart\n17\n\n\nDiv 2\n36 pts\nLiz Gorman\n31\n\n\nDiv 3\n34 pts\nJoan Halpin\n35\n\n\n \n \n \n \n\n\n41 Played\n \n \n 
URL:https://www.beaverstown.com/event/ladies-18hole-s-f-2/
CATEGORIES:Ladies-Event
END:VEVENT
BEGIN:VEVENT
DTSTART;TZID=Europe/London:20250722T080000
DTEND;TZID=Europe/London:20250722T170000
DTSTAMP:20260420T051019
CREATED:20250724T123314Z
LAST-MODIFIED:20250724T123314Z
UID:29357-1753171200-1753203600@www.beaverstown.com
SUMMARY:Ladies 9hole S/F
DESCRIPTION:Prize\nScore\nName\nPlaying H’cap\n\n\n1st \n22\nCaroline Comerford\n18\n\n\n2nd \n19\nElizabeth Murphy\n20\n\n\n \n \n \n \n\n\n \n \n \n \n\n\n \n \n \n \n\n\n \n \n \n \n\n\n19 Played\n \n \n 
URL:https://www.beaverstown.com/event/ladies-9hole-s-f/
CATEGORIES:Ladies-Event
END:VEVENT
BEGIN:VEVENT
DTSTART;VALUE=DATE:20250723
DTEND;VALUE=DATE:20250724
DTSTAMP:20260420T051019
CREATED:20250723T175715Z
LAST-MODIFIED:20250723T175715Z
UID:29355-1753228800-1753315199@www.beaverstown.com
SUMMARY:Wednesday 4 Man Team Reverse Waltz
DESCRIPTION:Results Sheet\n\n\n\n\n\n\n\n\n\n\n\n\n\nDate :\n23rd of July 2025\n\n\n\n\n\n\n\n\n\n\n\n\nCompetition :\n4 Man Team – Reverse Waltz\n\n\n\n\n\n\n\n\n\n\n\n\n\n\n\n\n\n\nPlace\nName\nPlaying Hcap\nScore\n\n\n\n\n\n\n\n\n\n\nWinners\nJames Martin\n15\n88pts\n\n\n\n\nTom Canavan\n20\n(-3)\n\n\n\n\nPatrick Ryan\n17\n\n\n\n\n\nBrian Wyer\n26\n\n\n\n\n\n\n\n\n\n\n\n\n\n\n\n\n\n\n\n\n\n\n\n\n\nSecond\nDanny Relihan\n13\n82pts\n\n\n\n\nJimmy Deneher\n13\n(-4)\n\n\n\n\nOliver Deneher\n7\n\n\n\n\n\nEddie Byrne\n16\n\n\n\n\n\n\n\n\n\n\n\n\n\n\n\n\n\n\nThird\nPhilip Maher\n16\n79.5pts\n\n\n\n\nCormac Goulding\n17\n(-2.5)\n\n\n\n\nVinny Arkins\n8\n\n\n\n\n\nNoel Hannigan\n21\n\n\n\n\n\n\n\n\n\n\n\n\n\n\n\n\n\n\nBack 9\nPaul O’Driscoll\n16\n43pts\n\n\n\n\nMartin Gillett\n15\n\n\n\n\n\nDermot Molphy\n19\n\n\n\n\n\nFrank McCabe\n16\n\n\n\n\n\n\n\n\n\n\n\n95 Members\n\n\n\n\n\n\n5 Visitors
URL:https://www.beaverstown.com/event/wednesday-4-man-team-reverse-waltz-2/
CATEGORIES:Mens Event
END:VEVENT
BEGIN:VEVENT
DTSTART;VALUE=DATE:20250726
DTEND;VALUE=DATE:20250727
DTSTAMP:20260420T051019
CREATED:20250727T090428Z
LAST-MODIFIED:20250727T090428Z
UID:29359-1753488000-1753574399@www.beaverstown.com
SUMMARY:Singles Stableford Yellow
DESCRIPTION:Results Sheet\n\n\n\n\n\n\n\n\n\n\n\nDate :\nSaturday 26 July 2025\n\n\n\n\n\n\n\n\n\n\nCompetition :\n18 Hole Singles Stableford\n\n\n\n\n\n\n\n\n\n\n\n\n\n\n\n\nPlace\nName\nPlaying Hcap\nScore\n\n\n\n\n\n\n\n\n1st Div 1\nRedmond Aherne\n12\n37 pts ob9\n\n\n2nd Div 1\nJohn Darroch\n12\n37 pts\n\n\n\n\n\n\n\n\n1st Div 2\nJimmy Deneher\n14\n39 pts\n\n\n2nd Div 2\nPat Hayden\n13\n37 pts\n\n\n\n\n\n\n\n\n1st Div 3\nMichael Sands\n18\n38 pts\n\n\n2nd Div 3\nRaymund Cunningham\n18\n37 pts\n\n\n\n\n\n\n\n\n\n\n\n\n\n\n\n\n\n\n\n\n68 played
URL:https://www.beaverstown.com/event/singles-stableford-yellow-9/
CATEGORIES:Mens Event
END:VEVENT
BEGIN:VEVENT
DTSTART;TZID=Europe/London:20250726T080000
DTEND;TZID=Europe/London:20250726T170000
DTSTAMP:20260420T051019
CREATED:20250729T175040Z
LAST-MODIFIED:20250729T175040Z
UID:29373-1753516800-1753549200@www.beaverstown.com
SUMMARY:Ladies 18 hole S/F
DESCRIPTION:Prize\nScore\nName\nPlaying \nHcap\n\n\n1st Prize\n35\nMaura Kidd\n26\n\n\n \n \n \n \n\n\n \n \n \n \n\n\n \n \n \n \n\n\n \n \n \n \n\n\n \n \n \n \n\n\n \n \n \n \n\n\n \n \n \n \n\n\n4 Played\n \n \n 
URL:https://www.beaverstown.com/event/ladies-18-hole-s-f-2/
CATEGORIES:Ladies-Event
END:VEVENT
BEGIN:VEVENT
DTSTART;VALUE=DATE:20250727
DTEND;VALUE=DATE:20250728
DTSTAMP:20260420T051019
CREATED:20250727T200248Z
LAST-MODIFIED:20250727T200248Z
UID:29361-1753574400-1753660799@www.beaverstown.com
SUMMARY:Men's July Medal
DESCRIPTION:Results Sheet\n\n\n\n\n\n\n\n\n\n\n\nDate :\nSunday 27 July 2025\n\n\n\n\n\n\n\n\n\n\nCompetition :\nJuly Medal (GOY)\n\n\n\n\n\n\n\n\n\n\n\n\n\n\n\n\nPlace\nName\nPlaying Hcap\nScore\n\n\n\n\n\n\n\n\n1st\nDave Kavanagh\n10\n67\n\n\n2nd\nBryan Dignam\n7\n68\n\n\n3rd\nKeith Rowsome\n8\n68\n\n\n4th\nJohn Grealy\n7\n69\n\n\n\n\n\n\n\n\nGross\nGary Lawlor\n3\n75\n\n\n\n\n\n\n\n\nDiv 1 (0-10)\nPat McCormack\n8\n72\n\n\nDiv 2 (11-15)\nKeith Williamson\n15\n70\n\n\nDiv 3 (16-19)\nConor Herbert\n19\n70\n\n\nDiv 4 (20+)\nMichael O’Leary\n21\n70\n\n\n\n\n\n\n\n\n118 played\n\n\n\n\n\n116 cards returned
URL:https://www.beaverstown.com/event/mens-july-medal/
CATEGORIES:Mens Event
END:VEVENT
BEGIN:VEVENT
DTSTART;TZID=Europe/London:20250727T080000
DTEND;TZID=Europe/London:20250727T170000
DTSTAMP:20260420T051019
CREATED:20250729T180710Z
LAST-MODIFIED:20250729T180710Z
UID:29375-1753603200-1753635600@www.beaverstown.com
SUMMARY:Ladies 18 S/F
DESCRIPTION:Prize\nScore\nName\nPlaying \nHcap\n\n\n1st Prize\n40\nMags Kelly\n28\n\n\n2nd Prize\n38\nLaura Fitzpatrick\n35\n\n\n \n \n \n \n\n\n \n \n \n \n\n\n \n \n \n \n\n\n \n \n \n \n\n\n \n \n \n \n\n\n \n \n \n \n\n\n16 Played\n \n \n 
URL:https://www.beaverstown.com/event/ladies-18-s-f/
CATEGORIES:Ladies-Event
END:VEVENT
BEGIN:VEVENT
DTSTART;TZID=Europe/London:20250728T080000
DTEND;TZID=Europe/London:20250728T140000
DTSTAMP:20260420T051019
CREATED:20250728T194739Z
LAST-MODIFIED:20250728T194739Z
UID:29371-1753689600-1753711200@www.beaverstown.com
SUMMARY:Mixed Open Singles Stableford
DESCRIPTION:Date :\nMonday 28 July 2025\n\n\n\n\n\n\n\n\n\n\nCompetition :\n18 Hole Open Singles Stableford\n\n\n\n\n\n\n\n\n\n\n\n\n\n\n\nPlace\nName\nPlaying Hcap\nScore\n\n\n\n\n\n\n\n\n1st place\nPatrick Howlett\n22\n42pts\n\n\n\n\n\n\n\n\n2nd place\nEugene Casey\n17\n40pts\n\n\n\n\n\n\n\n\n3rd place\nDermot Stone\n22\n40pts\n\n\n\n\n\n\n\n\n\n\n\n\n\n\n\n\n\n\n\n\n31 members\n\n\n\n\n\n9 visitors
URL:https://www.beaverstown.com/event/mixed-open-singles-stableford-7/
CATEGORIES:Joint Event
END:VEVENT
BEGIN:VEVENT
DTSTART;TZID=Europe/London:20250729T080000
DTEND;TZID=Europe/London:20250729T170000
DTSTAMP:20260420T051019
CREATED:20250730T123010Z
LAST-MODIFIED:20250730T123010Z
UID:29377-1753776000-1753808400@www.beaverstown.com
SUMMARY:Ladies 9 Hole S/F
DESCRIPTION:Prize\nScore\nName\nPlaying H’cap\n\n\n1st\n21\nCaroline Comeford\n17\n\n\n2nd \n17\nClodagh Patterson\n17\n\n\n \n \n \n \n\n\n \n \n \n \n\n\n \n \n \n \n\n\n \n \n \n \n\n\n21 Played\n \n \n 
URL:https://www.beaverstown.com/event/ladies-9-hole-s-f-3/
CATEGORIES:Ladies-Event
END:VEVENT
BEGIN:VEVENT
DTSTART;TZID=Europe/London:20250729T080000
DTEND;TZID=Europe/London:20250729T170000
DTSTAMP:20260420T051019
CREATED:20250731T143712Z
LAST-MODIFIED:20250731T143712Z
UID:29379-1753776000-1753808400@www.beaverstown.com
SUMMARY:Ladies Combined July Medal
DESCRIPTION:Prize\nScore\nName\nPlaying \nHcap\n\n\nSilver Medal \nHI < 20\n70\nChloe Flanagan\n19\n\n\nBronze Medal \nHI >20.1\n71\nEileen Meaney\n24\n\n\n \n \n \n \n\n\n \n \n \n \n\n\n \n \n \n \n\n\n \n \n \n \n\n\n \n \n \n \n\n\n \n \n \n \n\n\n \n \n \n \n\n\n \n \n \n \n\n\n42 Played\n \n \n 
URL:https://www.beaverstown.com/event/ladies-combined-july-medal/
CATEGORIES:Ladies-Event
END:VEVENT
BEGIN:VEVENT
DTSTART;VALUE=DATE:20250731
DTEND;VALUE=DATE:20250801
DTSTAMP:20260420T051019
CREATED:20250731T173035Z
LAST-MODIFIED:20250731T173035Z
UID:29381-1753920000-1754006399@www.beaverstown.com
SUMMARY:Wednesday 4 Man Team
DESCRIPTION:Results Sheet\n\n\n\n\n\n\n\n\n\n\n\n\n\nDate :\n30th of July 2025\n\n\n\n\n\n\n\n\n\n\n\n\nCompetition :\n4 Man Team –\n\n\n\n\n\n\n\n\n\n\n\n\n\n\n\n\n\n\n\nPlace\nName\nPlaying Hcap\nScore\n\n\n\n\n\n\n\n\n\n\nWinners\nBernard Duff\n25\n93pts\n\n\n\n\nBrendan McGill\n18\n\n\n\n\n\nBilly Tanner\n27\n\n\n\n\n\nThomas Sheridan\n19\n\n\n\n\n\n\n\n\n\n\n\n\n\n\n\n\n\n\n\n\n\n\n\n\n\nSecond\nAidan Byrne\n13\n92.5 pts\n\n\n\n\nJoe Mooney\n11\n(-1.5)\n\n\n\n\nPaul Martin\n18\n\n\n\n\n\nDermot Mangan\n16\n\n\n\n\n\n\n\n\n\n\n\n\n\n\n\n\n\n\nThird\nJim Bradshaw\n12\n92 pts 48b9\n\n\n\n\nMichael Sweeney\n15\n\n\n\n\n\nTom Dwyer\n18\n\n\n\n\n\nPaddy Grehan\n19\n\n\n\n\n\n\n\n\n\n\n\n\n\n\n\n\n\n\nBack 9\nPaul O’Driscoll\n16\n46pts 33b6\n\n\n\n\nMartin Gillett\n15\n\n\n\n\n\nFrank McCabe\n16\n\n\n\n\n\nJimmy Dawson\n14\n\n\n\n\n\n\n\n\n\n\n\n96 Members\n\n\n\n\n\n\n7 Visitors
URL:https://www.beaverstown.com/event/wednesday-4-man-team-28/
CATEGORIES:Mens Event
END:VEVENT
BEGIN:VEVENT
DTSTART;VALUE=DATE:20250802
DTEND;VALUE=DATE:20250803
DTSTAMP:20260420T051019
CREATED:20250802T195205Z
LAST-MODIFIED:20250802T195205Z
UID:29386-1754092800-1754179199@www.beaverstown.com
SUMMARY:2 Man Team 4ball betterball
DESCRIPTION:Results Sheet\n\n\n\n\n\n\n\n\n\n\n\n\n\nDate :\nSaturday 02 August 2025\n\n\n\n\n\n\n\n\n\n\nCompetition :\n2 Man Team – 4ball betterball\n\n\n\n\n\n\n\n\n\n\n\n\n\n\n\n\n\nPlace\nName\n\nPlaying Hcap\nScore\n\n\n\n\n\n\n\n\n\n1st place\nDavid Heraty\n\n24\n50pts\n\n\n\nJamie Hand\n\n19\n\n\n\n\n\n\n\n\n\n\n2nd place\nSean McDermott\n\n8\n44pts\n\n\n\nJohn Darroch\n\n11\n\n\n\n\n\n\n\n\n\n\n\n\n\n\n\n\n\n\n\n\n\n\n\n\n\n\n\n\n\n\n\n\n\n\n\n\n\n\n35 played
URL:https://www.beaverstown.com/event/2-man-team-4ball-betterball-3/
CATEGORIES:Mens Event
END:VEVENT
BEGIN:VEVENT
DTSTART;TZID=Europe/London:20250803T080000
DTEND;TZID=Europe/London:20250803T170000
DTSTAMP:20260420T051019
CREATED:20250804T092039Z
LAST-MODIFIED:20250804T092039Z
UID:29388-1754208000-1754240400@www.beaverstown.com
SUMMARY:Member's Day Competitions
DESCRIPTION:Prize\nScore\nNames\n \n\n\n\nMen’s 18 hole\n\n\n1st\n100\nBernard Pender\, Patrick Howlett\, Kieron Murphy\, Frank O’ Moore-\n\n\n2nd\n99\nPhilip O’Driscoll\, Paul O’Driscoll\, Martin Gillett\, Dermott Stone\n\n\n \n \n \n \n\n\nLadies 18hole\n\n\n1st\n92\nAnne Neville\, Jeanne Bohan\, Sheila Dowling\, Alice O’ Connor\n\n\n \n \n \n\n\n \n \nMixed 18 holes\n \n\n\n1st\n101(ocb)\nKieran Lawlor\, Damien Guirke\, Leane Hannigan\, Paul McMullen\n\n\n \n \n \n\n\n \n \n9 hole Competition\n \n\n\n1st\n51\nJohnny Small\, Frances Small\, Maura Kidd\, Larry Kidd\n \n\n\n2nd\n48\nPhil Molloy\, Joan Melvin\, Jo Scott\, Joan McPartlan\n \n\n\n \n\n\nLadies \n \nDistance\n\n\nNearest the Pin 7th\nJoan Halpin\nHole in One\n\n\nClosest to the line 18th\nNuala Free\n19cms\n\n\nMen’s\n \n \n\n\nNearest the Pin 7th\nRobert Nolan\n13cms\n\n\nClosest to the line 18th\nJohn Fogarty\n16cms
URL:https://www.beaverstown.com/event/members-day-competitions/
CATEGORIES:Five Day Members,Ladies-Event,Mens Event
END:VEVENT
BEGIN:VEVENT
DTSTART;VALUE=DATE:20250804
DTEND;VALUE=DATE:20250805
DTSTAMP:20260420T051019
CREATED:20250804T174644Z
LAST-MODIFIED:20250805T090023Z
UID:29390-1754265600-1754351999@www.beaverstown.com
SUMMARY:Scratch Cups
DESCRIPTION:Results Sheet\n\n\n\n\n\n\n\n\n\n\n\nDate :\nMonday 04 August\n\n\n\n\n\n\n\n\n\n\nCompetition :\nScratch Cups\n\n\n\n\n\n\n\n\n\n\n\n\n\n\n\n\nPlace\nName\nHcap Index\nScore\n\n\n\n\n\n\n\n\nSenior up to 3.8 – 18 played\n\n\n\n\n1st place\nGary Cullen\n+3\n73\n\n\n2nd place\nBobby Kelly (V)\n1.9\n77 ob6\n\n\n3rd place\nBarry Langton\n3.7\n77\n\n\n\n\n\n\n\n\nJunior 3.9 to 11.2 – 49 played\n\n\n\n\n1st place\nKieran Lawlor\n4.1\n79 ob6\n\n\n2nd place\nPaul Boyle (V)\n4.5\n79\n\n\n3rd place\nRyan Hollingsworth (V)\n5.6\n82\n\n\n\n\n\n\n\n\nIntermediate 11.3 to 18.5 – 37 played\n\n\n\n\n1st place\nPat Lambe\n13.8\n83\n\n\n2nd place\nMartin Bryan (V)\n13.4\n90  ob9\n\n\n3rd place\nSimon Kennedy\n13.1\n90\n\n\n\n\n\n\n\n\nMinor 18.6 and over – 9 played\n\n\n\n\n1st place\nDaniel Montgomery (V)\n20.2\n96\n\n\n\n\n\n\n\n\n43 Members\n\n\n\n\n\n70 Visitors
URL:https://www.beaverstown.com/event/scratch-cups/
CATEGORIES:Mens Event
END:VEVENT
BEGIN:VEVENT
DTSTART;TZID=Europe/London:20250805T080000
DTEND;TZID=Europe/London:20250805T170000
DTSTAMP:20260420T051019
CREATED:20250805T170347Z
LAST-MODIFIED:20250805T170347Z
UID:29396-1754380800-1754413200@www.beaverstown.com
SUMMARY:18 Hole Stableford
DESCRIPTION:Prize\nScore\nName\nPlaying H’cap\n\n\nOverall 1st \n40 pts\nGeraldine McCabe\n34\n\n\nDiv 1\n33 pts\nEmer McMahon\n16\n\n\nDiv 2\n37 pts ocb\nPat Ferrari\n29\n\n\nDiv 3\n37 pts\nJoan Halpin\n35\n\n\n \n \n \n \n\n\n37 Played\n \n \n 
URL:https://www.beaverstown.com/event/18-hole-stableford-11/
CATEGORIES:Ladies-Event
END:VEVENT
BEGIN:VEVENT
DTSTART;TZID=Europe/London:20250805T080000
DTEND;TZID=Europe/London:20250805T170000
DTSTAMP:20260420T051019
CREATED:20250806T155723Z
LAST-MODIFIED:20250806T155723Z
UID:29398-1754380800-1754413200@www.beaverstown.com
SUMMARY:Ladies 9 Hole S/F
DESCRIPTION:Prize\nScore\nName\nPlaying H’cap\n\n\n1st\n18\nElizabeth Murphy\n20\n\n\n2nd \n17\nSharon Argue\n25\n\n\n \n \n \n \n\n\n \n \n \n \n\n\n \n \n \n \n\n\n \n \n \n \n\n\n14 Played\n \n \n 
URL:https://www.beaverstown.com/event/ladies-9-hole-s-f-4/
CATEGORIES:Ladies-Event
END:VEVENT
BEGIN:VEVENT
DTSTART;VALUE=DATE:20250806
DTEND;VALUE=DATE:20250807
DTSTAMP:20260420T051019
CREATED:20250807T133645Z
LAST-MODIFIED:20250815T114021Z
UID:29401-1754438400-1754524799@www.beaverstown.com
SUMMARY:Wednesday Aug 6th - 4 Man Team - 3 to score on Par 5's
DESCRIPTION:Place\nName\nPlaying Hcap\nScore\n\n\n\n\n\n\n\n\nWinners\nPaul O’Driscoll (-0.5)\n16\n99pts\n\n\n\nDermot Molphy (-1.0)\n19\n(101-2)\n\n\n\nFrank McCabe (-0.5)\n16\n\n\n\n\nPhilip O’Driscoll\n5\n\n\n\n\n\n\n\n\n\nSecond\nJim Bradshaw (-1.0)\n12\n95pts (B9)\n\n\n\nMichael Sweeney (-1.0)\n15\n(99-4)\n\n\n\nThomas Dwyer (-1.0)\n18\n\n\n\n\nPatrick Grehan (-1.0)\n19\n\n\n\n\n\n\n\n\n\nThird\nJohn Bohan\n13\n95pts\n\n\n\nGerry O’Connor (-1.0)\n18\n(97-2)\n\n\n\nHarry Keegan (-1.0)\n24\n\n\n\n\nRonan MacDermott\n13\n\n\n\n\n\n\n\n\n\nBack 9\nPeter Gallagher (-1.0)\n22\n49pts\n\n\n\nBrian Lennon\n10\n(B9:51-2)\n\n\n\nAndy Collinge\n13\n\n\n\n\nDermot Brady\n23\n\n\n\n\n\n\n\n\n\n124 played
URL:https://www.beaverstown.com/event/wednesday-aug-6th-4-man-team-3-to-score-on-par-5s/
CATEGORIES:Mens Event,Results
END:VEVENT
BEGIN:VEVENT
DTSTART;VALUE=DATE:20250809
DTEND;VALUE=DATE:20250810
DTSTAMP:20260420T051019
CREATED:20250810T125548Z
LAST-MODIFIED:20250811T124532Z
UID:29403-1754697600-1754783999@www.beaverstown.com
SUMMARY:Singles V Par
DESCRIPTION:Date :\nSaturday 09 August\n\n\n\n\n\n\n\n\n\n\n\nCompetition :\n18 Hole Singles V Par\nRevised\n\n\n\n\n\n\n\n\n\n\n\n\n\n\n\n\n\nPlace\nName\n\nPlaying Hcap\nScore\n\n\n\n\n\n\n\n\n\nDiv 1 1st\nLuke Murphy\n\n11\n1 up\n\n\nDiv 1 2nd\nJoe Egan\n\n10\n1 down  ob9\n\n\n\n\n\n\n\n\n\nDiv 2 1st\nJohn KK Nolan\n\n13\n3 up\n\n\nDiv 2 2nd\nRaymund Cunningham\n\n18\n2 up  ob9\n\n\n\n\n\n\n\n\n\nDiv 3 1st\nDavid Andrews\n\n19\n3 up\n\n\nDiv 3 2nd\nDonal O’Riordan\n\n24\n1 up\n\n\n\n\n\n\n\n\n\n\n\n\n\n\n\n\n\n\n\n\n\n\n\n80 played
URL:https://www.beaverstown.com/event/singles-v-par-5/
CATEGORIES:Mens Event
END:VEVENT
BEGIN:VEVENT
DTSTART;VALUE=DATE:20250810
DTEND;VALUE=DATE:20250811
DTSTAMP:20260420T051019
CREATED:20250811T134035Z
LAST-MODIFIED:20250811T134035Z
UID:29421-1754784000-1754870399@www.beaverstown.com
SUMMARY:Singles Stableford White
DESCRIPTION:Date :\nSunday 10 August 2025\n\n\n\n\n\n\n\n\n\n\nCompetition :\n18 Hole Singles Stableford – White\n\n\n\n\n\n\n\n\n\n\n\n\n\n\n\nPlace\nName\nPlaying Hcap\nScore\n\n\n\n\n\n\n\n\n1st Div 1\nAidan O’Regan\n7\n40pts\n\n\n2nd Div 1\nRoss Benvie\n6\n38 pts\n\n\n\n\n\n\n\n\n1st Div 2\nRobert O’Sullivan\n17\n39pts  ob9\n\n\n2nd Div 2\nDanny Relihan\n15\n39pts\n\n\n\n\n\n\n\n\n1st Div 3\nHenry O’Brien\n19\n36pts\n\n\n2nd Div 3\nThomas Dwyer\n21\n35pts\n\n\n\n\n\n\n\n\n49 played
URL:https://www.beaverstown.com/event/singles-stableford-white/
CATEGORIES:Mens Event
END:VEVENT
BEGIN:VEVENT
DTSTART;VALUE=DATE:20250810
DTEND;VALUE=DATE:20250811
DTSTAMP:20260420T051019
CREATED:20250811T155703Z
LAST-MODIFIED:20250811T155703Z
UID:29423-1754784000-1754870399@www.beaverstown.com
SUMMARY:Singles Stableford Yellow
DESCRIPTION:Date :\nSunday 10 August 2025\n\n\n\n\n\n\n\n\n\n\nCompetition :\n18 Hole Singles Stableford – Yellow\n\n\n\n\n\n\n\n\n\n\n\n\n\n\n\nPlace\nName\nPlaying Hcap\nScore\n\n\n\n\n\n\n\n\n1st Div 1\nDavid Keating\n15\n36pts\n\n\n2nd Div 1\nJim Kendellen\n13\n35pts\n\n\n\n\n\n\n\n\n1st Div 2\nDermot Mangan\n17\n34pts\n\n\n2nd Div 2\nDavid Frew\n20\n33pts\n\n\n\n\n\n\n\n\n1st Div 3\nEamonn Coffey\n33\n34pts\n\n\n2nd Div 3\nTony Barry\n25\n33pts\n\n\n\n\n\n\n\n\n42 played
URL:https://www.beaverstown.com/event/singles-stableford-yellow-10/
CATEGORIES:Mens Event
END:VEVENT
BEGIN:VEVENT
DTSTART;TZID=Europe/London:20250810T080000
DTEND;TZID=Europe/London:20250810T170000
DTSTAMP:20260420T051019
CREATED:20250812T144202Z
LAST-MODIFIED:20250812T144202Z
UID:29427-1754812800-1754845200@www.beaverstown.com
SUMMARY:18 Hole Stableford
DESCRIPTION:Prize\nScore\nName\nPlaying H’cap\n\n\nDiv 1\n43 pts\nEmer McMahon\n16\n\n\nDiv 2\n42 pts \nNóirín McMahon\n25\n\n\nDiv 3\n36 pts\nHelen Malone\n40\n\n\n \n \n \n \n\n\n27 Played\n \n \n \n\n\n\n 
URL:https://www.beaverstown.com/event/18-hole-stableford-12/
CATEGORIES:Ladies-Event
END:VEVENT
BEGIN:VEVENT
DTSTART;VALUE=DATE:20250811
DTEND;VALUE=DATE:20250812
DTSTAMP:20260420T051019
CREATED:20250811T180404Z
LAST-MODIFIED:20250811T180404Z
UID:29425-1754870400-1754956799@www.beaverstown.com
SUMMARY:Mixed Open Singles Stableford
DESCRIPTION:Date :\nMonday 11 August\n\n\n\n\n\n\n\n\n\n\nCompetition :\n18 Hole Open Singles Stableford\n\n\n\n\n\n\n\n\n\n\n\n\n\n\n\nPlace\nName\nPlaying Hcap\nScore\n\n\n\n\n\n\n\n\n1st Div 1\nJimmy Deneher\n13\n42pts\n\n\n2nd Div 1\nKeith Lawless (V)\n7\n41pts\n\n\n3rd Div 1\nAndrew Lawless (V)\n12\n40pts\n\n\n\n\n\n\n\n\n1st Div 2\nFrank McCabe\n17\n42pts\n\n\n2nd Div 2\nDavid Williamson (V)\n27\n40pts\n\n\n3rd Div 2\nPaul Neville\n27\n37pts ob9\n\n\n\n\n\n\n\n\n\n\n\n\n\n\n39 Members\n\n\n\n\n\n11 Visitors
URL:https://www.beaverstown.com/event/mixed-open-singles-stableford-8/
CATEGORIES:Joint Event
END:VEVENT
BEGIN:VEVENT
DTSTART;TZID=Europe/London:20250812T080000
DTEND;TZID=Europe/London:20250812T170000
DTSTAMP:20260420T051019
CREATED:20250814T090904Z
LAST-MODIFIED:20250814T090904Z
UID:29431-1754985600-1755018000@www.beaverstown.com
SUMMARY:Ladies 18 hole Single Stableford
DESCRIPTION:Prize\nScore\nName\nPlaying \nH’cap\n\n\nOverall 1st Prize\n45\nSusan Barber\n35\n\n\nOverall 2nd Prize\n40\nLiz Brett\n39\n\n\n \n \n \n \n\n\nCategory 1\n39\nSheila Dunne\n24\n\n\nCategory 2\n38 (ocb)\nRose Daly\n31\n\n\nCategory 3\n37\nMargaret Neville\n49\n\n\n \n \n \n \n\n\n \n \n \n \n\n\n47 Played\n \n \n 
URL:https://www.beaverstown.com/event/ladies-18-hole-single-stableford/
CATEGORIES:Ladies-Event
END:VEVENT
BEGIN:VEVENT
DTSTART;TZID=Europe/London:20250812T080000
DTEND;TZID=Europe/London:20250812T170000
DTSTAMP:20260420T051019
CREATED:20250814T092351Z
LAST-MODIFIED:20250814T092351Z
UID:29433-1754985600-1755018000@www.beaverstown.com
SUMMARY:Ladies 9 Hole Singles Stableford
DESCRIPTION:Prize\nScore\nName\nPlaying H’cap\n\n\n1st \n26\nLinda Jones Crowley\n29\n\n\n2nd \n22\nKatie Browne\n7\n\n\n \n \n \n \n\n\n \n \n \n \n\n\n \n \n \n \n\n\n \n \n \n \n\n\n 14 Played\n \n \n 
URL:https://www.beaverstown.com/event/ladies-9-hole-singles-stableford/
CATEGORIES:Ladies-Event
END:VEVENT
END:VCALENDAR