
BEGIN:VCALENDAR
VERSION:2.0
PRODID:-//Beaverstown Golf Club - ECPv6.15.20//NONSGML v1.0//EN
CALSCALE:GREGORIAN
METHOD:PUBLISH
X-ORIGINAL-URL:https://www.beaverstown.com
X-WR-CALDESC:Events for Beaverstown Golf Club
REFRESH-INTERVAL;VALUE=DURATION:PT1H
X-Robots-Tag:noindex
X-PUBLISHED-TTL:PT1H
BEGIN:VTIMEZONE
TZID:Europe/London
BEGIN:DAYLIGHT
TZOFFSETFROM:+0000
TZOFFSETTO:+0100
TZNAME:BST
DTSTART:20240331T010000
END:DAYLIGHT
BEGIN:STANDARD
TZOFFSETFROM:+0100
TZOFFSETTO:+0000
TZNAME:GMT
DTSTART:20241027T010000
END:STANDARD
BEGIN:DAYLIGHT
TZOFFSETFROM:+0000
TZOFFSETTO:+0100
TZNAME:BST
DTSTART:20250330T010000
END:DAYLIGHT
BEGIN:STANDARD
TZOFFSETFROM:+0100
TZOFFSETTO:+0000
TZNAME:GMT
DTSTART:20251026T010000
END:STANDARD
BEGIN:DAYLIGHT
TZOFFSETFROM:+0000
TZOFFSETTO:+0100
TZNAME:BST
DTSTART:20260329T010000
END:DAYLIGHT
BEGIN:STANDARD
TZOFFSETFROM:+0100
TZOFFSETTO:+0000
TZNAME:GMT
DTSTART:20261025T010000
END:STANDARD
END:VTIMEZONE
BEGIN:VEVENT
DTSTART;TZID=Europe/London:20250518T080000
DTEND;TZID=Europe/London:20250518T170000
DTSTAMP:20260419T203535
CREATED:20250520T164406Z
LAST-MODIFIED:20250520T164406Z
UID:29119-1747555200-1747587600@www.beaverstown.com
SUMMARY:18 Hole Stableford
DESCRIPTION:Prize\nScore\nName\nPlaying H’cap\n\n\n1st\n38pts\nEileen Meaney\n28\n\n\n2nd\n34pts\nCiara McCormack\n16
URL:https://www.beaverstown.com/event/18-hole-stableford-8/
CATEGORIES:Ladies-Event
END:VEVENT
BEGIN:VEVENT
DTSTART;VALUE=DATE:20250519
DTEND;VALUE=DATE:20250520
DTSTAMP:20260419T203535
CREATED:20250521T130929Z
LAST-MODIFIED:20250521T140815Z
UID:29129-1747612800-1747699199@www.beaverstown.com
SUMMARY:Mixed Open Singles Stableford
DESCRIPTION:Results Sheet\n\n\n\n\n\n\n\n\n\n\n\n\n\n\nDate :\n\nMonday 19 May  2025\n\n\n\n\n\n\n\n\n\n\n\n\n\nCompetition :\nOpen Singles Stableford (Yellow)\n\n\n\n\n\n\n\n\n\n\n\n\n\n\n\n\n\n\n\n\n\n\n\n\n\n\n\n\n\nPlace\n\nName\n\nPlaying Hcap\nScore\n\n\n\n\n\n\n\n\n\n\n1st Div 1\n\nAnthony McEvoy (V)\n\n8\n42 pts\n\n\n2nd Div 1\n\nPeter Ferrari\n\n13\n40 pts\n\n\n\n\n\n\n\n\n\n\n1st Div 2\n\nDeclan Cullen\n\n15\n40 pts\n\n\n2nd Div 2\n\nPat Lambe\n\n15\n35 pts\n\n\n\n\n\n\n\n\n\n\n1st Div 3\n\nMary Kirwan\n\n40\n37 pts\n\n\n2nd Div 3\n\nDamien MacNally\n\n24\n36 pts\n\n\n\n\n\n\n\n\n\n\n\n\n\n\n\n\n\n\n\n\n\n\n\n\n\n\n\n\n\n\n\n\n\n\n\n\n\n\n\n\n\n\n55 played\n\n\n\n\n\n\n\n\n\n\n\n\n\n\n\n1 non return
URL:https://www.beaverstown.com/event/mixed-open-singles-stableford-3/
CATEGORIES:Joint Event
END:VEVENT
BEGIN:VEVENT
DTSTART;TZID=Europe/London:20250520T080000
DTEND;TZID=Europe/London:20250520T170000
DTSTAMP:20260419T203535
CREATED:20250520T171415Z
LAST-MODIFIED:20250520T171415Z
UID:29124-1747728000-1747760400@www.beaverstown.com
SUMMARY:9 Hole Stableford
DESCRIPTION:Prize\nScore\nName\nPlaying H’cap\n\n\nFirst\n20\nLiz Murphy\n20
URL:https://www.beaverstown.com/event/9-hole-stableford-4/
CATEGORIES:Ladies-Event
END:VEVENT
BEGIN:VEVENT
DTSTART;TZID=Europe/London:20250520T080000
DTEND;TZID=Europe/London:20250520T170000
DTSTAMP:20260419T203535
CREATED:20250520T190101Z
LAST-MODIFIED:20250520T190101Z
UID:29127-1747728000-1747760400@www.beaverstown.com
SUMMARY:Granard Fourball
DESCRIPTION:Prize\nScore\nName\nPlaying H/C \n \n\n\n1st \n43 pts ocb\nJoan McPartlan & Jo Scott\n27 & 23\n\n\n2nd\n43 pts\nSheila Dowling & Anne Neville \n \n16 & 27
URL:https://www.beaverstown.com/event/granard-fourball/
CATEGORIES:Ladies-Event
END:VEVENT
BEGIN:VEVENT
DTSTART;VALUE=DATE:20250521
DTEND;VALUE=DATE:20250522
DTSTAMP:20260419T203535
CREATED:20250521T172640Z
LAST-MODIFIED:20250521T172640Z
UID:29134-1747785600-1747871999@www.beaverstown.com
SUMMARY:Wednesday 4 Man Team
DESCRIPTION:Results Sheet\n\n\n\n\n\n\n\n\n\n\n\n\n\nDate :\n21st of May 2025\n\n\n\n\n\n\n\n\n\n\n\n\nCompetition :\n4 Man Team –\n\n\n\n\n\n\n\n\n\n\n\n\n\n\n\n\n\n\n\nPlace\nName\nPlaying Hcap\nScore\n\n\n\n\n\n\n\n\n\n\nWinners\nJames Reilly\n25\n96pts 48b9\n\n\n\n\nMartin McDonnell\n11\n\n\n\n\n\nAidan O’Kennedy\n10\n\n\n\n\n\nHenry O’Brien\n17\n\n\n\n\n\n\n\n\n\n\n\n\n\n\n\n\n\n\n\n\n\n\n\n\n\nSecond\nBernard Pender\n15\n99-3=96pts\n\n\n\n\nFrank O’Moore\n12\n\n\n\n\n\nPatrick Howlett\n21\n\n\n\n\n\nKieran Murphy\n20\n\n\n\n\n\n\n\n\n\n\n\n\n\n\n\n\n\n\nThird\nJimmy Martin\n14\n95pts\n\n\n\n\nPatrick Ryan\n17\n\n\n\n\n\nPat Lambe\n13\n\n\n\n\n\nBrian Wyer\n26\n\n\n\n\n\n\n\n\n\n\n\n\n\n\n\n\n\n\nBack 9\nDermot Molphy\n19\n49-1.75=47.25\n\n\n\n\nMartin Gillett\n15\n\n\n\n\n\nFrank Lupton\n27\n\n\n\n\n\nFrank McCabe\n16\n\n\n\n\n\n\n\n\n\n\n\n84 Members\n\n\n\n\n\n\n10 Visitors
URL:https://www.beaverstown.com/event/wednesday-4-man-team-14/
CATEGORIES:Mens Event
END:VEVENT
BEGIN:VEVENT
DTSTART;TZID=Europe/London:20250522T150000
DTEND;TZID=Europe/London:20250522T190000
DTSTAMP:20260419T203535
CREATED:20250606T105629Z
LAST-MODIFIED:20250606T105629Z
UID:29189-1747926000-1747940400@www.beaverstown.com
SUMMARY:9 Hole Invitational
DESCRIPTION:Results Sheet\n\n\n\n\n\n\n\n\n\n\n\nDate :\nThursday 22 May 2025\n\n\n\n\n\n\n\n\n\n\nCompetition :\n9 Hole Invitational Stableford\n\n\n\n\n\n\n\n\n\n\n\n\n\n\n\n\nPlace\nName\nPlaying Hcap\nScore\n\n\n\n\n\n\n\n\n1st\nJack Caverly\n10\n21pts\n\n\n2nd\nDavid Guerra\n11\n21pts\n\n\n3rd\nColin Reynolds\n20\n21pts\n\n\n\n\n\n\n\n\n34 cards returned
URL:https://www.beaverstown.com/event/9-hole-invitational-2/
CATEGORIES:Joint Event
END:VEVENT
BEGIN:VEVENT
DTSTART;VALUE=DATE:20250524
DTEND;VALUE=DATE:20250525
DTSTAMP:20260419T203535
CREATED:20250524T171855Z
LAST-MODIFIED:20250524T171855Z
UID:29137-1748044800-1748131199@www.beaverstown.com
SUMMARY:Singles Stableford Yellow
DESCRIPTION:Results Sheet\n\n\n\n\n\n\n\n\n\n\n\n\n\n\nDate :\n\nSaturday 24 May  2025\n\n\n\n\n\n\n\n\n\n\n\n\n\nCompetition :\nSingles Stableford (Yellow)\n\n\n\n\n\n\n\n\n\n\n\n\n\n\n\n\n\n\n\n\n\n\n\n\n\n\n\n\n\nPlace\n\nName\n\nPlaying Hcap\nScore\n\n\n\n\n\n\n\n\n\n\n1st Div 1\n\nAidan Rowsome\n\n4\n40 pts\n\n\n2nd Div 1\n\nRedmond Aherne\n\n12\n38 pts\n\n\n\n\n\n\n\n\n\n\n1st Div 2\n\nMichael O’Leary\n\n19\n37 pts\n\n\n2nd Div 2\n\nRuaidhri MacAodhagain\n20\n35 pts\n\n\n\n\n\n\n\n\n\n\n1st Div 3\n\nDonal O’Riordan\n\n25\n39 pts\n\n\n2nd Div 3\n\nPatrick Mulvin\n\n23\n38 pts\n\n\n\n\n\n\n\n\n\n\n\n\n\n\n\n\n\n\n\n\n\n\n\n\n\n\n\n\n\n\n\n\n\n\n\n\n\n\n\n\n\n\n52 played
URL:https://www.beaverstown.com/event/singles-stableford-yellow-4/
CATEGORIES:Mens Event
END:VEVENT
BEGIN:VEVENT
DTSTART;VALUE=DATE:20250525
DTEND;VALUE=DATE:20250526
DTSTAMP:20260419T203535
CREATED:20250526T124700Z
LAST-MODIFIED:20250531T072931Z
UID:29139-1748131200-1748217599@www.beaverstown.com
SUMMARY:May Medal
DESCRIPTION:Results Sheet\n\n\n\n\n\n\n\n\n\n\n\n\n\nDate :\nSunday 25 May 2025\n\n\n\n\n\n\n\n\n\n\n\n\nCompetition :\nMay Medal (GOY 25)\n\n\n\n\n\n\n\n\n\n\n\n\n\n\n\n\n\n\n\n\n\n\n\n\n\n\nPlace\nName\nPlaying Hcap\n\nScore\n\n\n\n\n\n\n\n\n\n1st\nDerek Dudley\n18\n\n68\n\n\n2nd\nAidan Rowsome\n5\n\n69 ob3\n\n\n3rd\nAidan O’Regan\n7\n\n69\n\n\n4th\nTom Collins\n11\n\n73\n\n\n\n\n\n\n\n\n\nGross\nSean Dowling\n0\n\n78\n\n\n\n\n\n\n\n\n\nDiv 1  1st (0-10)\nPaul Nimmo\n10\n\n75 ob6\n\n\nDiv 2  1st (11-16)\nVincent Arkins\n13\n\n76\n\n\nDiv 3  1st (17-22)\nPat Ward\n17\n\n73\n\n\nDiv 4  1st (23+)\nAidan Smith\n25\n\n78\n\n\n\n\n\n\n\n\n\n\n\n\n\n\n\n\n\n\n\n\n\n\n\n101 played\n\n\n\n\n\n\n\n\n\n\n\n\n\n2 cards not returned
URL:https://www.beaverstown.com/event/may-medal/
CATEGORIES:Mens Event
END:VEVENT
BEGIN:VEVENT
DTSTART;TZID=Europe/London:20250525T080000
DTEND;TZID=Europe/London:20250525T170000
DTSTAMP:20260419T203535
CREATED:20250527T140730Z
LAST-MODIFIED:20250528T114754Z
UID:29143-1748160000-1748192400@www.beaverstown.com
SUMMARY:18 Hole Singles Stableford
DESCRIPTION:Prize\nScore\nName\nPlaying H’cap\n\n\n1st\n41pts\nTherese Carroll\n41\n\n\n2nd\n39pts\nMary Nolan\n33\n\n\n \n \n \n \n\n\n \n \n \n \n\n\n \n \n \n \n\n\n18 Played\n \n \n 
URL:https://www.beaverstown.com/event/18-hole-singles-stableford-7/
END:VEVENT
BEGIN:VEVENT
DTSTART;TZID=Europe/London:20250525T080000
DTEND;TZID=Europe/London:20250525T170000
DTSTAMP:20260419T203535
CREATED:20250528T161244Z
LAST-MODIFIED:20250528T161244Z
UID:29149-1748160000-1748192400@www.beaverstown.com
SUMMARY:18 Hole Singles Stableford
DESCRIPTION:1st\n41pts\nTherese Carroll\n41\n\n\n2nd\n39pts\nMary Nolan\n33
URL:https://www.beaverstown.com/event/18-hole-singles-stableford-8/
CATEGORIES:Ladies-Event
END:VEVENT
BEGIN:VEVENT
DTSTART;VALUE=DATE:20250526
DTEND;VALUE=DATE:20250527
DTSTAMP:20260419T203535
CREATED:20250526T184012Z
LAST-MODIFIED:20250526T184012Z
UID:29141-1748217600-1748303999@www.beaverstown.com
SUMMARY:Mixed Open Singles Yellow
DESCRIPTION:Results Sheet\n\n\n\n\n\n\n\n\n\n\n\nDate :\nMonday 26 May\n\n\n\n\n\n\n\n\n\n\nCompetition :\n18 Hole Open Singles Stableford\n\n\n\n\n\n\n\n\n\n\n\n\n\n\n\nPlace\nName\nPlaying Hcap\nScore\n\n\n\n\n\n\n\n\n1st\nMaurice Fallon\n13\n42 pts\n\n\n\n\n\n\n\n\n2nd\nAidan Rowsome\n3\n39 pts\n\n\n\n\n\n\n\n\n3rd\nAndy Collinge\n15\n38 pts  ob9\n\n\n\n\n\n\n\n\n\n\n\n\n\n\n\n\n\n\n\n\n\n\n\n\n\n\n\n\n\n\n\n\n\n\n\n\n\n\n16 members\n\n\n\n\n\n8 visitors
URL:https://www.beaverstown.com/event/mixed-open-singles-yellow/
CATEGORIES:Joint Event
END:VEVENT
BEGIN:VEVENT
DTSTART;TZID=Europe/London:20250527T080000
DTEND;TZID=Europe/London:20250527T170000
DTSTAMP:20260419T203535
CREATED:20250527T180126Z
LAST-MODIFIED:20250527T180126Z
UID:29145-1748332800-1748365200@www.beaverstown.com
SUMMARY:9 Hole Single Stableford
DESCRIPTION:  \n\n\n\nPrize\nScore\nName\nPlaying H’cap\n\n\nFirst\n20\nJennifer Buggle\n14\n\n\n \n \n \n \n\n\n \n \n \n \n\n\n \n \n \n \n\n\n \n \n \n \n\n\n \n \n \n \n\n\n8 Played\n \n \n 
URL:https://www.beaverstown.com/event/9-hole-single-stableford/
CATEGORIES:Ladies-Event
END:VEVENT
BEGIN:VEVENT
DTSTART;TZID=Europe/London:20250527T080000
DTEND;TZID=Europe/London:20250527T170000
DTSTAMP:20260419T203535
CREATED:20250529T133105Z
LAST-MODIFIED:20250529T133105Z
UID:29152-1748332800-1748365200@www.beaverstown.com
SUMMARY:May Medal
DESCRIPTION:Prize\nScore\nName\nPlaying \nHcap\n\n\nSilver Medal \nHI <20\n77\nTracy Kelly\n20\n\n\nBronze Medal \nHI >20.1\n73\nSheila Dunne\n23\n\n\n \n \n \n \n\n\n \n \n \n \n\n\n \n \n \n \n\n\n \n \n \n \n\n\n \n \n \n \n\n\n \n \n \n \n\n\n \n \n \n \n\n\n \n \n \n \n\n\n24 Played\n \n \n 
URL:https://www.beaverstown.com/event/may-medal-2/
CATEGORIES:Ladies-Event
END:VEVENT
BEGIN:VEVENT
DTSTART;VALUE=DATE:20250528
DTEND;VALUE=DATE:20250529
DTSTAMP:20260419T203535
CREATED:20250604T164243Z
LAST-MODIFIED:20250604T164243Z
UID:29183-1748390400-1748476799@www.beaverstown.com
SUMMARY:Wednesday 4 Man Team
DESCRIPTION:Results Sheet\n\n\n\n\n\n\n\n\n\n\n\nDate :\n28th of May 2025\n\n\n\n\n\n\n\n\n\n\nCompetition :\n4 Man Team – Reverse Waltz\n\n\n\n\n\n\n\n\n\n\n\n\n\n\n\nPlace\nName\nPlaying Hcap\nScore\n\n\n\n\n\n\n\n\nWinners\nPat McCormack\n7\n84.5pts\n\n\n\nRonnie Clifford\n14\n\n\n\n\nIvan O’Toole\n20\n\n\n\n\nLenny O’Donnell\n22\n\n\n\n\n\n\n\n\n\n\n\n\n\n\n\n\n\n\n\n\n\nSecond\nDanny Relihan\n13\n84pts\n\n\n\nEddie Byrne\n18\n\n\n\n\nRichard Kiely\n14\n\n\n\n\nJimmy Deneher\n14\n\n\n\n\n\n\n\n\n\n\n\n\n\n\n\nThird\nAidan Smith\n22\n83pts\n\n\n\nTom Prendeville\n22\n\n\n\n\nJohn McKenna\n12\n\n\n\n\nEamonn Coffey\n30\n\n\n\n\n\n\n\n\n\n\n\n\n\n\n\nBack 9\nTom Barber\n13\n46pts\n\n\n\nMick Fitzpatrick\n24\n\n\n\n\nBarry Kirwan\n15\n\n\n\n\nGeorge Moore\n14\n\n\n\n\n\n\n\n\n\n94 Played
URL:https://www.beaverstown.com/event/wednesday-4-man-team-24/
CATEGORIES:Mens Event
END:VEVENT
BEGIN:VEVENT
DTSTART;TZID=Europe/London:20250529T150000
DTEND;TZID=Europe/London:20250529T190000
DTSTAMP:20260419T203535
CREATED:20250606T105900Z
LAST-MODIFIED:20250606T105900Z
UID:29191-1748530800-1748545200@www.beaverstown.com
SUMMARY:9 Hole Invitational
DESCRIPTION:Results Sheet\n\n\n\n\n\n\n\n\n\n\n\nDate :\nThursday 29 May 2025\n\n\n\n\n\n\n\n\n\n\nCompetition :\n9 Hole Invitational Stableford\n\n\n\n\n\n\n\n\n\n\n\n\n\n\n\n\nPlace\nName\nPlaying Hcap\nScore\n\n\n\n\n\n\n\n\n1st\nDave Kavanagh\n5\n22pts\n\n\n2nd\nBrian Lennon\n6\n21pts\n\n\n3rd\nMichael Keyes\n7\n20pts\n\n\n\n\n\n\n\n\n15 cards returned
URL:https://www.beaverstown.com/event/9-hole-invitational-3/
CATEGORIES:Joint Event
END:VEVENT
BEGIN:VEVENT
DTSTART;VALUE=DATE:20250531
DTEND;VALUE=DATE:20250601
DTSTAMP:20260419T203535
CREATED:20250601T124710Z
LAST-MODIFIED:20250601T124710Z
UID:29163-1748649600-1748735999@www.beaverstown.com
SUMMARY:2 Man Team 4ball betterball
DESCRIPTION:Results Sheet\n\n\n\n\n\n\n\n\n\n\n\nDate :\nSaturday 31 May 25\n\n\n\n\n\n\n\n\n\n\nCompetition :\n2 Man Team\, 4 ball betterball\n\n\n\n\n\n\n\n\n\n\n\n\n\n\n\n\nPlace\nName\nPlaying Hcap\nScore\n\n\n\n\n\n\n\n\n1st\nPeter Gallagher / Tom Kelly\n20 / 12\n43 pts\n\n\n\n\n\n\n\n\n2nd\nPaul O’Driscoll / Philip O’Driscoll\n15 / 3\n42 pts\n\n\n\n\n\n\n\n\n3rd\nPat Hayden / Danny Relihan\n11 / 12\n41 pts ob9 19\n\n\n\n\n\n\n\n\n\n\n\n\n\n\n\n\n\n\n\n\n\n\n\n\n\n\n\n\n\n\n\n\n\n\n\n\n\n\n44 played
URL:https://www.beaverstown.com/event/2-man-team-4ball-betterball/
CATEGORIES:Mens Event
END:VEVENT
BEGIN:VEVENT
DTSTART;VALUE=DATE:20250601
DTEND;VALUE=DATE:20250602
DTSTAMP:20260419T203535
CREATED:20250601T214328Z
LAST-MODIFIED:20250602T165438Z
UID:29166-1748736000-1748822399@www.beaverstown.com
SUMMARY:President's Prize
DESCRIPTION:Results Sheet\n\n\n\n\n\n\n\n\n\n\n\nDate :\nSunday 01 Jun 2025\n\n\n\n\n\n\n\n\n\n\nCompetition :\nPresident’s Prize (GOY)\n\n\n\n\n\n\n\n\n\n\n\n\n\n\n\n\n\n\n\n\n\n\nPlace\nName\nPlaying Hcap\nScore\n\n\n\n\n\n\n\n\n1st\nPat Dunne\n13\n39pts ob9\n\n\n2nd\nDermot Molphy\n22\n39 pts\n\n\n3rd\nKieran Lawlor\n5\n37pts\n\n\n\n\n\n\n\n\nGross\nGary Lawlor\n3\n77\n\n\n\n\n\n\n\n\nDiv 1  1st (0-11)\nPat McCormack\n9\n37pts\n\n\nDiv 2  1st (12-16)\nBrian Lennon\n13\n36pts\n\n\nDiv 3  1st (17-21)\nAndrew Byrne\n19\n37pts\n\n\nDiv 4  1st (22+)\nBrian Lynch\n29\n34pts\n\n\n\n\n\n\n\n\nPast Presidents\nEvelyn Bannon\n33\n29pts\n\n\n\n\n\n\n\n\n115 played\n\n\n\n\n\n\n\n\n\n\n\n2 cards not returned
URL:https://www.beaverstown.com/event/presidents-prize/
CATEGORIES:Mens Event
END:VEVENT
BEGIN:VEVENT
DTSTART;TZID=Europe/London:20250601T080000
DTEND;TZID=Europe/London:20250601T170000
DTSTAMP:20260419T203535
CREATED:20250603T163356Z
LAST-MODIFIED:20250603T163356Z
UID:29175-1748764800-1748797200@www.beaverstown.com
SUMMARY:President's Prize to Ladies
DESCRIPTION:Prize\nScore\nName\nPlaying \nHcap\n\n\n1st Prize\n39\nNoirín McMahon\n28\n\n\n2nd Prize\n38\nLiz Gorman\n31\n\n\nGross\n19\nMandy Stewart\n14\n\n\nDivision 1\n33\nCiara McCormack\n16\n\n\nDivision 2\n36\nEileen Meaney\n28\n\n\nDivision 3\n32\nTherese Carroll\n38\n\n\n \n \n \n \n\n\n \n \n \n \n\n\n38 Played\n \n \n 
URL:https://www.beaverstown.com/event/presidents-prize-to-ladies/
CATEGORIES:Ladies-Event
END:VEVENT
BEGIN:VEVENT
DTSTART;VALUE=DATE:20250602
DTEND;VALUE=DATE:20250603
DTSTAMP:20260419T203535
CREATED:20250602T170252Z
LAST-MODIFIED:20250602T170252Z
UID:29169-1748822400-1748908799@www.beaverstown.com
SUMMARY:President's Prize 5 Day Men
DESCRIPTION:Results Sheet\n\n\n\n\n\n\n\n\n\n\n\nDate :\nMonday 02 June 2025\n\n\n\n\n\n\n\n\n\n\nCompetition :\nPresident’s Prize 5 Day Men (GOY)\n\n\n\n\n\n\n\n\n\n\n\n\n\n\n\nPlace\nName\nPlaying Hcap\nScore\n\n\n\n\n\n\n\n\n1st\nKieron Murphy\n23\n37pts ob9\n\n\n\n\n\n\n\n\n2nd\nPatrick Howlett\n24\n37pts\n\n\n\n\n\n\n\n\n\n\n\n\n\n\n\n\n\n\n\n\n\n\n\n\n\n\n\n\n\n\n\n\n19 played
URL:https://www.beaverstown.com/event/presidents-prize-5-day-men/
CATEGORIES:Five Day Members,Mens Event
END:VEVENT
BEGIN:VEVENT
DTSTART;VALUE=DATE:20250602
DTEND;VALUE=DATE:20250603
DTSTAMP:20260419T203535
CREATED:20250602T172903Z
LAST-MODIFIED:20250602T172903Z
UID:29171-1748822400-1748908799@www.beaverstown.com
SUMMARY:Mixed Open Singles
DESCRIPTION:Results Sheet\n\n\n\n\n\n\n\n\n\n\n\nDate :\nMonday 02 June 2025\n\n\n\n\n\n\n\n\n\n\nCompetition :\n18 Hole Open Singles Stableford\n\n\n\n\n\n\n\n\n\n\n\n\n\n\n\nPlace\nName\nPlaying Hcap\nScore\n\n\n\n\n\n\n\n\n1st Div 2\nTom Barber\n13\n41pts\n\n\n2nd Div 2\nGary Kenna\n13\n37pts ob9\n\n\n3rd Div 2\nMichael Keyes\n14\n37pts\n\n\n\n\n\n\n\n\n1st Div 3\nMichael Fitzpatrick\n26\n41pts\n\n\n2nd Div 3\nLaurence O’Brien\n27\n36pts\n\n\n3rd Div 3\nMaeve Lambe (V)\n19\n34pts\n\n\n\n\n\n\n\n\n\n\n\n\n\n\n\n\n\n\n\n\n40 members\n\n\n\n\n\n4 visitors
URL:https://www.beaverstown.com/event/mixed-open-singles/
CATEGORIES:Joint Event
END:VEVENT
BEGIN:VEVENT
DTSTART;TZID=Europe/London:20250603T080000
DTEND;TZID=Europe/London:20250603T170000
DTSTAMP:20260419T203535
CREATED:20250603T163126Z
LAST-MODIFIED:20250603T163126Z
UID:29173-1748937600-1748970000@www.beaverstown.com
SUMMARY:18 Holes S/F
DESCRIPTION:Prize\nScore\nName\nPlaying \nHcap\n\n\nDivision 1\n33\nSheila Dowling\n19\n\n\nDivision 2\n34\nMary Murray\n27\n\n\nDivision 3\n31\nLiz Brett\n41\n\n\n \n \n \n \n\n\n \n \n \n \n\n\n30 Played\n \n \n 
URL:https://www.beaverstown.com/event/18-holes-s-f/
CATEGORIES:Ladies-Event
END:VEVENT
BEGIN:VEVENT
DTSTART;TZID=Europe/London:20250603T080000
DTEND;TZID=Europe/London:20250603T170000
DTSTAMP:20260419T203535
CREATED:20250603T164142Z
LAST-MODIFIED:20250603T164142Z
UID:29177-1748937600-1748970000@www.beaverstown.com
SUMMARY:President's Prize to 5 Day Ladies
DESCRIPTION:Prize\nScore\nName\nPlaying \nHcap\n\n\n1st Place\n32\nAlice O’Connor\n49\n\n\n \n \n \n \n\n\n \n \n \n \n\n\n12 Played\n \n \n 
URL:https://www.beaverstown.com/event/presidents-prize-to-5-day-ladies/
CATEGORIES:Ladies-Event
END:VEVENT
BEGIN:VEVENT
DTSTART;TZID=Europe/London:20250603T080000
DTEND;TZID=Europe/London:20250603T170000
DTSTAMP:20260419T203535
CREATED:20250604T142840Z
LAST-MODIFIED:20250604T142840Z
UID:29179-1748937600-1748970000@www.beaverstown.com
SUMMARY:President's Prize 9 Hole
DESCRIPTION:Prize\nScore\nName\nPlaying H’cap\n\n\nFirst\n20\nCaroline Comerford\n20\n\n\n \n \n \n \n\n\n \n \n \n \n\n\n \n \n \n \n\n\n \n \n \n \n\n\n \n \n \n \n\n\n10 Played\n \n \n 
URL:https://www.beaverstown.com/event/presidents-prize-9-hole/
CATEGORIES:Ladies-Event
END:VEVENT
BEGIN:VEVENT
DTSTART;VALUE=DATE:20250604
DTEND;VALUE=DATE:20250605
DTSTAMP:20260419T203535
CREATED:20250604T174459Z
LAST-MODIFIED:20250604T174459Z
UID:29185-1748995200-1749081599@www.beaverstown.com
SUMMARY:Wednesday 4 Man Team
DESCRIPTION:Results Sheet\n\n\n\n\n\n\n\n\n\n\n\n\n\nDate :\n4th of June 2025\n\n\n\n\n\n\n\n\n\n\n\n\nCompetition :\n4 Man Team – 3 on par 5s\n\n\n\n\n\n\n\n\n\n\n\n\n\n\n\n\n\n\nPlace\nName\nPlaying Hcap\nScore\n\n\n\n\n\n\n\n\n\n\nWinners\nPeter Ferrari\n11\n91pts\n\n\n\n\nGerry O’Connor\n17\n\n\n\n\n\nHarry Keegan\n24\n\n\n\n\n\nMartin McDonnell\n11\n\n\n\n\n\n\n\n\n\n\n\n\n\n\n\n\n\n\n\n\n\n\n\n\n\nSecond\nPaul O’Driscoll\n16\n88pts 45b9\n\n\n\n\nMartin Gillett\n15\n\n\n\n\n\nDermot Molphy\n19\n\n\n\n\n\nJim Weinmann\n10\n\n\n\n\n\n\n\n\n\n\n\n\n\n\n\n\n\n\nThird\nHugh McGovern\n12\n88pts 44 b9\n\n\n\n\nAidan O’Kennedy\n11\n\n\n\n\n\nHenry O’Brien\n17\n\n\n\n\n\nJim Reilly\n26\n\n\n\n\n\n\n\n\n\n\n\n\n\n\n\n\n\n\nBack 9\nBrian Lynch\n26\n42pts 16b3\n\n\n\n\nTom Masterson\n10\n\n\n\n\n\nSean McDermott\n9\n\n\n\n\n\nRonan MacDermott\n13\n\n\n\n\n\n\n\n\n\n\n\n86 Members\n\n\n\n\n\n\n6 Visitors
URL:https://www.beaverstown.com/event/wednesday-4-man-team-25/
CATEGORIES:Mens Event
END:VEVENT
BEGIN:VEVENT
DTSTART;TZID=Europe/London:20250605T150000
DTEND;TZID=Europe/London:20250605T190000
DTSTAMP:20260419T203535
CREATED:20250606T110110Z
LAST-MODIFIED:20250606T110110Z
UID:29193-1749135600-1749150000@www.beaverstown.com
SUMMARY:9 Hole Invitational
DESCRIPTION:Results Sheet\n\n\n\n\n\n\n\n\n\n\n\nDate :\nThursday 05 Jun 2025\n\n\n\n\n\n\n\n\n\n\nCompetition :\n9 Hole Invitational Stableford\n\n\n\n\n\n\n\n\n\n\n\n\n\n\n\n\nPlace\nName\nPlaying Hcap\nScore\n\n\n\n\n\n\n\n\n1st\nBrian Lennon\n6\n22pts\n\n\n2nd\nPaul Carrick\n4\n22pts\n\n\n3rd\nTerry Flanagan\n12\n21pts\n\n\n\n\n\n\n\n\n33 cards returned
URL:https://www.beaverstown.com/event/9-hole-invitational-4/
CATEGORIES:Joint Event
END:VEVENT
BEGIN:VEVENT
DTSTART;VALUE=DATE:20250607
DTEND;VALUE=DATE:20250608
DTSTAMP:20260419T203535
CREATED:20250608T112911Z
LAST-MODIFIED:20250608T112911Z
UID:29198-1749254400-1749340799@www.beaverstown.com
SUMMARY:Saturday Singles Stableford
DESCRIPTION:Results Sheet\n\n\n\n\n\n\n\n\n\n\n\nDate :\nSaturday 07 June 2025\n\n\n\n\n\n\n\n\n\n\nCompetition :\n18 Hole Singles Stableford\n\n\n\n\n\n\n\n\n\n\n\n\n\n\n\n\nPlace\nName\nPlaying Hcap\nScore\n\n\n\n\n\n\n\n\n1st\nPeter Ferrari\n12\n39pts\n\n\n\n\n\n\n\n\n2nd\nAidan Rowsome\n2\n37pts\n\n\n\n\n\n\n\n\n3rd\nMichael Keyes\n13\n35pts ob19 19\n\n\n\n\n\n\n\n\n4th\nMark Seagrave\n29\n35pts ob9 15\n\n\n\n\n\n\n\n\n\n\n\n\n\n\n\n\n\n\n\n\n38 played
URL:https://www.beaverstown.com/event/saturday-singles-stableford-4/
CATEGORIES:Mens Event
END:VEVENT
BEGIN:VEVENT
DTSTART;TZID=Europe/London:20250607T080000
DTEND;TZID=Europe/London:20250607T170000
DTSTAMP:20260419T203535
CREATED:20250607T202126Z
LAST-MODIFIED:20250607T202126Z
UID:29196-1749283200-1749315600@www.beaverstown.com
SUMMARY:Lady Vice Captain Mairéad's Prize
DESCRIPTION:Prize\nScore\nName\nH’cap\n\n\n1st\n40 pts\nCiara McCormack\n16\n\n\n2nd \n36 pts ocb\nLouise Brown\n37\n\n\nGross \n \n18 pts\nEmer McMahon\n16\n\n\n3rd \n36 pts ocb\nMarjorie McCann\n24\n\n\nCat 1 – 1st \n \n36 pts\nSheila Dowling\n19\n\n\nCat 2 – 1st \n \n36 pts\nNóirín McMahon\n27\n\n\nCat 3 – 1st \n \n33 pts\nJoan Halpin\n35\n\n\nFront 9 \n \n22 pts ocb\nLiz Brett\n41\n\n\nBack 9 \n \n17 pts ocb\nClaire Gallagher\n43\n\n\nNearest the pin\n7th\nEmer Manton\n238cm\n\n\nNearest the pin\n17th\nLouise Brown Hole in One\n0 cm
URL:https://www.beaverstown.com/event/lady-vice-captain-maireads-prize/
CATEGORIES:Ladies-Event
END:VEVENT
BEGIN:VEVENT
DTSTART;VALUE=DATE:20250608
DTEND;VALUE=DATE:20250609
DTSTAMP:20260419T203535
CREATED:20250609T103440Z
LAST-MODIFIED:20250609T103440Z
UID:29206-1749340800-1749427199@www.beaverstown.com
SUMMARY:Professional's Prize
DESCRIPTION:Results Sheet\n\n\n\n\n\n\n\n\n\n\n\nDate :\nSunday 08 Jun 2025\n\n\n\n\n\n\n\n\n\n\nCompetition :\nProfessional’s Prize (GOY)\n\n\n\n\n\n\n\n\n\n\n\n\n\n\n\n\n\n\n\n\n\n\nPlace\nName\nPlaying Hcap\nScore\n\n\n\n\n\n\n\n\n1st\nKarl Byrne\n11\n41pts\n\n\n2nd\nDave Kavanagh\n12\n40pts\n\n\n3rd\nJoe Egan\n8\n38pts\n\n\n4th\nAndrew Pyne\n18\n38pts\n\n\n5th\nJohn KK Nolan\n14\n37pts\n\n\n\n\n\n\n\n\nGross\nAidan Rowsome\n3\n73\n\n\n\n\n\n\n\n\n\n\n\n\n\n\n155 played\n\n\n\n\n\n\n\n\n\n\n\n7 cards not returned
URL:https://www.beaverstown.com/event/professionals-prize/
CATEGORIES:Mens Event
END:VEVENT
BEGIN:VEVENT
DTSTART;TZID=Europe/London:20250608T080000
DTEND;TZID=Europe/London:20250608T170000
DTSTAMP:20260419T203535
CREATED:20250608T203935Z
LAST-MODIFIED:20250608T203935Z
UID:29201-1749369600-1749402000@www.beaverstown.com
SUMMARY:Professional's Prize to 7 Day Members
DESCRIPTION:Prize\nScore\nName\nH’cap\n\n\n1st\n37pts\nTracy Kelly\n20\n\n\n2nd \n \n33pts (ocb)\nSusan Barber\n35\n\n\nGross \n \n18pts\nCiara McCormack\n15\n\n\n3rd \n \n33pts\nChloe Flanagan\n19\n\n\nClosest to pin hole 7\n283cms\nMandy Stewart\n \n\n\n \n \n \n \n\n\n \n \n \n \n\n\n \n \n \n \n\n\n23 played\n \n \n 
URL:https://www.beaverstown.com/event/professionals-prize-to-7-day-members/
CATEGORIES:Ladies-Event
END:VEVENT
BEGIN:VEVENT
DTSTART;VALUE=DATE:20250609
DTEND;VALUE=DATE:20250610
DTSTAMP:20260419T203535
CREATED:20250609T161043Z
LAST-MODIFIED:20250609T161043Z
UID:29215-1749427200-1749513599@www.beaverstown.com
SUMMARY:Professional's Prize for 5 Day Members
DESCRIPTION:Results Sheet\n\n\n\n\n\n\n\n\n\n\n\nDate :\nMonday 09 Jun 2025\n\n\n\n\n\n\n\n\n\n\nCompetition :\nProfessional’s Prize for 5 Day Members (GOY)\n\n\n\n\n\n\n\n\n\n\n\n\n\n\n\n\n\n\n\n\n\n\nPlace\nName\nPlaying Hcap\nScore\n\n\n\n\n\n\n\n\n1st\nPaddy Howlett\n22\n38pts\n\n\n2nd\nNoel Carroll\n13\n37pts\n\n\n3rd\nConor Magee\n12\n36pts\n\n\n\n\n\n\n\n\n\n\n\n\n\n\n\n\n\n\n\n\n26 played
URL:https://www.beaverstown.com/event/professionals-prize-for-5-day-members/
CATEGORIES:Five Day Members,Mens Event
END:VEVENT
END:VCALENDAR