
BEGIN:VCALENDAR
VERSION:2.0
PRODID:-//Beaverstown Golf Club - ECPv6.15.20//NONSGML v1.0//EN
CALSCALE:GREGORIAN
METHOD:PUBLISH
X-WR-CALNAME:Beaverstown Golf Club
X-ORIGINAL-URL:https://www.beaverstown.com
X-WR-CALDESC:Events for Beaverstown Golf Club
REFRESH-INTERVAL;VALUE=DURATION:PT1H
X-Robots-Tag:noindex
X-PUBLISHED-TTL:PT1H
BEGIN:VTIMEZONE
TZID:Europe/London
BEGIN:DAYLIGHT
TZOFFSETFROM:+0000
TZOFFSETTO:+0100
TZNAME:BST
DTSTART:20240331T010000
END:DAYLIGHT
BEGIN:STANDARD
TZOFFSETFROM:+0100
TZOFFSETTO:+0000
TZNAME:GMT
DTSTART:20241027T010000
END:STANDARD
BEGIN:DAYLIGHT
TZOFFSETFROM:+0000
TZOFFSETTO:+0100
TZNAME:BST
DTSTART:20250330T010000
END:DAYLIGHT
BEGIN:STANDARD
TZOFFSETFROM:+0100
TZOFFSETTO:+0000
TZNAME:GMT
DTSTART:20251026T010000
END:STANDARD
BEGIN:DAYLIGHT
TZOFFSETFROM:+0000
TZOFFSETTO:+0100
TZNAME:BST
DTSTART:20260329T010000
END:DAYLIGHT
BEGIN:STANDARD
TZOFFSETFROM:+0100
TZOFFSETTO:+0000
TZNAME:GMT
DTSTART:20261025T010000
END:STANDARD
END:VTIMEZONE
BEGIN:VEVENT
DTSTART;TZID=Europe/London:20250608T080000
DTEND;TZID=Europe/London:20250608T170000
DTSTAMP:20260420T044658
CREATED:20250608T203935Z
LAST-MODIFIED:20250608T203935Z
UID:29201-1749369600-1749402000@www.beaverstown.com
SUMMARY:Professional's Prize to 7 Day Members
DESCRIPTION:Prize\nScore\nName\nH’cap\n\n\n1st\n37pts\nTracy Kelly\n20\n\n\n2nd \n \n33pts (ocb)\nSusan Barber\n35\n\n\nGross \n \n18pts\nCiara McCormack\n15\n\n\n3rd \n \n33pts\nChloe Flanagan\n19\n\n\nClosest to pin hole 7\n283cms\nMandy Stewart\n \n\n\n \n \n \n \n\n\n \n \n \n \n\n\n \n \n \n \n\n\n23 played\n \n \n 
URL:https://www.beaverstown.com/event/professionals-prize-to-7-day-members/
CATEGORIES:Ladies-Event
END:VEVENT
BEGIN:VEVENT
DTSTART;VALUE=DATE:20250609
DTEND;VALUE=DATE:20250610
DTSTAMP:20260420T044658
CREATED:20250609T161043Z
LAST-MODIFIED:20250609T161043Z
UID:29215-1749427200-1749513599@www.beaverstown.com
SUMMARY:Professional's Prize for 5 Day Members
DESCRIPTION:Results Sheet\n\n\n\n\n\n\n\n\n\n\n\nDate :\nMonday 09 Jun 2025\n\n\n\n\n\n\n\n\n\n\nCompetition :\nProfessional’s Prize for 5 Day Members (GOY)\n\n\n\n\n\n\n\n\n\n\n\n\n\n\n\n\n\n\n\n\n\n\nPlace\nName\nPlaying Hcap\nScore\n\n\n\n\n\n\n\n\n1st\nPaddy Howlett\n22\n38pts\n\n\n2nd\nNoel Carroll\n13\n37pts\n\n\n3rd\nConor Magee\n12\n36pts\n\n\n\n\n\n\n\n\n\n\n\n\n\n\n\n\n\n\n\n\n26 played
URL:https://www.beaverstown.com/event/professionals-prize-for-5-day-members/
CATEGORIES:Five Day Members,Mens Event
END:VEVENT
BEGIN:VEVENT
DTSTART;VALUE=DATE:20250609
DTEND;VALUE=DATE:20250610
DTSTAMP:20260420T044658
CREATED:20250610T224241Z
LAST-MODIFIED:20250610T224241Z
UID:29227-1749427200-1749513599@www.beaverstown.com
SUMMARY:Mixed Open Singles
DESCRIPTION:Results Sheet\n\n\n\n\n\n\n\n\n\n\n\nDate :\nMonday 09 June 2025\n\n\n\n\n\n\n\n\n\n\nCompetition :\n18 Hole Open Singles Stableford\n\n\n\n\n\n\n\n\n\n\n\n\n\n\n\nPlace\nName\nPlaying Hcap\nScore\n\n\n\n\n\n\n\n\n1st Div 2\nPeter Ferrari\n12\n38 pts\n\n\n2nd Div 2\nPatrick Cassidy\n17\n40 pts\n\n\n\n\n\n\n\n\n1st Div 3\nPeter Gallagher\n24\n37 pts\n\n\n2nd Div 3\nMichael Fitzpatrick\n27\n36 pts\n\n\n\n\n\n\n\n\n\n\n\n\n\n\n\n\n\n\n\n\n23 Members\n\n\n\n\n\n23 Visitors
URL:https://www.beaverstown.com/event/mixed-open-singles-2/
CATEGORIES:Joint Event
END:VEVENT
BEGIN:VEVENT
DTSTART;TZID=Europe/London:20250610T080000
DTEND;TZID=Europe/London:20250610T170000
DTSTAMP:20260420T044658
CREATED:20250610T162153Z
LAST-MODIFIED:20250610T162153Z
UID:29219-1749542400-1749574800@www.beaverstown.com
SUMMARY:Professional's Prize to 5 Day Ladies
DESCRIPTION:Prize\nScore\nName\nH’cap\n\n\n1st\n31 pts\nNuala Free\n41
URL:https://www.beaverstown.com/event/professionals-prize-to-5-day-ladies/
CATEGORIES:Ladies-Event
END:VEVENT
BEGIN:VEVENT
DTSTART;TZID=Europe/London:20250610T080000
DTEND;TZID=Europe/London:20250610T170000
DTSTAMP:20260420T044658
CREATED:20250610T162237Z
LAST-MODIFIED:20250610T162237Z
UID:29221-1749542400-1749574800@www.beaverstown.com
SUMMARY:18 Hole Stableford
DESCRIPTION:Prize\nScore\nName\nPlaying H’cap\n\n\n1st\n37pts\nMary Kirwan\n41\n\n\n2nd\n36 pts\nEileen Meaney\n27
URL:https://www.beaverstown.com/event/18-hole-stableford-9/
CATEGORIES:Ladies-Event
END:VEVENT
BEGIN:VEVENT
DTSTART;VALUE=DATE:20250611
DTEND;VALUE=DATE:20250612
DTSTAMP:20260420T044658
CREATED:20250612T163758Z
LAST-MODIFIED:20250612T163758Z
UID:29236-1749600000-1749686399@www.beaverstown.com
SUMMARY:Wednesday 4 Man Team waltz
DESCRIPTION:Results Sheet\n\n\n\n\n\n\n\n\n\n\n\n\n\nDate :\n11th of June 2025\n\n\n\n\n\n\n\n\n\n\n\n\nCompetition :\n4 Man Team – Waltz\n\n\n\n\n\n\n\n\n\n\n\n\n\n\n\n\n\n\n\nPlace\nName\nPlaying Hcap\nScore\n\n\n\n\n\n\n\n\n\n\nWinners\nFrank O’Moore\n12\n86pts 44b9\n\n\n\n\nPatrick Howlett\n20\n(-2)\n\n\n\n\nRay Hickey\n16\n\n\n\n\n\nGreg McCarry\n20\n\n\n\n\n\n\n\n\n\n\n\n\n\n\n\n\n\n\n\n\n\n\n\n\n\nSecond\nTom Barber\n11\n86pts\n\n\n\n\nMick Fitzpatrick\n24\n\n\n\n\n\nGeorge Moore\n14\n\n\n\n\n\nBarry Kirwan\n15\n\n\n\n\n\n\n\n\n\n\n\n\n\n\n\n\n\n\nThird\nDanny Relihan\n13\n85pts\n\n\n\n\nJimmy Deneher\n14\n(-2)\n\n\n\n\nRichard Kiely\n14\n\n\n\n\n\nEddie Byrne\n19\n\n\n\n\n\n\n\n\n\n\n\n\n\n\n\n\n\n\nBack 9\nTrevor Russell\n8\n43pts\n\n\n\n\nVincent Arkins\n10\n\n\n\n\n\nMaurice Fallon\n9\n\n\n\n\n\nDavid Thornberry\n13\n\n\n\n\n\n\n\n\n\n\n\n85 Members\n\n\n\n\n\n\n9 Visitors
URL:https://www.beaverstown.com/event/wednesday-4-man-team-waltz/
CATEGORIES:Mens Event
END:VEVENT
BEGIN:VEVENT
DTSTART;TZID=Europe/London:20250612T150000
DTEND;TZID=Europe/London:20250612T190000
DTSTAMP:20260420T044658
CREATED:20250616T101156Z
LAST-MODIFIED:20250616T101156Z
UID:29245-1749740400-1749754800@www.beaverstown.com
SUMMARY:9 Hole Invitational
DESCRIPTION:Results Sheet\n\n\n\n\n\n\n\n\n\n\n\nDate :\nThursday 12 Jun 2025\n\n\n\n\n\n\n\n\n\n\nCompetition :\n9 Hole Invitational Stableford\n\n\n\n\n\n\n\n\n\n\n\n\n\n\n\n\nPlace\nName\nPlaying Hcap\nScore\n\n\n\n\n\n\n\n\n1st\nDean Styles\n5\n19pts\n\n\n2nd\nDaniel Corr\n10\n19pts\n\n\n3rd\nTerry Flanagan\n12\n18pts\n\n\n\n\n\n\n\n\n16 played / 10 cards returned
URL:https://www.beaverstown.com/event/9-hole-invitational-5/
CATEGORIES:Joint Event
END:VEVENT
BEGIN:VEVENT
DTSTART;VALUE=DATE:20250615
DTEND;VALUE=DATE:20250616
DTSTAMP:20260420T044658
CREATED:20250616T101329Z
LAST-MODIFIED:20250616T101329Z
UID:29247-1749945600-1750031999@www.beaverstown.com
SUMMARY:Singles Stableford Yellow
DESCRIPTION:Results Sheet\n\n\n\n\n\n\n\n\n\n\n\nDate :\nSunday 15 Jun 2025\n\n\n\n\n\n\n\n\n\n\nCompetition :\n18 Hole Singles Stableford\n\n\n\n\n\n\n\n\n\n\n\n\n\n\n\n\nPlace\nName\nPlaying Hcap\nScore\n\n\n\n\n\n\n\n\n1st Div 1\nJames Fleming\n10\n41pts\n\n\n2nd Div 1\nPaul Nimmo\n9\n38pts\n\n\n3rd Div 1\nMaurice Fallon\n10\n36pts ob9\n\n\n\n\n\n\n\n\n1st Div 2\nJimmy Deneher\n15\n38pts\n\n\n2nd Div 2\nAlan Sexton\n12\n36pts ob6\n\n\n3rd Div 2\nMichael Keyes\n13\n36pts\n\n\n\n\n\n\n\n\n1st Div 3\nThomas Sheridan\n21\n36pts ob9\n\n\n2nd Div 3\nCormac Goulding\n20\n36pts\n\n\n3rd Div 3\nMichael Diskin\n18\n35pts\n\n\n\n\n\n\n\n\n\n\n\n\n\n\n88 played\n\n\n\n\n\n88 cards returned
URL:https://www.beaverstown.com/event/singles-stableford-yellow-5/
CATEGORIES:Mens Event
END:VEVENT
BEGIN:VEVENT
DTSTART;TZID=Europe/London:20250615T080000
DTEND;TZID=Europe/London:20250615T170000
DTSTAMP:20260420T044658
CREATED:20250615T152357Z
LAST-MODIFIED:20250615T152357Z
UID:29239-1749974400-1750006800@www.beaverstown.com
SUMMARY:Ladies 18hole S/F
DESCRIPTION:Prize\nScore\nName\nPlaying H’cap\n\n\n1st\n34pts (ocb)\nTracy Kelly\n20\n\n\n2nd\n34pts\n  \nSiobhán Prout Dunleavy \n \n24\n\n\n \n \n \n \n\n\n \n \n \n \n\n\n \n \n \n \n\n\n13 Played\n \n \n 
URL:https://www.beaverstown.com/event/ladies-18hole-s-f/
CATEGORIES:Ladies-Event
END:VEVENT
BEGIN:VEVENT
DTSTART;VALUE=DATE:20250616
DTEND;VALUE=DATE:20250617
DTSTAMP:20260420T044658
CREATED:20250616T194750Z
LAST-MODIFIED:20250616T194750Z
UID:29249-1750032000-1750118399@www.beaverstown.com
SUMMARY:Mixed Open Singles Stableford
DESCRIPTION:Results Sheet\n\n\n\n\n\n\n\n\n\n\n\nDate :\nMixed Open Singles Stableford\n\n\n\n\n\n\n\n\n\nCompetition :\n18 Hole Open Singles Stableford\n\n\n\n\n\n\n\n\n\n\n\n\n\n\n\nPlace\nName\nPlaying Hcap\nScore\n\n\n\n\n\n\n\n\n\n\n\n\n\n\n1st Div 2\nPadraig Bannon\n13\n39pts\n\n\n2nd Div 2\nBrian Lennon\n12\n35pts\n\n\n\n\n\n\n\n\n1st Div 3\nMark Hughes\n21\n37pts\n\n\n2nd Div 3\nRay Hickey\n18\n36pts ob6\n\n\n\n\n\n\n\n\n\n\n\n\n\n\n\n\n\n\n\n\n40 Members\n\n\n\n\n\n6 Visitors\n\n\n\n\n\n46 signed in / 3 cards not returned
URL:https://www.beaverstown.com/event/mixed-open-singles-stableford-4/
CATEGORIES:Joint Event
END:VEVENT
BEGIN:VEVENT
DTSTART;TZID=Europe/London:20250617T080000
DTEND;TZID=Europe/London:20250617T170000
DTSTAMP:20260420T044658
CREATED:20250617T182315Z
LAST-MODIFIED:20250617T182315Z
UID:29252-1750147200-1750179600@www.beaverstown.com
SUMMARY:3 Lady Team Waltz
DESCRIPTION:Prize\nScore\nName\nPlaying H’cap\n\n\n1st\n75 pts\nTracy Kelly \nLouise Brown \nLiz Brett\n18 \n34 \n37\n\n\n2nd\n69 pts\nRosemary Buckley \nEmer McMahon \nMags Kelly\n22 \n15 \n25\n\n\n \n \n \n \n\n\n \n \n \n \n\n\n \n \n \n \n\n\n \n \n \n \n\n\n12 Teams played\n \n \n 
URL:https://www.beaverstown.com/event/3-lady-team-waltz-2/
CATEGORIES:Ladies-Event
END:VEVENT
BEGIN:VEVENT
DTSTART;TZID=Europe/London:20250617T080000
DTEND;TZID=Europe/London:20250617T170000
DTSTAMP:20260420T044658
CREATED:20250618T141709Z
LAST-MODIFIED:20250618T141709Z
UID:29254-1750147200-1750179600@www.beaverstown.com
SUMMARY:9 Hole Stableford
DESCRIPTION:Prize\nScore\nName\nPlaying H’cap\n\n\nFirst\n20 pts\nLinda Jones-Cowley\n29\n\n\nSecond\n19 pts\nCaroline Comerford\n19\n\n\n \n \n \n \n\n\n \n \n \n \n\n\n \n \n \n \n\n\n \n \n \n \n\n\n16 Played\n \n \n 
URL:https://www.beaverstown.com/event/9-hole-stableford-5/
CATEGORIES:Ladies-Event
END:VEVENT
BEGIN:VEVENT
DTSTART;VALUE=DATE:20250618
DTEND;VALUE=DATE:20250619
DTSTAMP:20260420T044658
CREATED:20250618T175302Z
LAST-MODIFIED:20250618T175323Z
UID:29257-1750204800-1750291199@www.beaverstown.com
SUMMARY:Wednesday 4 Man Team
DESCRIPTION:Results Sheet\n\n\n\n\n\n\n\n\n\n\n\n\n\nDate :\n18th of June 2025\n\n\n\n\n\n\n\n\n\n\n\n\nCompetition :\n4 Man Team – 3 on par 3s\n\n\n\n\n\n\n\n\n\n\n\n\n\n\n\n\n\n\nPlace\nName\nPlaying Hcap\nScore\n\n\n\n\n\n\n\n\n\n\nWinners\nPeter Gallagher\n21\n97pts\n\n\n\n\nDermot Brady\n22\n\n\n\n\n\nBrain Lennon\n10\n\n\n\n\n\nAndy Collinge\n12\n\n\n\n\n\n\n\n\n\n\n\n\n\n\n\n\n\n\n\n\n\n\n\n\n\nSecond\nDermot Molphy\n19\n96.5pts\n\n\n\n\nMartin Gillett\n16\n(-4.5)\n\n\n\n\nFrank McCabe\n17\n\n\n\n\n\nJay Nolan\n15\n\n\n\n\n\n\n\n\n\n\n\n\n\n\n\n\n\n\nThird\nAidan Smith\n22\n90pts 46b9\n\n\n\n\nTom Prendeville\n23\n\n\n\n\n\nJohn McKenna\n12\n\n\n\n\n\nEamon Coffey\n31\n\n\n\n\n\n\n\n\n\n\n\n\n\n\n\n\n\n\nBack 9\nMick Fitzpatrick\n23\n46pts 31b6\n\n\n\n\nConor Fitzpatrick\n7\n\n\n\n\n\nMax Russell\n9\n\n\n\n\n\nAlex Russell\n27\n\n\n\n\n\n\n\n\n\n\n\n88 Members\n\n\n\n\n\n\n12 Visitors
URL:https://www.beaverstown.com/event/wednesday-4-man-team-26/
CATEGORIES:Mens Event
END:VEVENT
BEGIN:VEVENT
DTSTART;TZID=Europe/London:20250619T150000
DTEND;TZID=Europe/London:20250619T190000
DTSTAMP:20260420T044658
CREATED:20250621T182806Z
LAST-MODIFIED:20250621T182806Z
UID:29265-1750345200-1750359600@www.beaverstown.com
SUMMARY:9 Hole Invitational
DESCRIPTION:Results Sheet\n\n\n\n\n\n\n\n\n\n\n\nDate :\nThursday 19 Jun 2025\n\n\n\n\n\n\n\n\n\n\nCompetition :\n9 Hole Invitational Stableford\n\n\n\n\n\n\n\n\n\n\n\n\n\n\n\n\nPlace\nName\nPlaying Hcap\nScore\n\n\n\n\n\n\n\n\n1st\nConnell McGovern\n8\n22 pts\n\n\n2nd\nGearoid Corrigan\n6\n22 pts\n\n\n3rd\nBrian P Kelly\n10\n21 pts\n\n\n\n\n\n\n\n\n49 played / 30 cards returned
URL:https://www.beaverstown.com/event/9-hole-invitational-6/
CATEGORIES:Joint Event
END:VEVENT
BEGIN:VEVENT
DTSTART;VALUE=DATE:20250621
DTEND;VALUE=DATE:20250622
DTSTAMP:20260420T044658
CREATED:20250621T183656Z
LAST-MODIFIED:20250711T083344Z
UID:29267-1750464000-1750550399@www.beaverstown.com
SUMMARY:Singles Stableford Yellow
DESCRIPTION:Results Sheet\n\n\n\n\n\n\n\n\n\n\n\nDate :\nSaturday 21 June 2025\n\n\n\n\n\n\n\n\n\n\nCompetition :\n18 Hole Singles Stableford\n\n\n\n\n\n\n\n\n\n\n\n\n\n\n\n\nPlace\nName\nPlaying Hcap\nScore\n\n\n\n\n\n\n\n\n1st Div 1\nAidan Rowsome\n1\n37pts\n\n\n2nd Div 1\nSean McDermott\n10\n35pts  ob9\n\n\n\n\n\n\n\n\n1st Div 2\nPhilip Maher\n18\n39pts\n\n\n2nd Div 2\nRonan MacDermott\n15\n37pts  ob6\n\n\n\n\n\n\n\n\n1st Div 3\nDavid Heraty\n30\n37pts\n\n\n2nd Div 3\nMark Seagrave\n29\n36pts\n\n\n\n\n\n\n\n\n\n\n\n\n\n\n\n\n\n\n\n\n56 played\n\n\n\n\n\n1 card not returned
URL:https://www.beaverstown.com/event/singles-stableford-yellow-6/
CATEGORIES:Mens Event
END:VEVENT
BEGIN:VEVENT
DTSTART;VALUE=DATE:20250622
DTEND;VALUE=DATE:20250623
DTSTAMP:20260420T044658
CREATED:20250622T210400Z
LAST-MODIFIED:20250622T210400Z
UID:29270-1750550400-1750636799@www.beaverstown.com
SUMMARY:June Medal
DESCRIPTION:Results Sheet\n\n\n\n\n\n\n\n\n\n\n\nDate :\nSunday 22 Jun 2025\n\n\n\n\n\n\n\n\n\n\nCompetition :\nJune Medal (GOY) (CQ)\n\n\n\n\n\n\n\n\n\n\n\n\n\n\n\n\nPlace\nName\nPlaying Hcap\nScore\n\n\n\n\n\n\n\n\n1st\nNeil Holohan\n16\n68\n\n\n2nd\nRonnie Clifford\n16\n70\n\n\n3rd\nPaul Stanley\n15\n71  ob9 37\n\n\n4th\nSean McDermott\n11\n71\n\n\n\n\n\n\n\n\nGross\nSean Dowling\n0\n77   ob9 38\n\n\n\n\n\n\n\n\nDiv 1 (0-11)\nPat McCormack\n8\n72\n\n\nDiv 2 (12-15)\nWilliam Higgins\n13\n71\n\n\nDiv 3 (16-20)\nConor Herbert\n19\n72\n\n\nDiv 4 (21 +)\nEddie Byrne\n22\n71\n\n\n\n\n\n\n\n\n138 played\n\n\n\n\n\n129 cards returned
URL:https://www.beaverstown.com/event/june-medal/
CATEGORIES:Mens Event
END:VEVENT
BEGIN:VEVENT
DTSTART;TZID=Europe/London:20250622T080000
DTEND;TZID=Europe/London:20250622T170000
DTSTAMP:20260420T044658
CREATED:20250624T160033Z
LAST-MODIFIED:20250624T160033Z
UID:29275-1750579200-1750611600@www.beaverstown.com
SUMMARY:Ladies 18 hole S/F
DESCRIPTION:Prize\nScore\nName\nPlaying H’cap\n\n\n1st\n40pts\nMargaret McInerney\n28\n\n\n2nd\n39 pts\nEileen Meaney\n26\n\n\n \n \n \n \n\n\n \n \n \n \n\n\n \n \n \n \n\n\n19 Played\n \n \n 
URL:https://www.beaverstown.com/event/ladies-18-hole-s-f/
CATEGORIES:Ladies-Event
END:VEVENT
BEGIN:VEVENT
DTSTART;VALUE=DATE:20250623
DTEND;VALUE=DATE:20250624
DTSTAMP:20260420T044658
CREATED:20250623T173736Z
LAST-MODIFIED:20250623T173736Z
UID:29272-1750636800-1750723199@www.beaverstown.com
SUMMARY:Mixed Open Singles Stableford
DESCRIPTION:Date :\nMonday 23 June 2025\n\n\n\n\n\n\n\n\n\n\nCompetition :\n18 Hole Open Singles Stableford\n\n\n\n\n\n\n\n\n\n\n\n\n\n\n\nPlace\nName\nPlaying Hcap\nScore\n\n\n\n\n\n\n\n\n1st\nVincent Arkins\n10\n40pts\n\n\n\n\n\n\n\n\n2nd\nTrevor Russell\n8\n37pts ob9\n\n\n\n\n\n\n\n\n3rd\nRay Hickey\n17\n37pts\n\n\n\n\n\n\n\n\n\n\n\n\n\n\n31 Members\n\n\n\n\n\n2 Visitors
URL:https://www.beaverstown.com/event/mixed-open-singles-stableford-5/
CATEGORIES:Joint Event
END:VEVENT
BEGIN:VEVENT
DTSTART;TZID=Europe/London:20250624T080000
DTEND;TZID=Europe/London:20250624T170000
DTSTAMP:20260420T044658
CREATED:20250624T180700Z
LAST-MODIFIED:20250624T180700Z
UID:29277-1750752000-1750784400@www.beaverstown.com
SUMMARY:June Medal
DESCRIPTION:Prize\nScore\nName\nPlaying \nHcap\n\n\nSilver Medal \nHI <20\n68\nEmer McMahon\n17\n\n\nBronze Medal \nHI >20.1\n70 ocb\nMary Nolan\n33\n\n\n \n \n \n \n\n\nDiv 1\n70\nCiara McCormack\n16\n\n\nDiv 2\n70\nJo Scott\n27\n\n\nDiv 3\n70\nAlice O’Connor\n49\n\n\n \n \n \n \n\n\n \n \n \n \n\n\n \n \n \n \n\n\n \n \n \n \n\n\n49 Played\n \n \n \n\n\n\n 
URL:https://www.beaverstown.com/event/june-medal-2/
CATEGORIES:Ladies-Event
END:VEVENT
BEGIN:VEVENT
DTSTART;TZID=Europe/London:20250624T080000
DTEND;TZID=Europe/London:20250624T170000
DTSTAMP:20260420T044658
CREATED:20250625T181436Z
LAST-MODIFIED:20250625T181436Z
UID:29279-1750752000-1750784400@www.beaverstown.com
SUMMARY:Ladies 9 hole S/F
DESCRIPTION:Prize\nScore\nName\nPlaying H’cap\n\n\nFirst\n23 pts\nCaroline Comerford\n19\n\n\nSecond\n21 pts\nMary Kirwan\n20\n\n\n \n \n \n \n\n\n \n \n \n \n\n\n \n \n \n \n\n\n \n \n \n \n\n\n17 Played\n \n \n 
URL:https://www.beaverstown.com/event/ladies-9-hole-s-f/
CATEGORIES:Ladies-Event
END:VEVENT
BEGIN:VEVENT
DTSTART;VALUE=DATE:20250625
DTEND;VALUE=DATE:20250626
DTSTAMP:20260420T044658
CREATED:20250712T135003Z
LAST-MODIFIED:20250715T175543Z
UID:29315-1750809600-1750895999@www.beaverstown.com
SUMMARY:4 Man Team Semi Open
DESCRIPTION:Results Sheet\n\n\n\n\n\n\n\n\n\n\n\nDate :\n25th of June 2025\n\n\n\n\n\n\n\n\n\n\nCompetition :\n4 Man Team – Reverse Waltz\n\n\n\n\n\n\n\n\n\n\n\n\n\n\n\nPlace\nName\nPlaying Hcap\nScore\n\n\n\n\n\n\n\n\nWinners\nMichael Crawford (V)\n8\n91pts\n\n\n\nNoel McNamee (V)\n16\n\n\n\n\nDonald McGee (V)\n20\n\n\n\n\nJohn McVey\n20\n\n\n\n\n\n\n\n\n\n\n\n\n\n\n\n\n\n\n\n\n\nSecond\nMichael Redmond (V)\n23\n88pts\n\n\n\nJoe Murphy (V)\n19\n\n\n\n\nRichard O’Connor (V)\n7\n\n\n\n\nTom Canavan\n20\n\n\n\n\n\n\n\n\n\n\n\n\n\n\n\n\n\n\n\n\n\nBack 9\nMichael Fitzpatrick\n23\n43pts\n\n\n\nBarry Kirwan\n15\n\n\n\n\nGeorge Moore\n14\n\n\n\n\nPeter Kelly\n17\n\n\n\n\n\n\n\n\n\n24 Teams\n\n\n\n\n\n95 Players
URL:https://www.beaverstown.com/event/4-man-team-semi-open/
CATEGORIES:Mens Event
END:VEVENT
BEGIN:VEVENT
DTSTART;TZID=Europe/London:20250626T150000
DTEND;TZID=Europe/London:20250626T190000
DTSTAMP:20260420T044658
CREATED:20250703T213240Z
LAST-MODIFIED:20250703T213240Z
UID:29297-1750950000-1750964400@www.beaverstown.com
SUMMARY:9 Hole Invitational
DESCRIPTION:Date :\nThursday 26 Jun 2025\n\n\n\n\n\n\n\n\n\n\nCompetition :\n9 Hole Invitational Stableford\n\n\n\n\n\n\n\n\n\n\n\n\n\n\n\n\nPlace\nName\nPlaying Hcap\nScore\n\n\n\n\n\n\n\n\n1st\nMick Corrigan\n10\n24 pts\n\n\n2nd\nBarry Murphy\n15\n24 pts\n\n\n3rd\nGraham Leonard (V)\n3\n23 pts\n\n\n\n\n\n\n\n\n48 played / 36 cards returned
URL:https://www.beaverstown.com/event/9-hole-invitational-7/
CATEGORIES:Joint Event
END:VEVENT
BEGIN:VEVENT
DTSTART;VALUE=DATE:20250628
DTEND;VALUE=DATE:20250629
DTSTAMP:20260420T044658
CREATED:20250629T120255Z
LAST-MODIFIED:20250629T120255Z
UID:29282-1751068800-1751155199@www.beaverstown.com
SUMMARY:Singles V Par
DESCRIPTION:Results Sheet\n\n\n\n\n\n\n\n\n\n\n\n\n\nDate :\nSaturday 28 June\n\n\n\n\n\n\n\n\n\n\n\nCompetition :\n18 Hole Singles V Par\n\n\n\n\n\n\n\n\n\n\n\n\n\n\n\n\n\n\nPlace\nName\n\nPlaying Hcap\nScore\n\n\n\n\n\n\n\n\n\nDiv 1 1st\nJames Weinmann\n\n11\n5 up\n\n\nDiv 1 2nd\nJohn Quinn\n\n13\n2 down\n\n\n\n\n\n\n\n\n\nDiv 2 1st\nPaul O’Connor\n\n17\n6 up\n\n\nDiv 2 2nd\nHenry O’Brien\n\n18\n3 up\n\n\n\n\n\n\n\n\n\nDiv 3 1st\nIvan O’Toole\n\n22\n1 down\n\n\nDiv 3 2nd\nBrian Lynch\n\n27\n1 down\n\n\n\n\n\n\n\n\n\n\n\n\n\n\n\n\n\n\n\n\n\n\n\n\n\n\n\n\n\n\n48 played\n\n\n\n\n\n\n1 card not returned
URL:https://www.beaverstown.com/event/singles-v-par-4/
CATEGORIES:Mens Event
END:VEVENT
BEGIN:VEVENT
DTSTART;VALUE=DATE:20250629
DTEND;VALUE=DATE:20250630
DTSTAMP:20260420T044658
CREATED:20250629T182630Z
LAST-MODIFIED:20250629T215605Z
UID:29284-1751155200-1751241599@www.beaverstown.com
SUMMARY:Mens Vice Captain's Prize
DESCRIPTION:Results Sheet\n\n\n\n\n\nDate :\nSunday 29 June\n\n\n\n\n\n\n\n\n\n\nCompetition :\nMens Vice Captain’s Prize\n\n\n\n\n\nSingles Stableford White\n\n\n\n\n\n\n\n\n\n\nPlace\nName\nPlaying Hcap\nScore\n\n\n\n\n\n\n\n\n1st place\nEddie Byrne\n22\n42pts\n\n\n2nd place\nAnthony Lynders\n16\n41pts\n\n\n3rd place\nPaul Molloy\n13\n40pts ob9\n\n\n4th place\nJack Caverly\n22\n40pts ob9\n\n\n\n\n\n\n\n\nGross\nGary Lawlor\n3\n35pts\n\n\n\n\n\n\n\n\nGross (Gold Medal counting)\nDamian Ryan\n5\n74 ob9\n\n\n\n\n\n\n\n\nDiv 1 1st\nPaul Nimmo\n11\n39pts\n\n\nDiv 2 1st\nThomas Masterson\n12\n40pts\n\n\nDiv 3 1st\nDermot Mangan\n19\n39pts\n\n\nDiv 4 1st\nAndrew Jennings\n28\n37pts\n\n\nNew Members\nMichael Sands\n20\n36pts\n\n\n\n\n\n\n\n\n150 played\n\n\n\n\n\n3 cards not returned
URL:https://www.beaverstown.com/event/mens-vice-captains-prize/
CATEGORIES:Mens Event
END:VEVENT
BEGIN:VEVENT
DTSTART;VALUE=DATE:20250630
DTEND;VALUE=DATE:20250701
DTSTAMP:20260420T044658
CREATED:20250630T192635Z
LAST-MODIFIED:20250630T192635Z
UID:29289-1751241600-1751327999@www.beaverstown.com
SUMMARY:Monday Mixed Open Singles
DESCRIPTION:Results Sheet\n\n\n\n\n\n\n\n\n\n\n\nDate :\nMonday 30 June\n\n\n\n\n\n\n\n\n\n\nCompetition :\n18 Hole Open Singles Stableford\n\n\n\n\n\n\n\n\n\n\n\n\n\n\n\nPlace\nName\nPlaying Hcap\nScore\n\n\n\n\n\n\n\n\n1st Div 1\nFrank McCabe\n18\n43pts\n\n\n2nd Div 1\nSean Morris\n15\n40pts\n\n\n\n\n\n\n\n\n1st Div 2\nHelen Drumgoole (V)\n28\n42pts\n\n\n2nd Div 2\nDermot Stone\n23\n38pts\n\n\n\n\n\n\n\n\n\n\n\n\n\n\n\n\n\n\n\n\n\n\n\n\n\n\n37 members\n\n\n\n\n\n10 visitors
URL:https://www.beaverstown.com/event/monday-mixed-open-singles/
CATEGORIES:Joint Event
END:VEVENT
BEGIN:VEVENT
DTSTART;TZID=Europe/London:20250701T080000
DTEND;TZID=Europe/London:20250701T170000
DTSTAMP:20260420T044658
CREATED:20250702T103419Z
LAST-MODIFIED:20250702T103419Z
UID:29291-1751356800-1751389200@www.beaverstown.com
SUMMARY:Ladies 9 hole
DESCRIPTION:Prize\nScore\nName\nPlaying H’cap\n\n\n1st\n23\nNiamh Duggan\n9\n\n\n2nd \n19 ocb\nEilís Boylan\n16\n\n\n \n \n \n \n\n\n \n \n \n \n\n\n \n \n \n \n\n\n \n \n \n \n\n\n14 Played\n \n \n 
URL:https://www.beaverstown.com/event/ladies-9-hole/
CATEGORIES:Ladies-Event
END:VEVENT
BEGIN:VEVENT
DTSTART;TZID=Europe/London:20250701T080000
DTEND;TZID=Europe/London:20250701T170000
DTSTAMP:20260420T044658
CREATED:20250702T105807Z
LAST-MODIFIED:20250702T105807Z
UID:29293-1751356800-1751389200@www.beaverstown.com
SUMMARY:3 -Lady team Reverse Waltz
DESCRIPTION:Prize\nScore\nName\nPlaying H’cap\n\n\n1st\n82 pts\nMarian Rainey \nMags Kelly \nMary Murray\n21 \n25 \n24\n\n\n2nd\n77 pts\nGwen O’Connor \nTracy Kelly \nLiz Brett\n26 \n18 \n37\n\n\n3rd \n75\nAggie McGuinness \nTherese Carroll \nBarbara Ferguson\n31 \n34 \n25\n\n\n \n \n \n \n\n\n \n \n \n \n\n\n \n \n \n \n\n\n17 Teams played\n \n \n 
URL:https://www.beaverstown.com/event/3-lady-team-reverse-waltz/
CATEGORIES:Ladies-Event
END:VEVENT
BEGIN:VEVENT
DTSTART;VALUE=DATE:20250702
DTEND;VALUE=DATE:20250703
DTSTAMP:20260420T044658
CREATED:20250703T163501Z
LAST-MODIFIED:20250703T163501Z
UID:29295-1751414400-1751500799@www.beaverstown.com
SUMMARY:Wednesday 4 Man Team 3 on par 5s
DESCRIPTION:Results Sheet\n\n\n\n\n\n\n\n\n\n\n\nDate :\n2nd of July 2025\n\n\n\n\n\n\n\n\n\n\nCompetition :\n4 Man Team – 3 on par 5s\n\n\n\n\n\n\n\n\n\n\n\n\n\n\n\nPlace\nName\nPlaying Hcap\nScore\n\n\n\n\n\n\n\n\nWinners\nTrevor Russell\n7\n96pts\n\n\n\nVincent Arkins\n8\n\n\n\n\nJames O’Donnell\n6\n\n\n\n\nRonan McDermott\n14\n\n\n\n\n\n\n\n\n\n\n\n\n\n\n\n\n\n\n\n\n\nSecond\nColm McGrath\n23\n95pts\n\n\n\nTommy Masterson\n10\n\n\n\n\nBrian Lynch\n29\n\n\n\n\nPhilip Maher\n18\n\n\n\n\n\n\n\n\n\n\n\n\n\n\n\nThird\nJimmy Martin\n15\n92pts\n\n\n\nTom Canavan\n20\n(-2)\n\n\n\nPatrick Ryan\n17\n\n\n\n\nBrian Wyer\n26\n\n\n\n\n\n\n\n\n\n\n\n\n\n\n\nBack 9\nPaul O’Driscoll\n16\n48pts\n\n\n\nMartin Gillett\n16\n\n\n\n\nDermot Molphy\n20\n\n\n\n\nFrank McCabe\n16\n\n\n\n\n\n\n\n\n\n103 Members\n\n\n\n\n\n8 Visitors
URL:https://www.beaverstown.com/event/wednesday-4-man-team-3-on-par-5s/
CATEGORIES:Mens Event
END:VEVENT
BEGIN:VEVENT
DTSTART;TZID=Europe/London:20250703T150000
DTEND;TZID=Europe/London:20250703T190000
DTSTAMP:20260420T044658
CREATED:20250703T213609Z
LAST-MODIFIED:20250703T213609Z
UID:29299-1751554800-1751569200@www.beaverstown.com
SUMMARY:9 Hole Invitational
DESCRIPTION:Results Sheet\n\n\n\n\n\n\n\n\n\n\n\nDate :\nThursday 03 Jul 2025\n\n\n\n\n\n\n\n\n\n\nCompetition :\n9 Hole Invitational Stableford\n\n\n\n\n\n\n\n\n\n\n\n\n\n\n\n\nPlace\nName\nPlaying Hcap\nScore\n\n\n\n\n\n\n\n\n1st\nPat Lambe\n7\n21 pts\n\n\n2nd\nPaul Carrick\n4\n20 pts\n\n\n3rd\nColm Lynders\n13\n20 pts\n\n\n\n\n\n\n\n\n42 played / 32 cards returned
URL:https://www.beaverstown.com/event/9-hole-invitational-8/
CATEGORIES:Joint Event
END:VEVENT
BEGIN:VEVENT
DTSTART;VALUE=DATE:20250705
DTEND;VALUE=DATE:20250706
DTSTAMP:20260420T044658
CREATED:20250705T180918Z
LAST-MODIFIED:20250705T180918Z
UID:29301-1751673600-1751759999@www.beaverstown.com
SUMMARY:2 Man Team betterball
DESCRIPTION:Results Sheet\n\n\n\n\n\n\n\n\n\n\n\n\n\nDate :\nSaturday 05 July 2025\n\n\n\n\n\n\n\n\n\n\n\nCompetition :\n2 Man Team – 4ball betterball\n\n\n\n\n\n\n\n\n\n\n\n\n\n\n\n\n\nPlace\nName\n\nPlaying Hcap\nScore\n\n\n\n\n\n\n\n\n\n1st place\nNoel Coyle\n\n12\n43 pts ob6\n\n\n\nNeil Holohan\n\n12\n\n\n\n\n\n\n\n\n\n\n2nd place\nGuillaume Rhein\n\n19\n43 pts\n\n\n\nBarry Smith\n\n6\n\n\n\n\n\n\n\n\n\n\n3rd place\nCormac Goulding\n\n18\n42 pts ob9\n\n\n\nMichael O’Leary\n\n17\n\n\n\n\n\n\n\n\n\n\n\n\n\n\n\n\n\n\n\n\n\n\n\n\n58 played
URL:https://www.beaverstown.com/event/2-man-team-betterball/
CATEGORIES:Mens Event
END:VEVENT
END:VCALENDAR