
BEGIN:VCALENDAR
VERSION:2.0
PRODID:-//Beaverstown Golf Club - ECPv6.15.20//NONSGML v1.0//EN
CALSCALE:GREGORIAN
METHOD:PUBLISH
X-WR-CALNAME:Beaverstown Golf Club
X-ORIGINAL-URL:https://www.beaverstown.com
X-WR-CALDESC:Events for Beaverstown Golf Club
REFRESH-INTERVAL;VALUE=DURATION:PT1H
X-Robots-Tag:noindex
X-PUBLISHED-TTL:PT1H
BEGIN:VTIMEZONE
TZID:Europe/London
BEGIN:DAYLIGHT
TZOFFSETFROM:+0000
TZOFFSETTO:+0100
TZNAME:BST
DTSTART:20230326T010000
END:DAYLIGHT
BEGIN:STANDARD
TZOFFSETFROM:+0100
TZOFFSETTO:+0000
TZNAME:GMT
DTSTART:20231029T010000
END:STANDARD
BEGIN:DAYLIGHT
TZOFFSETFROM:+0000
TZOFFSETTO:+0100
TZNAME:BST
DTSTART:20240331T010000
END:DAYLIGHT
BEGIN:STANDARD
TZOFFSETFROM:+0100
TZOFFSETTO:+0000
TZNAME:GMT
DTSTART:20241027T010000
END:STANDARD
BEGIN:DAYLIGHT
TZOFFSETFROM:+0000
TZOFFSETTO:+0100
TZNAME:BST
DTSTART:20250330T010000
END:DAYLIGHT
BEGIN:STANDARD
TZOFFSETFROM:+0100
TZOFFSETTO:+0000
TZNAME:GMT
DTSTART:20251026T010000
END:STANDARD
END:VTIMEZONE
BEGIN:VEVENT
DTSTART;TZID=Europe/London:20240827T080000
DTEND;TZID=Europe/London:20240827T170000
DTSTAMP:20260420T012843
CREATED:20240830T143113Z
LAST-MODIFIED:20240830T143236Z
UID:28356-1724745600-1724778000@www.beaverstown.com
SUMMARY:Results 27/08/2024 Play in Pink Competition
DESCRIPTION:Prize\nScore\nName\n \n\n\n18 holes S/F\n\n\n1st\n102 pts\nDean Styles\, Paul Clifford\, David Foley\, Shaun Gonzalez\n \n\n\n2nd\n101 pts\nPat Shields\, Pat Ward\, Phil McDonnell\, Doreen Scott\n \n\n\n3rd\n100 pts\nPat Chambers\, Patrick Ryan\, \nTony O’Hare\, Paul O’Connor\n \n\n\n4th\n97 pts\nCatherine Vaughan\, Margaret McInerney\, Ronan McDermott\, Aidan Smith\n \n\n\n5th\n94 pts\nPatrick Cahill\, Jim Geraghty\, Richard McGlew\, Pat McGlew\n \n\n\n9 holes S/F\n\n\n1st\n49 pts\nDara O’Cinnéide\,Michael O’Leary\, Colm Ryan\, Cormac Goulding\n \n\n\n2nd\n40 pts\nAttracta O’Toole\, Aggie McGuinness\, Katie Brown\, Amy Nugent\n \n\n\nGIG- Scramble\n\n\n1st\n26\nCaroline\, Gwen\, Roisin & Lynda\n \n\n\n2nd\n29\nAislinn\, Pauline\,Lezelle\, Ciara\n \n\n\n \n \n \n \n\n\nNearest The Pin (7th)\nEvelyn Bannon\n6.75 inches\n\n\nNearest the Line (10th)\nPat Monaghan\n1 inch
URL:https://www.beaverstown.com/event/results-27-08-2024-play-in-pink-competition/
CATEGORIES:Results
END:VEVENT
BEGIN:VEVENT
DTSTART;VALUE=DATE:20240826
DTEND;VALUE=DATE:20240827
DTSTAMP:20260420T012843
CREATED:20240826T174242Z
LAST-MODIFIED:20240826T174251Z
UID:28340-1724630400-1724716799@www.beaverstown.com
SUMMARY:Monday Open Singles 26/08/2024
DESCRIPTION:Results Sheet \nDate Monday 26/08/2024 \nCompetition Open Singles Stableford \n18 Holes \nPlace Name Handicap Net \nDiv 1 1st Alex Mitchell 17 39pts \n2nd Declan J. McCulloch 15 35pts (B9-20)\n( Visitor) \nDiv 2 1st Scott Brand 21 40pts \n2nd Dermot Stone 26 39pts \n42 Members\n8 Visitors
URL:https://www.beaverstown.com/event/monday-open-singles-26-08-2024/
CATEGORIES:Joint Event
END:VEVENT
BEGIN:VEVENT
DTSTART;VALUE=DATE:20240826
DTEND;VALUE=DATE:20240827
DTSTAMP:20260420T012843
CREATED:20240826T170429Z
LAST-MODIFIED:20240826T170441Z
UID:28338-1724630400-1724716799@www.beaverstown.com
SUMMARY:5 Day Beaver Trophy 26/08/2424
DESCRIPTION:Results Sheet \nDate Monday 26/08/2024 \n5 Day Beaver Trophy Stableford \n18 Holes \nPlace Name Handicap Net Score \nWinner Paddy Howlett 24 42pts \n2nd Mark Manning 16 39pts \n14 Played
URL:https://www.beaverstown.com/event/5-day-beaver-trophy-26-08-2424/
CATEGORIES:Five Day Members
END:VEVENT
BEGIN:VEVENT
DTSTART;TZID=Europe/London:20240825T080000
DTEND;TZID=Europe/London:20240825T170000
DTSTAMP:20260420T012843
CREATED:20240827T170852Z
LAST-MODIFIED:20240827T170852Z
UID:28347-1724572800-1724605200@www.beaverstown.com
SUMMARY:Ladies Beaver Trophy
DESCRIPTION:Prize\nScore\nName\nH’cap\n\n\n1st Overall\n43\nLiz Brett\n51\n\n\n \n \n \n \n\n\nCategory 1\n33 pts\nNiamh Duggan\n19\n\n\nCategory 2\n36 pts\nGwen O’Connor\n26\n\n\nCategory 3\n36 pts\nHelen Malone\n45
URL:https://www.beaverstown.com/event/ladies-beaver-trophy/
CATEGORIES:Ladies-Event
END:VEVENT
BEGIN:VEVENT
DTSTART;VALUE=DATE:20240825
DTEND;VALUE=DATE:20240826
DTSTAMP:20260420T012843
CREATED:20240825T185142Z
LAST-MODIFIED:20240825T185142Z
UID:28336-1724544000-1724630399@www.beaverstown.com
SUMMARY:RESULTS-25/08/2024-BEAVER TROPHY
DESCRIPTION:Date\nSunday Aug. 25th\n\n\n\n\n\n\n\n\n\n\n\n\n\n\n\n\nSunday\n\n\n\n\n\nBeaver Trophy\n\n\n\n\n\n\n\n\n\n\n\n\n\n\n\n\n\n\n\n\n\n\n\n\n\n\n\n\n\n\n\n\n\n\n\n\n\n\n\n\n\n\n\n\n\n\n\n\n\n\n\n\n\n\n\n\n\n\n\n\n\n\n\n\n\n\nPlace\n\nName\n\n\nHandicap\nNet Score\n\n\n\n\n\n\n\n\n\n\n\n\n\n\n\n\n\n\n\nWinner\nMartin Gillett\n\n18\n\n40 pts\nOB9\n\n\n\n\n\n\n\n\n\n\n\n\n\n\n\n\n\n\n2nd\n\nPat McCormack\n11\n\n40 pts\nOB9\n\n\n\n\n\n\n\n\n\n\n\n\n\n\n\n\n\n\n3rd\n\nAidan Smith\n\n28\n\n40 pts\nOB6\n\n\n\n\n\n\n\n\n\n\n\n\n\n\n\n\n\n\n4th\n\nBrian Drain\n\n19\n\n40 pts\n\n\n\n\n\n\n\n\n\n\n\n\n\n\n\n\n\n\n\nDiv. 1\n\nKeith Rowsome\n9\n\n37 pts\n\n\n\n\n\n\n\n\n\n\n\n\n\n\n\n\n\n\n\nDiv. 2\n\nDean Styles\n\n12\n\n38 pts\n\n\n\n\n\n\n\n\n\n\n\n\n\n\n\n\n\n\n\nDiv. 3\n\nRonnie Clifford\n\n18\n\n37 pts\n\n\n\n\n\n\n\n\n\n\n\n\n\n\n\n\n\n\n\nDiv. 4\n\nMichael O’Leary\n22\n\n39 pts\n\n\n\n\n\n\n\n\n\n\n\n\n\n\n\n\n\n\n\n\n\n116 scores returned
URL:https://www.beaverstown.com/event/results-25-08-2024-beaver-trophy/
CATEGORIES:Results
END:VEVENT
BEGIN:VEVENT
DTSTART;VALUE=DATE:20240824
DTEND;VALUE=DATE:20240825
DTSTAMP:20260420T012843
CREATED:20240825T112231Z
LAST-MODIFIED:20240825T112231Z
UID:28334-1724457600-1724543999@www.beaverstown.com
SUMMARY:4 ball betterball
DESCRIPTION:Competition Name\n\n\n4 ball betterball\n\n\n\n\n\n\n\n\n\n\n\n\n\n\n\n\n\n\n\n\n\n\n\n\nCompetition Day\n\n\nDay\n\n\n\n\n\n\nCompetition Date\n\n\n24-Aug-24\n\n\n\n\n\n\n\nFee\n\n\n\n\n\n\n\n\nCompetition Fee\n6\n\n\n\n\n\n\n\n\nNumber of Divisions\n1\n\n\n\n\n\n\n\n\n\n\n\n\n\n\n\n\n\n\n\nPlace\n\nName\nPlaying H’cap\nScore\n\nPrize\n\n\n\n1st\n\nLambe\, Pat\n11\n45\npts (B9)\n€ 0\n\n\n\n1st\n\nMasterson\, Thomas\n9\n\n\n€ 0\n\n\n\n\n\n\n\n\n\n\n\n\n\n2nd\n\nByrne\, Andrew\n9\n45\npts\n€ 0\n\n\n\n2nd\n\nFogarty\, John\n14\n\n\n€ 0\n\n\n\n\n\n\n\n\n\n\n\n\n\n3rd\n\nKiely\, Barry\n8\n43\npts (B9)\n€ 0\n\n\n\n3rd\n\nBurke\, Darren\n25\n\n\n€ 0\n\n\n\n\n\n\n\n\n\n\n\n\nNo of Entrants\nMembers:\n\n60\nVisitors:\n0\n\n\n\n\nPlease allow 14 days for the prize money to be credited to your account
URL:https://www.beaverstown.com/event/4-ball-betterball-2/
CATEGORIES:Mens Event,Results
END:VEVENT
BEGIN:VEVENT
DTSTART;VALUE=DATE:20240822
DTEND;VALUE=DATE:20240823
DTSTAMP:20260420T012843
CREATED:20240823T161030Z
LAST-MODIFIED:20240823T161037Z
UID:28330-1724284800-1724371199@www.beaverstown.com
SUMMARY:Thursday 9 Hole Stableford
DESCRIPTION:Date\nThursday 22nd of August 2024\n\n\n\n\n\n\n\n\n\n\n\n\n\n\nCompetition\n9 hole invitational\n\n\n\n\n\n\n\n\n\n\n\n\nPlace\n\nName\nHandicap\nScore\n\n\n\n1st\n\nDarren Laird\n13\n26pts\n\n\n\n2nd\n\nJoseph Breen\n7\n25pts\n\n\n\n3rd\n\nNiall Lynch\n13\n24pts ob6
URL:https://www.beaverstown.com/event/thursday-9-hole-stableford-4/
CATEGORIES:Joint Event
END:VEVENT
BEGIN:VEVENT
DTSTART;VALUE=DATE:20240821
DTEND;VALUE=DATE:20240822
DTSTAMP:20260420T012843
CREATED:20240821T182209Z
LAST-MODIFIED:20240821T182209Z
UID:28319-1724198400-1724284799@www.beaverstown.com
SUMMARY:4 Man Team
DESCRIPTION:Date: 21st of August 2024\n\n\n\n\n\n\n\n\n\n\n\n\n\n\n\n\n\n\n\n\n\n\n\nCompetition:4 Man Team\n\n\n\n\n\n\n\n\n\n\n\n\n\n\n\n\n\n\n\n\n\n\nPlace\nName\nH/Cap\n\nScore\n\n\n\n\n\n\n\n\n\n\n\nWinners\nLaurence O’Brien\n25\n\n101pts\n\n\n\n\nJames Kavanagh\n20\n\n\n\n\n\n\nPaul Neville\n25\n\n\n\n\n\n\nBarry Kearns\n23\n\n\n\n\n\n\n\n\n\n\n\n\n\n\n\n\n\n\n\n\n\n\n\n\n\n\n\n\n\nSecond\nDermot Brady\n24\n\n98pts\n\n\n\n\nPeter Gallagher\n22\n\n\n\n\n\n\nAlex Banahan\n29\n\n\n\n\n\n\nBrian Lennon\n8\n\n\n\n\n\n\n\n\n\n\n\n\n\n\n\n\n\n\n\n\n\nBack 9\nJohn Carberry\n17\n\n48pts\n\n\n\n\nChristy Roche\n10\n\n\n\n\n\n\nJames Dalton\n24\n\n\n\n\n\n\nTom O’Toole\n21\n\n\n\n\n\n\n\n\n\n\n\n\n\n\n\n\n\n\n\n\n\n72 Members\n\n\n\n\n\n\n7 visitors
URL:https://www.beaverstown.com/event/4-man-team/
CATEGORIES:Mens Event
END:VEVENT
BEGIN:VEVENT
DTSTART;TZID=Europe/London:20240820T080000
DTEND;TZID=Europe/London:20240820T170000
DTSTAMP:20260420T012843
CREATED:20240827T114814Z
LAST-MODIFIED:20240827T114814Z
UID:28345-1724140800-1724173200@www.beaverstown.com
SUMMARY:Ladies August Medal
DESCRIPTION:Prize\nScore\nName\nH’cap\n\n\n  \nSilver Medal\n70\nTracy Kelly\n18\n\n\n  \nBronze Medal \n \n69\nMary Nolan\n29\n\n\nDiv 1 \n \n75\nShiela Dunne\n22\n\n\nDiv 2\n70\nNoirin McMahon\n26\n\n\nDiv 3\n70\nBernadette Banahan\n38\n\n\nDiv 4\n69\nAlice O Connor\n47
URL:https://www.beaverstown.com/event/ladies-august-medal/
CATEGORIES:Ladies-Event
END:VEVENT
BEGIN:VEVENT
DTSTART;VALUE=DATE:20240819
DTEND;VALUE=DATE:20240820
DTSTAMP:20260420T012843
CREATED:20240820T083747Z
LAST-MODIFIED:20240820T083800Z
UID:28316-1724025600-1724111999@www.beaverstown.com
SUMMARY:Monday Open Singles 19/08/2424
DESCRIPTION:Results Sheet \nDate Monday 18/08/2424 \nCompetition Open Singles Stableford \nPlace Name Handicap Score \nDiv 1 1st Trevor Russell 9 41pts\n(Hollywood Lakes)\n2nd Declan Cullen 15 40pts (B9-21) \nDiv 2 1st Damien Steadman 24 43pts \n2nd Stephen Butler 40 37pts \n47 Members\n6 Visitors
URL:https://www.beaverstown.com/event/monday-open-singles-19-08-2424/
CATEGORIES:Joint Event
END:VEVENT
BEGIN:VEVENT
DTSTART;TZID=Europe/London:20240818T080000
DTEND;TZID=Europe/London:20240818T170000
DTSTAMP:20260420T012843
CREATED:20240818T175905Z
LAST-MODIFIED:20240818T175905Z
UID:28311-1723968000-1724000400@www.beaverstown.com
SUMMARY:Ladies 18h singles s/f
DESCRIPTION:Prize\nScore\nName\nH’cap\n\n\n1st \n39\nJennifer Buggle\n32\n\n\n2nd ocb\n39\nNiamh Ní Chonghaile\n30
URL:https://www.beaverstown.com/event/ladies-18h-singles-s-f-2/
CATEGORIES:Ladies-Event
END:VEVENT
BEGIN:VEVENT
DTSTART;VALUE=DATE:20240818
DTEND;VALUE=DATE:20240819
DTSTAMP:20260420T012843
CREATED:20240819T161808Z
LAST-MODIFIED:20240819T161830Z
UID:28314-1723939200-1724025599@www.beaverstown.com
SUMMARY:August Medal
DESCRIPTION:Results Sheet\n\n\n\n\n\n\n\n\n\n\n\n\n\n\n\n\n\n\n\n\nDate\nSunday 18th of August 2024\n\n\n\n\n\n\n\n\n\n\n\n\n\n\n\n\n\n\n\nCompetition\nAugust Medal\n\n\n\n\n\n\n\n\n\n\n\n\n\n\n\n\nPlace\n\nName\nIndex\nPlaying\nScore\n\n\n\n\n\n\n\n\n\n\n\n\n\n\n\n1st\n\nPaul Carrick\n13.9\n16\n66\n\n\n\n\n2nd\n\nBarry Kirwan\n18.6\n22\n67\n\n\n\n\n3rd\n\nJim Kendellen\n12.5\n15\n68\n\n\n\n\n4th\n\nPatrick Grehan\n20\n23\n70 49b9\n\n\n\n\n\n\n\n\n\n\n\n\n\n\nGross\n\nDavid Dolan\n2.8\n4\n75\n\n\n\n\nDiv 1\n\nRobert Nolan\n6.3\n8\n72 40b9\n\n\n\nDiv 2\n\nPat McCormack\n9.8\n12\n72\n\n\n\n\nDiv 3\n\nBrian Drain\n16.8\n20\n71 44b9\n\n\n\nDiv 4\n\nGarrett Kealy\n20.4\n24\n70\n\n\n\n\n\n\n\n\n\n\n\n\n\n\n\n134 Played
URL:https://www.beaverstown.com/event/august-medal/
CATEGORIES:Mens Event
END:VEVENT
BEGIN:VEVENT
DTSTART;VALUE=DATE:20240817
DTEND;VALUE=DATE:20240818
DTSTAMP:20260420T012843
CREATED:20240817T162401Z
LAST-MODIFIED:20240817T162545Z
UID:28308-1723852800-1723939199@www.beaverstown.com
SUMMARY:Singles V-Par
DESCRIPTION:3 Divisions: 61 – 100 players (all highlighted to be manually input)\n\n\n\nTo be emailed to the office (admin at beaverstown.com)\n\n\n\n\nTo be printed and published on WEB\n\n\n\n\n\n\nCompetition Name\n\n\nSingles V-Par\n\n\n\n\n\n\n\n\n\n\n\n\n\n\n\n\n\n\n\n\n\n\n\n\n\n\n\n\n\n\n\n\nCompetition Day\n\n\nSaturday\n\n\n\n\n\n\n\n\n\n\nCompetition Date\n\n\n17th Aug 2024\n\n\n\n\n\n\n\n\n\n\n\nFee\n\n\n\n\n\n\n\n\n\n\n\n\nCompetition Fee\n6\n\n\n\n\n\n\nFor Office use only\n\n\n\n\nNumber of Divisions\n3\n\n\n\n\n\n\nDO NOT PRINT OR\n\n\n\n\n\n\n\n\n\n\n\n\nPUBLISH ON WEB\n\n\n\n\nDivision\nPlace\n\nName\nPlaying H’cap\nScore\n\nPrize\nAcc\nCDH Number\n\n\n\n\n1\n1st\n\nTimmins\, Michael\n8\n0\n4up b9\n€ 43\nBar Acc\n31222029\n\n\n\n\n\n2nd\n\nLawlor\, Gary\n1\n0\n1up b9\n€ 29\nBar Acc\n31221267\n\n\n\n\n\n\n\n\n\n\n\n\n\n\n\n\n\n\n2\n1st\n\nByrne\, Noel\n16\n3up\n\n€ 43\nBar Acc\n31220661\n\n\n\n\n\n2nd\n\nMartin\, Robert\n17\n2up\n\n€ 29\nBar Acc\n31220298\n\n\n\n\n\n\n\n\n\n\n\n\n\n\n\n\n\n\n3\n1st\n\nDuff\, Bernard\n30\n8up\n\n€ 43\nBar Acc\n31222236\n\n\n\n\n\n2nd\n\nGorman\, David\n25\n6up\n\n€ 29\nBar Acc\n31222138\n\n\n\n\n\n\n\n\n\n\n\n\n\n\n\n\n\n\nNo of Entrants\nMembers:\n\n72\nVisitors:\n0\n\n\n\n\n\n\n\n\nPlease allow 14 days for the prize money to be credited to your account\n\n\n\n\n\n\n\n\n\n\n\nCheck s/b Zero\n\n0\n\n\n\n\n\n\nNote for office- in case of an error with above please do not process the prize money until the week after:\n#VALUE!
URL:https://www.beaverstown.com/event/singles-v-par/
CATEGORIES:Mens Event
END:VEVENT
BEGIN:VEVENT
DTSTART;VALUE=DATE:20240815
DTEND;VALUE=DATE:20240816
DTSTAMP:20260420T012843
CREATED:20240815T204311Z
LAST-MODIFIED:20240815T204318Z
UID:28304-1723680000-1723766399@www.beaverstown.com
SUMMARY:Thursday 9 hole Singles
DESCRIPTION:Date\nThursday 15th of August 2024\n\n\n\n\n\n\n\n\n\n\n\n\n\n\nCompetition\n9 hole invitational\n\n\n\n\n\n\n\n\n\n\n\n\nPlace\n\nName\nHandicap\nScore\n\n\n\n1st\n\nTim Dowling\n15\n24pts\n\n\n\n2nd\n\nStephen Butler\n20\n22pts ob6\n\n\n\n3rd\n\nDavid Andrews\n11\n22pts
URL:https://www.beaverstown.com/event/thursday-9-hole-singles/
CATEGORIES:Joint Event
END:VEVENT
BEGIN:VEVENT
DTSTART;VALUE=DATE:20240814
DTEND;VALUE=DATE:20240815
DTSTAMP:20260420T012843
CREATED:20240816T100632Z
LAST-MODIFIED:20240816T100647Z
UID:28306-1723593600-1723679999@www.beaverstown.com
SUMMARY:Wednesday 4 Man Team
DESCRIPTION:Date: 14th of August 2024\n\n\n\n\n\n\n\n\n\n\n\n\n\n\n\n\n\n\n\n\n\n\n\n\n\n\nCompetition:Wednesday 4 Man Team\n\n\n\n\n\n\n\n\n\n\n\n\n\n\n\n\n\n\n\n\n\n\n\n\nPlace\nName\nH/Cap\n\nScore\n\n\n\n\n\n\n\n\n\n\n\n\n\nWinners\nJames Martin\n14\n\n99pts 48 b9\n\n\n\n\nDavid Canavan\n15\n\n\n\n\n\n\n\nPatrick Ryan\n17\n\n\n\n\n\n\n\nBrian Wyer\n26\n\n\n\n\n\n\n\n\n\n\n\n\n\n\n\n\n\n\n\n\n\n\n\n\n\n\n\n\n\n\n\n\n\nSecond\nWillie Goslin\n11\n\n99pts\n\n\n\n\n\nJohn Quinn\n11\n\n\n\n\n\n\n\nPatsy Lynders\n29\n\n\n\n\n\n\n\nLiam O’Brien\n29\n\n\n\n\n\n\n\n\n\n\n\n\n\n\n\n\n\n\n\n\n\n\n\n\nThird\nDeclan Cullen\n14\n\n97pts\n\n\n\n\n\nRedmonde Aherne\n12\n\n\n\n\n\n\n\nJoe Farrelly\n15\n\n\n\n\n\n\n\nPaul Fleming\n17\n\n\n\n\n\n\n\n\n\n\n\n\n\n\n\n\n\n\n\n\n\n\n\n\nBack 9\nPat Ward\n15\n\n49pts\n\n\n\n\n\nPat Shields (Roganstown)\n3\n\n\n\n\n\n\n\nJim Kendellen\n11\n\n\n\n\n\n\n\nJohn Cole\n13\n\n\n\n\n\n\n\n\n\n\n\n\n\n\n\n\n\n\n\n\n\n\n\n\n\n91 members\n\n\n\n\n\n\n\n\n1 visitor
URL:https://www.beaverstown.com/event/wednesday-4-man-team-16/
CATEGORIES:Mens Event
END:VEVENT
BEGIN:VEVENT
DTSTART;TZID=Europe/London:20240813T080000
DTEND;TZID=Europe/London:20240813T170000
DTSTAMP:20260420T012843
CREATED:20240813T184255Z
LAST-MODIFIED:20240813T184255Z
UID:28300-1723536000-1723568400@www.beaverstown.com
SUMMARY:18 Hole Stableford
DESCRIPTION:Prize\nScore\nName\nH’cap\n\n\n1st\n45pts\nSue Clarke\n39\n\n\n2nd\n43pts\nJennifer Buggle\n34\n\n\nCategory 1\n38pts OCB\nTracy Kelly\n18\n\n\nCategory 2\n40pts\nSue Tully\n35\n\n\nCategory 3\n36pts\nElizabeth Murphy\n41
URL:https://www.beaverstown.com/event/18-hole-stableford-3/
CATEGORIES:Ladies-Event
END:VEVENT
BEGIN:VEVENT
DTSTART;VALUE=DATE:20240812
DTEND;VALUE=DATE:20240813
DTSTAMP:20260420T012843
CREATED:20240813T092032Z
LAST-MODIFIED:20240813T092049Z
UID:28296-1723420800-1723507199@www.beaverstown.com
SUMMARY:Monday Open Singles 12/08/2024
DESCRIPTION:Results Sheet \nDate Monday 12/08/2024 \nCompetition Open Singles Stableford \n18 Holes \nPlace Name Handicap Score \nDiv 1 1st Se Goulding 18 39pts \n2nd Dean Rigney 13 37pts\n(visitor)\nDiv 2 1st Ken Hannigan 21 33pts (B9-18)\n(visitor)\n2nd David Guerra 23 33pts (B9-17) \n40 Members\n10 Visitors
URL:https://www.beaverstown.com/event/monday-open-singles-12-08-2024/
CATEGORIES:Joint Event
END:VEVENT
BEGIN:VEVENT
DTSTART;VALUE=DATE:20240812
DTEND;VALUE=DATE:20240813
DTSTAMP:20260420T012843
CREATED:20240813T083949Z
LAST-MODIFIED:20240813T083959Z
UID:28294-1723420800-1723507199@www.beaverstown.com
SUMMARY:5 Day August Medal 12/08/2024
DESCRIPTION:Date Monday 12/08/2024 \n5 Day Medal \n18 Holes Strokeplay \nPlace Name Handicap Net Score \nWinner Sean Morris 16 72 \n11 Played
URL:https://www.beaverstown.com/event/5-day-august-medal-12-08-2024/
CATEGORIES:Five Day Members
END:VEVENT
BEGIN:VEVENT
DTSTART;TZID=Europe/London:20240811T080000
DTEND;TZID=Europe/London:20240811T170000
DTSTAMP:20260420T012843
CREATED:20240811T164352Z
LAST-MODIFIED:20240811T164352Z
UID:28288-1723363200-1723395600@www.beaverstown.com
SUMMARY:Sunday 4 Ball Better Ball 11/08/24
DESCRIPTION:Place Name Playing H’cap Score\n1st McRory\, Brian 10 49 pts (B9)\n1st Carberry\, John 16 pts (B9) \n2nd Curran\, Maurice 17 47 pts\n2nd Fogarty\, John 8 pts \n3rd Goslin\, William 11 46 pts (B9)\n3rd O’Brien\, Liam 29 pts \n4th O’Brien\, Henry 17 46 pts (B6)\n4th Clifford\, Ronnie 14 pts \n5th Cunningham\, Raymund 19 46 pts\n5th Andrews\, David 20 pts
URL:https://www.beaverstown.com/event/sunday-4-ball-better-ball-11-08-24/
CATEGORIES:Mens Event,Results
END:VEVENT
BEGIN:VEVENT
DTSTART;TZID=Europe/London:20240811T080000
DTEND;TZID=Europe/London:20240811T170000
DTSTAMP:20260420T012843
CREATED:20240811T163526Z
LAST-MODIFIED:20240811T163526Z
UID:28286-1723363200-1723395600@www.beaverstown.com
SUMMARY:Fourball BetterBall
DESCRIPTION:Prize\nScore\nName\nH’cap\n\n\n1st\n45 pts ocb\nEmer McMahon & Catherine Goulding\n13 & 21\n\n\n2nd\n45 pts\nNiamh Grealy & Emma Grealy\n18 & 10
URL:https://www.beaverstown.com/event/fourball-betterball/
CATEGORIES:Ladies-Event
END:VEVENT
BEGIN:VEVENT
DTSTART;TZID=Europe/London:20240810T080000
DTEND;TZID=Europe/London:20240810T170000
DTSTAMP:20260420T012843
CREATED:20240811T163426Z
LAST-MODIFIED:20240811T163426Z
UID:28284-1723276800-1723309200@www.beaverstown.com
SUMMARY:18 Hole Stableford
DESCRIPTION:Prize\nScore\nName\nH’cap\n\n\n1st\n36\nTracy Kelly\n18
URL:https://www.beaverstown.com/event/18-hole-stableford-2/
CATEGORIES:Ladies-Event
END:VEVENT
BEGIN:VEVENT
DTSTART;VALUE=DATE:20240810
DTEND;VALUE=DATE:20240811
DTSTAMP:20260420T012843
CREATED:20240810T173910Z
LAST-MODIFIED:20240810T173910Z
UID:28282-1723248000-1723334399@www.beaverstown.com
SUMMARY:Saturday Aug 10th - Single Stableford (White)
DESCRIPTION:Competition Name\n\n\nSingle Stableford\n\n\n\n\n\n\n\n\n\n\n\n\n\n\n\n\n\n\n\n\n\n\n\n\nCompetition Day\n\n\nSaturday\n\n\n\n\n\n\nCompetition Date\n\n\n10-Aug-24\n\n\n\n\n\n\n\nFee\n\n\n\n\n\n\n\n\nCompetition Fee\n6\n\n\n\n\n\n\n\n\nNumber of Divisions\n3\n\n\n\n\n\n\n\n\n\n\n\n\n\n\n\n\n\n\nDivision\nPlace\n\nName\nPlaying H’cap\nScore\n\nPrize\n\n\n1\n1st\n\nRyan\, Damian\n5\n40\npts\n€ 47\n\n\n\n2nd\n\nMcDermott\, Sean\n11\n37\n\n€ 31\n\n\n\n\n\n\n\n\n\n\n\n\n2\n1st\n\nCarrick\, Paul\n17\n40\npts\n€ 47\n\n\n\n2nd\n\nJackson\, David\n17\n39\npts\n€ 31\n\n\n\n\n\n\n\n\n\n\n\n\n3\n1st\n\nMitchell\, Greg\n22\n40\npts\n€ 47\n\n\n\n2nd\n\nKeenan\, Dave\n25\n38\npts\n€ 31\n\n\n\n\n\n\n\n\n\n\n\n\nNo of Entrants\nMembers:\n\n78\nVisitors:\n0\n\n\n\n\nPlease allow 14 days for the prize money to be credited to your account
URL:https://www.beaverstown.com/event/saturday-aug-10th-single-stableford-white/
CATEGORIES:Mens Event,Results
END:VEVENT
BEGIN:VEVENT
DTSTART;VALUE=DATE:20240808
DTEND;VALUE=DATE:20240809
DTSTAMP:20260420T012843
CREATED:20240808T204301Z
LAST-MODIFIED:20240808T204310Z
UID:28280-1723075200-1723161599@www.beaverstown.com
SUMMARY:Thursday 9 Hole 8/8/24
DESCRIPTION:Date\nThursday 8th of August 2024\n\n\n\n\n\n\n\n\n\n\n\n\n\n\nCompetition\n9 hole invitational\n\n\n\n\n\n\n\n\n\n\n\n\nPlace\n\nName\nHandicap\nScore\n\n\n\n1st\n\nTom Collins\n5\n24pts\n\n\n\n2nd\n\nJames Flanagan\n19\n23pts\n\n\n\n3rd\n\nTony Richie\n11\n22pts ob6
URL:https://www.beaverstown.com/event/thursday-9-hole-8-8-24/
CATEGORIES:Joint Event
END:VEVENT
BEGIN:VEVENT
DTSTART;VALUE=DATE:20240807
DTEND;VALUE=DATE:20240808
DTSTAMP:20260420T012843
CREATED:20240807T171953Z
LAST-MODIFIED:20240807T171953Z
UID:28270-1722988800-1723075199@www.beaverstown.com
SUMMARY:Wednesday 4 Man Team
DESCRIPTION:Date: 7th Of August 2024\n\n\nCompetition:4 Man Team\n\n\nPlaceNameH/CapScore\n\nWinnersBernard Pender15€30104pts\nFrank O’Moore12€30\nPatrick Howlett19€30\nSean McDermott(9-1)€30\n\n\n\nSecondDave Kavanagh9€20103pts\nOliver Dunne19€20\nEamonn Kelly22€20\nPhilip Sullivan17€20\n\n\n\nBack 9Cormac Goulding17€1552pts\nColm Ryan 15€15\nRuaidhri MacAodhagain19€15\nDara O’Cinneide29€15\n\n84 Members\n4 Visitors
URL:https://www.beaverstown.com/event/wednesday-4-man-team-15/
CATEGORIES:Mens Event
END:VEVENT
BEGIN:VEVENT
DTSTART;TZID=Europe/London:20240806T080000
DTEND;TZID=Europe/London:20240806T170000
DTSTAMP:20260420T012843
CREATED:20240808T182753Z
LAST-MODIFIED:20240808T182753Z
UID:28278-1722931200-1722963600@www.beaverstown.com
SUMMARY:Ladies August 6th 18 Hole Stableford
DESCRIPTION:Prize\nScore\nName\nH’cap\n\n\n1st\n40\nMairead Beausang\n33\n\n\nCategory 1\n38\nNiamh Duggan\n18\n\n\nCategory 2\n36\nMarie Doolan\n31\n\n\nCategory 3\n38\nLiz Brett\n52
URL:https://www.beaverstown.com/event/ladies-august-6th-18-hole-stableford/
CATEGORIES:Ladies-Event
END:VEVENT
BEGIN:VEVENT
DTSTART;VALUE=DATE:20240805
DTEND;VALUE=DATE:20240806
DTSTAMP:20260420T012843
CREATED:20240805T165323Z
LAST-MODIFIED:20240805T165337Z
UID:28259-1722816000-1722902399@www.beaverstown.com
SUMMARY:Monday Open Singles 05/08/2024
DESCRIPTION:Results Sheet \nDate Monday 05/08/2024 \nCompetition Open Singles Stableford \n18 Holes \nPlace Name Handicap Score \nDiv 1 1st James Fleming 12 38pts (B3- 7) \n2nd Colm Ryan 18 38pts (B3-5) \nDiv 2 1st Pat Codd 21 37pts\n(Hollywood Lakes)\n2nd Michael Corbett 34 35pts (B6-12)\n( Castleknock) \n37 Members\n16 Visitos
URL:https://www.beaverstown.com/event/monday-open-singles-05-08-2024/
CATEGORIES:Joint Event
END:VEVENT
BEGIN:VEVENT
DTSTART;TZID=Europe/London:20240804T080000
DTEND;TZID=Europe/London:20240804T170000
DTSTAMP:20260420T012843
CREATED:20240808T182635Z
LAST-MODIFIED:20240808T182635Z
UID:28275-1722758400-1722790800@www.beaverstown.com
SUMMARY:August 4th ladies 18 Hole Stableford
DESCRIPTION:Prize\nScore\nName\nH’cap\n\n\n1st\n37\nMarian Rainey\n24
URL:https://www.beaverstown.com/event/august-4th-ladies-18-hole-stableford/
CATEGORIES:Ladies-Event
END:VEVENT
BEGIN:VEVENT
DTSTART;VALUE=DATE:20240804
DTEND;VALUE=DATE:20240805
DTSTAMP:20260420T012843
CREATED:20240804T190156Z
LAST-MODIFIED:20240804T190156Z
UID:28256-1722729600-1722815999@www.beaverstown.com
SUMMARY:Professional Prize - Sunday Aug 4th\, 2024
DESCRIPTION:Competition\nProfessional Prize\n\n\n\n\n\n\n\n\n\n\n\n\n\n\nPlace\n\nName\nIndex\nPlaying\nScore\n\n\n\n\n\n\n\n\n\n\n\n\n\n1st\n\nCeilim Rowsome\n29\n34\n47pts\n\n\n2nd\n\nAidan Rowsome\n3.9\n5\n43pts\n\n\n3rd\n\nGraig Kilpatrick\n20.5\n24\n40pts (B9)\n\n\n4th\n\nMaurice Fallon\n13.3\n16\n40pts\n\n\nGross\n\nKieran Lawlor\n3.5\n4\n34pts\n\n\n\n\n\n\n\n\n\n\n\n\n101 played
URL:https://www.beaverstown.com/event/professional-prize-sunday-aug-4th-2024/
CATEGORIES:Mens Event,Results
END:VEVENT
BEGIN:VEVENT
DTSTART;VALUE=DATE:20240803
DTEND;VALUE=DATE:20240804
DTSTAMP:20260420T012843
CREATED:20240804T185853Z
LAST-MODIFIED:20240813T135431Z
UID:28254-1722643200-1722729599@www.beaverstown.com
SUMMARY:Members Day - Aug 3rd 2024
DESCRIPTION:Competition\n\nMembers Day – Single Stableford\n\n\n\n\n\n\n\n\n\n\n\n\n\n\nLadies\n\n\n\n\n\n\n\n\n\n\n\n\n\n\n\nPlace\n\nName\n\n\nPlaying\nScore\n\n\n\n\n\n\n\n\n\n\n\n1st\n\nJosephine Scott\n\n\n28\n41pts\n\n\n2nd\n\nCatherine Vaughan\n\n26\n39pts\n\n\n3rd\n\nSiobhan Prout Dunleavey\n23\n36pts(B9)\n\n\n38 played\n\n\n\n\n\n\n\n\n\n\n\n\n\n\n\n\n\n\n\nGents\n\n\n\n\n\n\n\n\n\n\n\n\n\n\n\nPlace\n\nName\n\n\nPlaying\nScore\n\n\n\n\n\n\n\n\n\n\n\n1st\n\nDanny Relihan\n\n\n13\n42pts(B9)\n\n\n2nd\n\nThomas Masterson\n\n12\n42pts\n\n\n3rd\n\nDonal O’Riordan\n\n\n25\n41Pts(B6)\n\n\n91 played\n\n\n\n\n\n\n\n\n\n\n\n\n\n\n\n\n\n\nSecret Teams Results \n1st Team Pinehurst      139 pts \nEmer McMahon\, Gerry Martin\, Dermot Brady\, Liz Gorman \n2nd Team Bethpage    138 pts \nRobert Nolan\, Darren Tighe\, Larry Kidd\, Sean Roche \n3rd Team Sawgrass   136 pts \nChristy Roche\, Neil Holohan\, Frank Jordan\, AN Other \n4th Team Portrush    135 pts \nMarcus Hamill\, Andrew Penrose\, Harry Keegan\, Pat Ferrari \nOther Results: \nNearest the Pin on 7th – Eoin Downey \nNearest the line on 10th – Frank Jordan \nPOD Target on 12th – David Andrews \nNearest the line on 18th – Pat Hayden
URL:https://www.beaverstown.com/event/members-day-aug-3rd-2024/
CATEGORIES:Ladies-Event,Mens Event,Results
END:VEVENT
BEGIN:VEVENT
DTSTART;VALUE=DATE:20240802
DTEND;VALUE=DATE:20240803
DTSTAMP:20260420T012843
CREATED:20240804T083633Z
LAST-MODIFIED:20240804T083633Z
UID:28245-1722556800-1722643199@www.beaverstown.com
SUMMARY:10.28 Cup
DESCRIPTION:Date: 2nd of August 2024\n\n\n\n\n\n\n\n\n\n\n\n\n\n\n\n\n\n\n\n\n\n\n\n\n\n\nCompetition: 10.28 cup\n\n\n\n\n\n\n\n\n\n\n\n\n\n\n\n\n\n\n\n\n\n\n\n\n\nPlace\nName\nH/Cap\n\nScore\n\n\n\n\n\n\n\n\n\n\n\n\n\nWinners\nJames O’Donnell\n3.9\n\n56.1\n\n\n\n\n\nChristy Murphy (Clontarf)\n\n\n\n\n\n\n\n\nPadraig Dunne\n\n\n\n\n\n\n\n\nPatrick Dunne (Clontarf)\n\n\n\n\n\n\n\n\n\n\n\n\n\n\n\n\n\n\n\n\n\n\n\n\n\n\n\n\n\n\n\n\n\n\nSecond\nKieran Lawlor\n1.5\n\n56.5 b9\n\n\n\n\nPaul McMullen\n\n\n\n\n\n\n\n\nGary Lawlor\n\n\n\n\n\n\n\n\nRobert McMullen\n\n\n\n\n\n\n\n\n\n\n\n\n\n\n\n\n\n\n\n\n\n\n\n\n\nThird\nDean Styles\n1.5\n\n56.5\n\n\n\n\n\nGavin Moynahan (Island)\n\n\n\n\n\n\n\n\nJoe Hanney (Island)\n\n\n\n\n\n\n\n\nSean Gonxalez (Corballis)\n\n\n\n\n\n\n\n\n\n\n\n\n\n\n\n\n\n\n\n\n\n\n\n\n\nFourth\nRobert Nolan\n3.6\n\n57.4\n\n\n\n\n\nJoe Mooney\n\n\n\n\n\n\n\n\nMick Morris\n\n\n\n\n\n\n\n\nJohn Nolan (Roganstown)\n\n\n\n\n\n\n\n\n\n\n\n\n\n\n\n\nMixed\nNaimh Grealy\n5.9\n\n59.1\n\n\n\n\n\nEmma Grealy\n\n\n\n\n\n\n\n\nJohn Grealy\n\n\n\n\n\n\n\n\nPaul Grealy\n\n\n\n\n\n\n\n\n\n\n\n\n\n\n\n\n\n\n\n\n\n\n\n\n\n\n\n\n\n\n\n\n\n\n\n\n\n\n\n\n\n\n\n\nNearest The Pin Sean McDermott 3″1′\n\n\n\n\n\n\n\n\nNearest Birdie Putt Joe Egan 29′
URL:https://www.beaverstown.com/event/10-28-cup/
CATEGORIES:Joint Event
END:VEVENT
END:VCALENDAR